BEGIN:VCALENDAR
VERSION:2.0
PRODID:-//LECCOS, z. s. - ECPv6.15.19//NONSGML v1.0//EN
CALSCALE:GREGORIAN
METHOD:PUBLISH
X-ORIGINAL-URL:https://leccos.cz
X-WR-CALDESC:Akce na LECCOS, z. s.
REFRESH-INTERVAL;VALUE=DURATION:PT1H
X-Robots-Tag:noindex
X-PUBLISHED-TTL:PT1H
BEGIN:VTIMEZONE
TZID:Europe/Prague
BEGIN:DAYLIGHT
TZOFFSETFROM:+0100
TZOFFSETTO:+0200
TZNAME:CEST
DTSTART:20250330T010000
END:DAYLIGHT
BEGIN:STANDARD
TZOFFSETFROM:+0200
TZOFFSETTO:+0100
TZNAME:CET
DTSTART:20251026T010000
END:STANDARD
BEGIN:DAYLIGHT
TZOFFSETFROM:+0100
TZOFFSETTO:+0200
TZNAME:CEST
DTSTART:20260329T010000
END:DAYLIGHT
BEGIN:STANDARD
TZOFFSETFROM:+0200
TZOFFSETTO:+0100
TZNAME:CET
DTSTART:20261025T010000
END:STANDARD
BEGIN:DAYLIGHT
TZOFFSETFROM:+0100
TZOFFSETTO:+0200
TZNAME:CEST
DTSTART:20270328T010000
END:DAYLIGHT
BEGIN:STANDARD
TZOFFSETFROM:+0200
TZOFFSETTO:+0100
TZNAME:CET
DTSTART:20271031T010000
END:STANDARD
END:VTIMEZONE
BEGIN:VEVENT
DTSTART;TZID=Europe/Prague:20261201T090000
DTEND;TZID=Europe/Prague:20261201T090000
DTSTAMP:20260420T013335
CREATED:20260105T140254Z
LAST-MODIFIED:20260325T121940Z
UID:8040-1796115600-1796115600@leccos.cz
SUMMARY:Poruchy attachmentu a jeho vliv na vývoj dítěte - seminář pro pěstouny
DESCRIPTION:Seminář v rozsahu 6 hodin. \nLektor:\nMgr. Ondřej Máslo \nPřihlašte se online!
URL:https://leccos.cz/akce/poruchy-attachmentu-a-jeho-vliv-na-vyvoj-ditete-seminar-pro-pestouny/
LOCATION:CVIK – Centrum vzdělávání\, informací a kultury p. o.\, Nám. Arnošta z Pardubic 1\, Český Brod\, Česká republika\, 282 01
CATEGORIES:Pro pěstouny
ATTACH;FMTTYPE=image/jpeg:https://leccos.cz/wp-content/uploads/2026/01/seminare-pro-pestouny-FB.jpg
END:VEVENT
END:VCALENDAR