BEGIN:VCALENDAR
VERSION:2.0
PRODID:-//LECCOS, z. s. - ECPv6.15.19//NONSGML v1.0//EN
CALSCALE:GREGORIAN
METHOD:PUBLISH
X-ORIGINAL-URL:https://leccos.cz
X-WR-CALDESC:Akce na LECCOS, z. s.
REFRESH-INTERVAL;VALUE=DURATION:PT1H
X-Robots-Tag:noindex
X-PUBLISHED-TTL:PT1H
BEGIN:VTIMEZONE
TZID:Europe/Prague
BEGIN:DAYLIGHT
TZOFFSETFROM:+0100
TZOFFSETTO:+0200
TZNAME:CEST
DTSTART:20250330T010000
END:DAYLIGHT
BEGIN:STANDARD
TZOFFSETFROM:+0200
TZOFFSETTO:+0100
TZNAME:CET
DTSTART:20251026T010000
END:STANDARD
BEGIN:DAYLIGHT
TZOFFSETFROM:+0100
TZOFFSETTO:+0200
TZNAME:CEST
DTSTART:20260329T010000
END:DAYLIGHT
BEGIN:STANDARD
TZOFFSETFROM:+0200
TZOFFSETTO:+0100
TZNAME:CET
DTSTART:20261025T010000
END:STANDARD
BEGIN:DAYLIGHT
TZOFFSETFROM:+0100
TZOFFSETTO:+0200
TZNAME:CEST
DTSTART:20270328T010000
END:DAYLIGHT
BEGIN:STANDARD
TZOFFSETFROM:+0200
TZOFFSETTO:+0100
TZNAME:CET
DTSTART:20271031T010000
END:STANDARD
END:VTIMEZONE
BEGIN:VEVENT
DTSTART;TZID=Europe/Prague:20260429T170000
DTEND;TZID=Europe/Prague:20260429T190000
DTSTAMP:20260419T220344
CREATED:20260405T175446Z
LAST-MODIFIED:20260405T175446Z
UID:8598-1777482000-1777489200@leccos.cz
SUMMARY:Osobní hranice a respekt – vzdělávací pořad z cyklu Maják
DESCRIPTION:Zveme děti starší 13 let\, rodiče i další zájemce na další setkání ze série vzdělávacích pořadů MAJÁK\, které se tentokrát zaměří na téma osobních hranic a respektu. Společně se budeme věnovat tomu\, jak poznat vlastní hranice\, jak je zdravě nastavovat vůči druhým a proč je vzájemný respekt důležitým základem bezpečných a zdravých vztahů. Dotkneme se také situací\, kdy někdo naše hranice překračuje\, a budeme hledat způsoby\, jak na podobné momenty reagovat. \nSetkáním provede Mgr. Pavlína Komenda Čepelková\, sociální pracovnice a terapeutka\, která nabídne nejen odborný pohled\, ale také prostor pro vaše dotazy a sdílení zkušeností. \nAkce proběhne ve středu 29. 4. 2026 od 17:00 hodin v NZDM Klubu Zvonice\, Žižkova 508\, Český Brod. Vstup je zdarma. \n  \nPřijďte načerpat inspiraci\, nové podněty a podpořit otevřenou komunikaci o tématu\, které se týká nás všech. Těšíme se na vás ✨
URL:https://leccos.cz/akce/osobni-hranice-a-respekt-vzdelavaci-porad-z-cyklu-majak/
LOCATION:NZDM Klub Zvonice Český Brod\, Žižkova 508\, Český Brod\, Česká republika\, 282 01
CATEGORIES:Pro děti a mládež,Pro rodiče,Pro širokou veřejnost
ATTACH;FMTTYPE=image/jpeg:https://leccos.cz/wp-content/uploads/2026/04/Majak_260429.jpg
END:VEVENT
END:VCALENDAR