BEGIN:VCALENDAR
VERSION:2.0
PRODID:-//LECCOS, z. s. - ECPv6.15.19//NONSGML v1.0//EN
CALSCALE:GREGORIAN
METHOD:PUBLISH
X-WR-CALNAME:LECCOS, z. s.
X-ORIGINAL-URL:https://leccos.cz
X-WR-CALDESC:Akce na LECCOS, z. s.
REFRESH-INTERVAL;VALUE=DURATION:PT1H
X-Robots-Tag:noindex
X-PUBLISHED-TTL:PT1H
BEGIN:VTIMEZONE
TZID:Europe/Prague
BEGIN:DAYLIGHT
TZOFFSETFROM:+0100
TZOFFSETTO:+0200
TZNAME:CEST
DTSTART:20240331T010000
END:DAYLIGHT
BEGIN:STANDARD
TZOFFSETFROM:+0200
TZOFFSETTO:+0100
TZNAME:CET
DTSTART:20241027T010000
END:STANDARD
BEGIN:DAYLIGHT
TZOFFSETFROM:+0100
TZOFFSETTO:+0200
TZNAME:CEST
DTSTART:20250330T010000
END:DAYLIGHT
BEGIN:STANDARD
TZOFFSETFROM:+0200
TZOFFSETTO:+0100
TZNAME:CET
DTSTART:20251026T010000
END:STANDARD
BEGIN:DAYLIGHT
TZOFFSETFROM:+0100
TZOFFSETTO:+0200
TZNAME:CEST
DTSTART:20260329T010000
END:DAYLIGHT
BEGIN:STANDARD
TZOFFSETFROM:+0200
TZOFFSETTO:+0100
TZNAME:CET
DTSTART:20261025T010000
END:STANDARD
END:VTIMEZONE
BEGIN:VEVENT
DTSTART;TZID=Europe/Prague:20251112T170000
DTEND;TZID=Europe/Prague:20251112T190000
DTSTAMP:20260420T060924
CREATED:20251001T190138Z
LAST-MODIFIED:20251002T164508Z
UID:7615-1762966800-1762974000@leccos.cz
SUMMARY:Důvěra – vzdělávací pořad z cyklu Maják
DESCRIPTION:Zveme všechny děti od 13 let\, jejich rodiče a další zájemce na další setkání v rámci série programů Maják na téma Důvěra\, který se uskuteční v NZDM Klubu Zvonice\, Žižkova 508\, Český Brod ve středu 12. listopadu 2025 od 17.00 hodin.\nZáměrem setkání je přiblížit dětem a mladým lidem význam důvěry v mezilidských vztazích a ukázat\, jak se důvěra získává\, udržuje i ztrácí.\nLektoruje Mgr. Pavlína Komenda Čepelková\, terapeutka v NZDM Klubu Zvonice a sociální pracovnice.\nVSTUP ZDARMA.
URL:https://leccos.cz/akce/duvera-vzdelavaci-porad-z-cyklu-majak/
LOCATION:NZDM Klub Zvonice Český Brod\, Žižkova 508\, Český Brod\, Česká republika\, 282 01
CATEGORIES:Pro děti a mládež,Pro rodiče,Pro širokou veřejnost
ATTACH;FMTTYPE=image/jpeg:https://leccos.cz/wp-content/uploads/2025/10/Majak_251112.jpg
END:VEVENT
END:VCALENDAR