BEGIN:VCALENDAR
VERSION:2.0
PRODID:-//LECCOS, z. s. - ECPv6.15.19//NONSGML v1.0//EN
CALSCALE:GREGORIAN
METHOD:PUBLISH
X-ORIGINAL-URL:https://leccos.cz
X-WR-CALDESC:Akce na LECCOS, z. s.
REFRESH-INTERVAL;VALUE=DURATION:PT1H
X-Robots-Tag:noindex
X-PUBLISHED-TTL:PT1H
BEGIN:VTIMEZONE
TZID:Europe/Prague
BEGIN:DAYLIGHT
TZOFFSETFROM:+0100
TZOFFSETTO:+0200
TZNAME:CEST
DTSTART:20240331T010000
END:DAYLIGHT
BEGIN:STANDARD
TZOFFSETFROM:+0200
TZOFFSETTO:+0100
TZNAME:CET
DTSTART:20241027T010000
END:STANDARD
BEGIN:DAYLIGHT
TZOFFSETFROM:+0100
TZOFFSETTO:+0200
TZNAME:CEST
DTSTART:20250330T010000
END:DAYLIGHT
BEGIN:STANDARD
TZOFFSETFROM:+0200
TZOFFSETTO:+0100
TZNAME:CET
DTSTART:20251026T010000
END:STANDARD
BEGIN:DAYLIGHT
TZOFFSETFROM:+0100
TZOFFSETTO:+0200
TZNAME:CEST
DTSTART:20260329T010000
END:DAYLIGHT
BEGIN:STANDARD
TZOFFSETFROM:+0200
TZOFFSETTO:+0100
TZNAME:CET
DTSTART:20261025T010000
END:STANDARD
END:VTIMEZONE
BEGIN:VEVENT
DTSTART;TZID=Europe/Prague:20251103T090000
DTEND;TZID=Europe/Prague:20251103T120000
DTSTAMP:20260420T061145
CREATED:20250731T163338Z
LAST-MODIFIED:20251002T145631Z
UID:7293-1762160400-1762171200@leccos.cz
SUMMARY:Workshop - Hledám práci
DESCRIPTION:Bezplatné poradenství pro rodiče při návratu na trh práce \nJak se zorientovat na současném trhu práce: \n\nschopnosti a pracovní předpoklady\, základní práva a povinnostmi zaměstnance\nkariérové poradenství\, tipy pro úspěšné hledání práce\nspolupráce s úřady práce\, sestavování životopisu a motivačního dopisu\npříprava na přijímací pohovor\, osobní prezentace\nprávní minimum zaměstnance\n\nLektorka Barbora Bayerová\nPracuje v agentuře jako recruitment specialista\, soustředí se na nábory IT specialistů a manažerů\, má praxi i s nábory ostatních profesí\, zajímá se o novinky a trendy ve světě HR\, nabízí komplexní poradenství v oblasti hledání zaměstnání. \nMísto konání\nRC Kostička – Náměstí Arnošta z Pardubic 12\, Český Brod \nHLÍDÁNÍ DĚTÍ ZDARMA! \nRegistrujte se ZDE! \nVíce informací poskytne:\nandrea@leccos.cz\, tel.: 602 112 679 – Andrea Hradecká – koordinátorka RC \nPořádáme v rámci projektu LECCOS pro rodiny XI. podpořeného Ministerstvem práce a sociálních věcí a Městem Český Brod.
URL:https://leccos.cz/akce/workshop-hledam-praci-8/
LOCATION:Rodinné centrum Kostička\, Nám. Arnošta z Pardubic 12\, Český Brod\, Česká republika\, 282 01
CATEGORIES:Pro rodiče,Pro širokou veřejnost
ATTACH;FMTTYPE=image/jpeg:https://leccos.cz/wp-content/uploads/2025/07/25-1013-1103-workshopy-RC-Kosticka.jpg
END:VEVENT
END:VCALENDAR