BEGIN:VCALENDAR
VERSION:2.0
PRODID:-//LECCOS, z. s. - ECPv6.15.19//NONSGML v1.0//EN
CALSCALE:GREGORIAN
METHOD:PUBLISH
X-ORIGINAL-URL:https://leccos.cz
X-WR-CALDESC:Akce na LECCOS, z. s.
REFRESH-INTERVAL;VALUE=DURATION:PT1H
X-Robots-Tag:noindex
X-PUBLISHED-TTL:PT1H
BEGIN:VTIMEZONE
TZID:Europe/Prague
BEGIN:DAYLIGHT
TZOFFSETFROM:+0100
TZOFFSETTO:+0200
TZNAME:CEST
DTSTART:20240331T010000
END:DAYLIGHT
BEGIN:STANDARD
TZOFFSETFROM:+0200
TZOFFSETTO:+0100
TZNAME:CET
DTSTART:20241027T010000
END:STANDARD
BEGIN:DAYLIGHT
TZOFFSETFROM:+0100
TZOFFSETTO:+0200
TZNAME:CEST
DTSTART:20250330T010000
END:DAYLIGHT
BEGIN:STANDARD
TZOFFSETFROM:+0200
TZOFFSETTO:+0100
TZNAME:CET
DTSTART:20251026T010000
END:STANDARD
BEGIN:DAYLIGHT
TZOFFSETFROM:+0100
TZOFFSETTO:+0200
TZNAME:CEST
DTSTART:20260329T010000
END:DAYLIGHT
BEGIN:STANDARD
TZOFFSETFROM:+0200
TZOFFSETTO:+0100
TZNAME:CET
DTSTART:20261025T010000
END:STANDARD
END:VTIMEZONE
BEGIN:VEVENT
DTSTART;TZID=Europe/Prague:20251018T100000
DTEND;TZID=Europe/Prague:20251018T150000
DTSTAMP:20260420T075508
CREATED:20250927T162756Z
LAST-MODIFIED:20250929T164558Z
UID:7587-1760781600-1760799600@leccos.cz
SUMMARY:Prezentace spolku LECCOS na jarmarku ve Štolmíři
DESCRIPTION:V sobotu 18. října 2025 od 10.00 se s námi můžete potkat na Jarmarku ve Štolmíři. Těšit se můžete na stánek LECCOS\, z. s.\, prodej ručně vyráběných svíček\, dílnu pro děti a další zajímavý program. Přestavíme vám také všechny služby.
URL:https://leccos.cz/akce/prezentace-spolku-leccos-na-jarmarku-ve-stolmiri-2/
LOCATION:náves Štolmíř\, Štolmíř\, Štolmíř\, Středočeský\, 28201\, Česká republika
CATEGORIES:Pro děti a mládež,Pro širokou veřejnost
ATTACH;FMTTYPE=image/jpeg:https://leccos.cz/wp-content/uploads/2025/09/251018_oprava.jpg
END:VEVENT
END:VCALENDAR