BEGIN:VCALENDAR
VERSION:2.0
PRODID:-//LECCOS, z. s. - ECPv6.15.19//NONSGML v1.0//EN
CALSCALE:GREGORIAN
METHOD:PUBLISH
X-ORIGINAL-URL:https://leccos.cz
X-WR-CALDESC:Akce na LECCOS, z. s.
REFRESH-INTERVAL;VALUE=DURATION:PT1H
X-Robots-Tag:noindex
X-PUBLISHED-TTL:PT1H
BEGIN:VTIMEZONE
TZID:Europe/Prague
BEGIN:DAYLIGHT
TZOFFSETFROM:+0100
TZOFFSETTO:+0200
TZNAME:CEST
DTSTART:20240331T010000
END:DAYLIGHT
BEGIN:STANDARD
TZOFFSETFROM:+0200
TZOFFSETTO:+0100
TZNAME:CET
DTSTART:20241027T010000
END:STANDARD
BEGIN:DAYLIGHT
TZOFFSETFROM:+0100
TZOFFSETTO:+0200
TZNAME:CEST
DTSTART:20250330T010000
END:DAYLIGHT
BEGIN:STANDARD
TZOFFSETFROM:+0200
TZOFFSETTO:+0100
TZNAME:CET
DTSTART:20251026T010000
END:STANDARD
BEGIN:DAYLIGHT
TZOFFSETFROM:+0100
TZOFFSETTO:+0200
TZNAME:CEST
DTSTART:20260329T010000
END:DAYLIGHT
BEGIN:STANDARD
TZOFFSETFROM:+0200
TZOFFSETTO:+0100
TZNAME:CET
DTSTART:20261025T010000
END:STANDARD
END:VTIMEZONE
BEGIN:VEVENT
DTSTART;TZID=Europe/Prague:20251011T140000
DTEND;TZID=Europe/Prague:20251011T160000
DTSTAMP:20260420T075508
CREATED:20251006T144435Z
LAST-MODIFIED:20251006T144435Z
UID:7656-1760191200-1760198400@leccos.cz
SUMMARY:Drakiáda v Českém Brodě
DESCRIPTION:hřiště na Kutilce \nSokolská 895\, Český Brod \nPořádáme společně se 14. oddílem Junáka Psohlavci \n22. ročník \nZábavné odpoledne plné sportovních disciplín pro malé i větší.\n \nSportovní i dračí soutěže o hodnotné ceny. \nSoutěže s draky:\nO nejkrásnějšího svépomocí vyrobeného draka\nO draka\, který léta nejdéle \nOpékání buřtů!!! \nDěkujeme Městu Český Brod za finanční podporu akce a SK Český Brod\, z. s. za zapůjčení prostor.
URL:https://leccos.cz/akce/drakiada-v-ceskem-brode-3/
LOCATION:hřiště na Kutilce\, Sokolská 895\, Český Brod\, Česká republika\, 28201\, Czech Republic
CATEGORIES:Pro děti a mládež,Pro rodiny,Pro širokou veřejnost
ATTACH;FMTTYPE=image/jpeg:https://leccos.cz/wp-content/uploads/2025/10/25-Drakiada-plakat.jpg
END:VEVENT
END:VCALENDAR