BEGIN:VCALENDAR
VERSION:2.0
PRODID:-//LECCOS, z. s. - ECPv6.15.19//NONSGML v1.0//EN
CALSCALE:GREGORIAN
METHOD:PUBLISH
X-ORIGINAL-URL:https://leccos.cz
X-WR-CALDESC:Akce na LECCOS, z. s.
REFRESH-INTERVAL;VALUE=DURATION:PT1H
X-Robots-Tag:noindex
X-PUBLISHED-TTL:PT1H
BEGIN:VTIMEZONE
TZID:Europe/Prague
BEGIN:DAYLIGHT
TZOFFSETFROM:+0100
TZOFFSETTO:+0200
TZNAME:CEST
DTSTART:20240331T010000
END:DAYLIGHT
BEGIN:STANDARD
TZOFFSETFROM:+0200
TZOFFSETTO:+0100
TZNAME:CET
DTSTART:20241027T010000
END:STANDARD
BEGIN:DAYLIGHT
TZOFFSETFROM:+0100
TZOFFSETTO:+0200
TZNAME:CEST
DTSTART:20250330T010000
END:DAYLIGHT
BEGIN:STANDARD
TZOFFSETFROM:+0200
TZOFFSETTO:+0100
TZNAME:CET
DTSTART:20251026T010000
END:STANDARD
BEGIN:DAYLIGHT
TZOFFSETFROM:+0100
TZOFFSETTO:+0200
TZNAME:CEST
DTSTART:20260329T010000
END:DAYLIGHT
BEGIN:STANDARD
TZOFFSETFROM:+0200
TZOFFSETTO:+0100
TZNAME:CET
DTSTART:20261025T010000
END:STANDARD
END:VTIMEZONE
BEGIN:VEVENT
DTSTART;TZID=Europe/Prague:20250930T080000
DTEND;TZID=Europe/Prague:20250930T120000
DTSTAMP:20260420T075626
CREATED:20250731T153415Z
LAST-MODIFIED:20250731T153415Z
UID:7251-1759219200-1759233600@leccos.cz
SUMMARY:Konzultace s psycholožkou
DESCRIPTION:Jednou za měsíc máte možnost v programu Setkání pro rodiny s dětmi využít konzultace s různými odborníky – psycholog\, speciální pedagog\, právník\, zdravotník a záchranář. \n30. 9. 2025 od 8.00-12.00 budou probíhat konzultace s psycholožkou Mgr. et Mgr. Janou Pavlů v RC Kostička v Českém Brodě. \nKonzultace je též možná online! \nPoplatek:\n50 Kč / dopoledne nebo jen samotná konzultace \nPřihláška online ZDE! \nKontakt pro další informace:\nAndrea Hradecká\ne-mail: andrea@leccos.cz\ntel.: 602 112 679\n \nTento program je podpořen Ministerstvem práce a sociálních věcí.
URL:https://leccos.cz/akce/konzultace-s-psycholozkou-6/
LOCATION:Rodinné centrum Kostička\, Nám. Arnošta z Pardubic 12\, Český Brod\, Česká republika\, 282 01
CATEGORIES:Pro rodiče,Pro širokou veřejnost
ATTACH;FMTTYPE=image/png:https://leccos.cz/wp-content/uploads/2024/08/konzultace-pro-rodice-WEB-FB.png
END:VEVENT
BEGIN:VEVENT
DTSTART;TZID=Europe/Prague:20250930T180000
DTEND;TZID=Europe/Prague:20250930T200000
DTSTAMP:20260420T075626
CREATED:20250404T115539Z
LAST-MODIFIED:20250404T115539Z
UID:6600-1759255200-1759262400@leccos.cz
SUMMARY:Jak se efektivně učit nejen s prvňáčky - interaktivní seminář
DESCRIPTION:Interaktivní seminář se speciální pedagožkou \nLektorka Mgr. Veronika Lancová \n\njak a proč vznikají problémy s učením a jak je zvládat\, jak se správně\nučit\, aby učení bylo efektivní a přinášelo očekávané výsledky\npocity a chování dětí při učení\njak rozpoznávat překážky ve studiu\, které blokují schopnost se učit\, jak tyto překážky zvládat\njak jim předcházet\, proč dětem si nejde něco pamatovat a co s tím dělat\, jak se učit bez zbytečného odbíhání\, křiku\, pláče\n\nMísto konání\nMC Škvoreček ve Škvorci \nRegistrujte se ZDE! \nVíce informací poskytne:\nandrea@leccos.cz\, tel.: 602 112 679 – Andrea Hradecká – koordinátorka RC \nPořádáme v rámci projektu LECCOS pro rodiny XI. podpořeného Ministerstvem práce a sociálních věcí a Městem Český Brod.
URL:https://leccos.cz/akce/jak-se-efektivne-ucit-nejen-s-prvnacky-interaktivni-seminar/
LOCATION:Rodinné centrum Kostička\, Nám. Arnošta z Pardubic 12\, Český Brod\, Česká republika\, 282 01
CATEGORIES:Pro rodiny,Pro širokou veřejnost
END:VEVENT
END:VCALENDAR