BEGIN:VCALENDAR
VERSION:2.0
PRODID:-//LECCOS, z. s. - ECPv6.15.19//NONSGML v1.0//EN
CALSCALE:GREGORIAN
METHOD:PUBLISH
X-WR-CALNAME:LECCOS, z. s.
X-ORIGINAL-URL:https://leccos.cz
X-WR-CALDESC:Akce na LECCOS, z. s.
REFRESH-INTERVAL;VALUE=DURATION:PT1H
X-Robots-Tag:noindex
X-PUBLISHED-TTL:PT1H
BEGIN:VTIMEZONE
TZID:Europe/Prague
BEGIN:DAYLIGHT
TZOFFSETFROM:+0100
TZOFFSETTO:+0200
TZNAME:CEST
DTSTART:20210328T010000
END:DAYLIGHT
BEGIN:STANDARD
TZOFFSETFROM:+0200
TZOFFSETTO:+0100
TZNAME:CET
DTSTART:20211031T010000
END:STANDARD
BEGIN:DAYLIGHT
TZOFFSETFROM:+0100
TZOFFSETTO:+0200
TZNAME:CEST
DTSTART:20220327T010000
END:DAYLIGHT
BEGIN:STANDARD
TZOFFSETFROM:+0200
TZOFFSETTO:+0100
TZNAME:CET
DTSTART:20221030T010000
END:STANDARD
BEGIN:DAYLIGHT
TZOFFSETFROM:+0100
TZOFFSETTO:+0200
TZNAME:CEST
DTSTART:20230326T010000
END:DAYLIGHT
BEGIN:STANDARD
TZOFFSETFROM:+0200
TZOFFSETTO:+0100
TZNAME:CET
DTSTART:20231029T010000
END:STANDARD
END:VTIMEZONE
BEGIN:VEVENT
DTSTART;TZID=Europe/Prague:20221001T140000
DTEND;TZID=Europe/Prague:20221001T163000
DTSTAMP:20260421T222330
CREATED:20220906T104024Z
LAST-MODIFIED:20220906T104220Z
UID:1561-1664632800-1664641800@leccos.cz
SUMMARY:Drakiáda v Poděbradech
DESCRIPTION:Hřiště SK Slovan v Poděbradské oboře \nPořádáme společně se Skautem Poděbrady. \nZábavné odpoledne plné sportovních disciplín pro malé i větší.\nSportovní i dračí soutěže o hodnotné ceny! \nDRAKA S SEBOU!!! \nStartovné 20 Kč. \nDěkujeme za finanční podporu Městu Poděbrady.
URL:https://leccos.cz/akce/drakiada-v-podebradech/
LOCATION:Hřiště SK Slovan v Poděbradské oboře\, Obora 26\, Polabec\, Poděbrady\, Středočeský\, 290 01\, Česká republika
CATEGORIES:Pro děti a mládež,Pro rodiny,Pro širokou veřejnost
ATTACH;FMTTYPE=image/jpeg:https://leccos.cz/wp-content/uploads/2022/09/DRAKIADA-PDY-scaled.jpg
END:VEVENT
BEGIN:VEVENT
DTSTART;TZID=Europe/Prague:20220927T080000
DTEND;TZID=Europe/Prague:20220927T120000
DTSTAMP:20260421T222330
CREATED:20220812T150658Z
LAST-MODIFIED:20220812T153248Z
UID:1146-1664265600-1664280000@leccos.cz
SUMMARY:Bezplatná konzultace s advokátkou
DESCRIPTION:Jednou za měsíc máte možnost v programu RC Kostička Setkání pro rodiny s dětmi využít bezplatné konzultace s různými odborníky – psycholog\, speciální pedagog\, právník\, zdravotník a záchranář \n27. 9. od 8.00-12.00 budou probíhat konzultace s advokátkou Mgr. Evou Zhřívalovou. \nKonzultace je též možná online! \nPřihláška online ZDE! \nKontakt pro další informace:\nAndrea Hradecká\ne-mail: andrea@leccos.cz\ntel.: 602 112 679\n \nTento program je podpořen v rámci projektu PODPORA RODIN V REGIONU POŠEMBEŘÍ REGISTRAČNÍ ČÍSLO CZ.03.2.65/0.0/0­.0/16_047/0015585\, který je spolufinancován Evropskou unií.
URL:https://leccos.cz/akce/bezplatna-konzultace-s-advokatkou/
LOCATION:Rodinné centrum Kostička\, Nám. Arnošta z Pardubic 12\, Český Brod\, Česká republika\, 282 01
CATEGORIES:Pro rodiče,Pro rodiny
END:VEVENT
BEGIN:VEVENT
DTSTART;TZID=Europe/Prague:20220926T080000
DTEND;TZID=Europe/Prague:20220926T120000
DTSTAMP:20260421T222330
CREATED:20220812T153518Z
LAST-MODIFIED:20220812T153518Z
UID:1160-1664179200-1664193600@leccos.cz
SUMMARY:Bezplatná konzultace s advokátkou
DESCRIPTION:Jednou za měsíc máte možnost v programu RC Kostička Setkání pro rodiny s dětmi využít bezplatné konzultace s různými odborníky – psycholog\, speciální pedagog\, právník\, zdravotník a záchranář \n26. 9. od 8.00-12.00 budou probíhat konzultace s advokátkou Mgr. Evou Zhřívalovou.\nTyto konzultace proběhnou v MC Škvoreček \nKonzultace je též možná online! \nPřihláška online ZDE! \nKontakt pro další informace:\nAndrea Hradecká\ne-mail: andrea@leccos.cz\ntel.: 602 112 679\n \nTento program je podpořen v rámci projektu PODPORA RODIN V REGIONU POŠEMBEŘÍ REGISTRAČNÍ ČÍSLO CZ.03.2.65/0.0/0­.0/16_047/0015585\, který je spolufinancován Evropskou unií.
URL:https://leccos.cz/akce/bezplatna-konzultace-s-advokatkou-2/
LOCATION:MC Škvoreček\, z. s.\, Masarykovo nám 13\, Škvorec\, 250 83\, Česká republika
CATEGORIES:Pro rodiče,Pro rodiny
END:VEVENT
BEGIN:VEVENT
DTSTART;TZID=Europe/Prague:20220925T140000
DTEND;TZID=Europe/Prague:20220925T170000
DTSTAMP:20260421T222330
CREATED:20220915T113750Z
LAST-MODIFIED:20220915T113750Z
UID:1638-1664114400-1664125200@leccos.cz
SUMMARY:Prezentace NZDM Klubu Zvonice na Kutilce v pohybu
DESCRIPTION:Díky spolupráci s SK Český Brod\, který pořádá řadu let sportovní akci Kutilka v pohybu pro všechny sporťáky\, vám můžeme představit službu NZDM v českobrodském areálu Kutilka. Náš stánek najdete v zóně s bumperbaly. Těšit se můžete také na autíčka\, výtvarné aktivity a na skákací i překážkové disciplíny.
URL:https://leccos.cz/akce/prezentace-nzdm-klubu-zvonice-na-kutilce-v-pohybu/
LOCATION:Sportovní areál Kutilka\, Sokolská 895\, Český Brod\, Středočeský\, 28201\, Česká republika
CATEGORIES:Pro děti a mládež,Pro rodiny,Pro širokou veřejnost
ATTACH;FMTTYPE=image/png:https://leccos.cz/wp-content/uploads/2022/09/Kutilka_v_pohybu_2022.png
END:VEVENT
BEGIN:VEVENT
DTSTART;TZID=Europe/Prague:20220921T170000
DTEND;TZID=Europe/Prague:20220921T190000
DTSTAMP:20260421T222330
CREATED:20220812T135453Z
LAST-MODIFIED:20220815T135742Z
UID:1129-1663779600-1663786800@leccos.cz
SUMMARY:Jak se efektivně učit nejen s prvňáčky - beseda
DESCRIPTION:Lektorka: Mgr. Vlasta Dubinová\nspeciální pedagog\, lektor pro oblast předškolní přípravy a zahájení povinné školní docházky \nTémata: \n• metody práce s dětmi po nástupu do školy \n• nácvik konkrétních dovedností \n• prevence školního selhávání \n• motivačních činností\, které lze zařadit do domácí přípravy v rodinném prostředí \n• jak upoutat děti\, vzbudit jejich zájem a touhu po poznání \n• jak efektivně organizovat domácí přípravu \n• jak pomoc dítěti s adaptací ve škole \nVíce informací:\nandrea@leccos.cz\, tel.: 602 112 679 – Andrea Hradecká – koordinátorka RC \nRegistrace online ZDE! \nHLÍDÁNÍ v RC Kostička ZDARMA!\nHlaste nejpozději do pondělí 19. 9. 2022 \nPořádáme v rámci projektu „LECCOS pro rodiny VIII.“\, podpořeného Ministerstvem práce a sociálních věcí.
URL:https://leccos.cz/akce/jak-se-efektivne-ucit-nejen-s-prvnacky-beseda/
LOCATION:Rodinné centrum Kostička\, Nám. Arnošta z Pardubic 12\, Český Brod\, Česká republika\, 282 01
CATEGORIES:Pro rodiče,Pro rodiny,Pro širokou veřejnost
END:VEVENT
BEGIN:VEVENT
DTSTART;TZID=Europe/Prague:20220919T080000
DTEND;TZID=Europe/Prague:20220919T120000
DTSTAMP:20260421T222330
CREATED:20220812T152918Z
LAST-MODIFIED:20220812T163253Z
UID:1155-1663574400-1663588800@leccos.cz
SUMMARY:Bezplatná konzultace s psycholožkou
DESCRIPTION:Jednou za měsíc máte možnost v programu RC Kostička Setkání pro rodiny s dětmi využít bezplatné konzultace s různými odborníky – psycholog\, speciální pedagog\, právník\, zdravotník a záchranář. \n19. 9. od 8.00-12.00 budou probíhat konzultace s psycholožkou Mgr. Bc. Hanou Žáčkovou.\nTyto konzultace proběhnou v MC Škvoreček \nKonzultace je též možná online! \nPřihláška online ZDE! \nKontakt pro další informace:\nAndrea Hradecká\ne-mail: andrea@leccos.cz\ntel.: 602 112 679\n \nTento program je podpořen v rámci projektu PODPORA RODIN V REGIONU POŠEMBEŘÍ REGISTRAČNÍ ČÍSLO CZ.03.2.65/0.0/0­.0/16_047/0015585\, který je spolufinancován Evropskou unií.
URL:https://leccos.cz/akce/1155/
LOCATION:MC Škvoreček\, z. s.\, Masarykovo nám 13\, Škvorec\, 250 83\, Česká republika
CATEGORIES:Pro rodiče,Pro rodiny
END:VEVENT
BEGIN:VEVENT
DTSTART;TZID=Europe/Prague:20220917T090000
DTEND;TZID=Europe/Prague:20220917T180000
DTSTAMP:20260421T222330
CREATED:20220830T093322Z
LAST-MODIFIED:20220830T094427Z
UID:1494-1663405200-1663437600@leccos.cz
SUMMARY:Přijďte pobejt aneb Den otevřených dveří v RC Kostička
DESCRIPTION:Přijďte se podívat\, jak to u nás chodí. Provede vás\nkoordinátorka RC Andrea Hradecká.\nNebude chybět občerstvení z domácí kuchyně. \nProgram: \nv RC Kostička\n9.00 – 12.00 prezentace aktivit rodinného centra\,\nvolná zábava rodičů s dětmi\n9.00 – 10.00 výtvarná dílna pro děti \nv parčíku u městské radnice\n14.30 – 15.45 ZÁVOD NA ODRÁŽEDLECH A KOLOBĚŽKÁCH\n14.30 zápis závodníků 15.00 START 15.45 vyhlášení výsledků\n16.00 – 16.15 TANEČNÍ ANIMACE S KOSTIČKOU\n16.15 – 18.00 SPORTOVNÍ AKTIVITY\, OPÉKÁNÍ BUŘTŮ \nZměna programu vyhrazena dle počasí.\nPořádáme ve spolupráci s Městem Český Brod.
URL:https://leccos.cz/akce/prijdte-pobejt-aneb-den-otevrenych-dveri-v-rc-kosticka-2/
LOCATION:Rodinné centrum Kostička\, Nám. Arnošta z Pardubic 12\, Český Brod\, Česká republika\, 282 01
CATEGORIES:Pro rodiče,Pro rodiny,Pro širokou veřejnost
ATTACH;FMTTYPE=image/jpeg:https://leccos.cz/wp-content/uploads/2022/08/220917_Prijdte_pobejt_plakat-e1661852575626.jpg
END:VEVENT
BEGIN:VEVENT
DTSTART;TZID=Europe/Prague:20220913T080000
DTEND;TZID=Europe/Prague:20220913T120000
DTSTAMP:20260421T222330
CREATED:20220812T145350Z
LAST-MODIFIED:20220812T152025Z
UID:1139-1663056000-1663070400@leccos.cz
SUMMARY:Bezplatná konzultace s psycholožkou
DESCRIPTION:Jednou za měsíc máte možnost v programu RC Kostička Setkání pro rodiny s dětmi využít bezplatné konzultace s různými odborníky – psycholog\, speciální pedagog\, právník\, zdravotník a záchranář \n13. 9. od 8.00-12.00 budou probíhat konzultace s psycholožkou Radkou Kocmanovou. \nKonzultace je též možná online! \nPřihláška online ZDE! \nKontakt pro další informace:\nAndrea Hradecká\ne-mail: andrea@leccos.cz\ntel.: 602 112 679\n \n  \nTento program je podpořen v rámci projektu PODPORA RODIN V REGIONU POŠEMBEŘÍ REGISTRAČNÍ ČÍSLO CZ.03.2.65/0.0/0­.0/16_047/0015585\, který je spolufinancován Evropskou unií.
URL:https://leccos.cz/akce/bezplatna-konzultace-s-psycholozkou/
LOCATION:Rodinné centrum Kostička\, Nám. Arnošta z Pardubic 12\, Český Brod\, Česká republika\, 282 01
CATEGORIES:Pro rodiče,Pro rodiny
END:VEVENT
BEGIN:VEVENT
DTSTART;TZID=Europe/Prague:20220818T160000
DTEND;TZID=Europe/Prague:20220818T170000
DTSTAMP:20260421T222330
CREATED:20220812T121108Z
LAST-MODIFIED:20220812T141903Z
UID:1114-1660838400-1660842000@leccos.cz
SUMMARY:Ukázková hodina Jógy pro děti
DESCRIPTION:Ukázková hodina nových kurzů jógy pro děti s lektorkou Lucií Hrubou. \nJóga pro děti I. \nJóga pro děti II. \n 
URL:https://leccos.cz/akce/ukazkova-hodina-jogy-pro-deti/
LOCATION:Rodinné centrum Kostička\, Nám. Arnošta z Pardubic 12\, Český Brod\, Česká republika\, 282 01
CATEGORIES:Pro děti a mládež,Pro rodiny
END:VEVENT
END:VCALENDAR