BEGIN:VCALENDAR
VERSION:2.0
PRODID:-//LECCOS, z. s. - ECPv6.15.19//NONSGML v1.0//EN
CALSCALE:GREGORIAN
METHOD:PUBLISH
X-WR-CALNAME:LECCOS, z. s.
X-ORIGINAL-URL:https://leccos.cz
X-WR-CALDESC:Akce na LECCOS, z. s.
REFRESH-INTERVAL;VALUE=DURATION:PT1H
X-Robots-Tag:noindex
X-PUBLISHED-TTL:PT1H
BEGIN:VTIMEZONE
TZID:Europe/Prague
BEGIN:DAYLIGHT
TZOFFSETFROM:+0100
TZOFFSETTO:+0200
TZNAME:CEST
DTSTART:20250330T010000
END:DAYLIGHT
BEGIN:STANDARD
TZOFFSETFROM:+0200
TZOFFSETTO:+0100
TZNAME:CET
DTSTART:20251026T010000
END:STANDARD
BEGIN:DAYLIGHT
TZOFFSETFROM:+0100
TZOFFSETTO:+0200
TZNAME:CEST
DTSTART:20260329T010000
END:DAYLIGHT
BEGIN:STANDARD
TZOFFSETFROM:+0200
TZOFFSETTO:+0100
TZNAME:CET
DTSTART:20261025T010000
END:STANDARD
BEGIN:DAYLIGHT
TZOFFSETFROM:+0100
TZOFFSETTO:+0200
TZNAME:CEST
DTSTART:20270328T010000
END:DAYLIGHT
BEGIN:STANDARD
TZOFFSETFROM:+0200
TZOFFSETTO:+0100
TZNAME:CET
DTSTART:20271031T010000
END:STANDARD
END:VTIMEZONE
BEGIN:VEVENT
DTSTART;TZID=Europe/Prague:20260217T090000
DTEND;TZID=Europe/Prague:20260217T110000
DTSTAMP:20260421T065810
CREATED:20260112T131132Z
LAST-MODIFIED:20260204T142829Z
UID:8126-1771318800-1771326000@leccos.cz
SUMMARY:Proč se děti nesprávně chovají - interaktivní seminář
DESCRIPTION:Interaktivní seminář se zkušenou psycholožkou \nv rámci programu Setkání pro rodiny s dětmi. \nLektorka Mgr. Hana Slobodová \n\npochopení nesprávného chování dětí\nčtyři cíle nesprávného chování dětí\njak předcházet špatnému chování dětí\npovzbuzování jako budování sebedůvěry\npřeměna negativního v pozitivní\numění být nedokonalý\n\nMísto konání \nRC Kostička – Náměstí Arnošta z Pardubic 12\, Český Brod \nHLÍDÁNÍ DĚTÍ ZDARMA! \nRegistrujte se ZDE! \nVíce informací poskytne:\nandrea@leccos.cz\, tel.: 602 112 679 – Andrea Hradecká – koordinátorka RC \nPořádáme v rámci projektu LECCOS pro rodiny XII. podpořeného Ministerstvem práce a sociálních věcí a Městem Český Brod.
URL:https://leccos.cz/akce/proc-se-deti-nespravne-chovaji-interaktivni-seminar-3/
LOCATION:Rodinné centrum Kostička\, Nám. Arnošta z Pardubic 12\, Český Brod\, Česká republika\, 282 01
CATEGORIES:Pro rodiče,Pro rodiny,Pro širokou veřejnost
ATTACH;FMTTYPE=image/jpeg:https://leccos.cz/wp-content/uploads/2026/01/obrazek-02.jpg
END:VEVENT
BEGIN:VEVENT
DTSTART;TZID=Europe/Prague:20260225T170000
DTEND;TZID=Europe/Prague:20260225T190000
DTSTAMP:20260421T065810
CREATED:20260210T160751Z
LAST-MODIFIED:20260210T160801Z
UID:8333-1772038800-1772046000@leccos.cz
SUMMARY:Poruchy příjmu potravy a svět ideálů - vzdělávací pořad z cyklu Maják
DESCRIPTION:Zveme všechny děti od 13 let\, jejich rodiče a další zájemce na další setkání v rámci série programů Maják\, který se odehraje v NZDM Klubu Zvonice\, Žižkova 508\, Český Brod ve středu 25. února 2026 od 17.00 hodin.\nProč se nevinná snaha zhubnout a zapadat do sociálních tabulek promění v nebezpečnou posedlost? Tato přednáška otevírá dveře do světa výživy a poruch příjmu potravy. Společně probereme základní rozdělení poruch příjmu potravy a moderní rizika jejich vzniku\, jako jsou sociální sítě apod. . Zaměříme se na to\, jak budovat zdravý vztah k jídlu a svému tělu a jak poruchám příjmu potravy předcházet. Zároveň probereme\, co člověk s poruchou příjmu potravy prožívá\, jak probíhá léčba a jak pro tyto lidi být oporou a pomocí .\nProfesní medailonek lektorky najdete zde
URL:https://leccos.cz/akce/poruchy-prijmu-potravy-a-svet-idealu-vzdelavaci-porad-z-cyklu-majak/
LOCATION:NZDM Klub Zvonice Český Brod\, Žižkova 508\, Český Brod\, Česká republika\, 282 01
CATEGORIES:Pro děti a mládež,Pro rodiče,Pro rodiny,Pro širokou veřejnost
ATTACH;FMTTYPE=image/jpeg:https://leccos.cz/wp-content/uploads/2026/02/Majak_260225.jpg
END:VEVENT
BEGIN:VEVENT
DTSTART;TZID=Europe/Prague:20260316T170000
DTEND;TZID=Europe/Prague:20260316T190000
DTSTAMP:20260421T065810
CREATED:20260315T101951Z
LAST-MODIFIED:20260315T101951Z
UID:8470-1773680400-1773687600@leccos.cz
SUMMARY:Moderní drogy – vzdělávací pořad z cyklu Maják v Tuklatech
DESCRIPTION:Zveme děti a mládež starší 13 let\, rodiče i širokou veřejnost na vzdělávací pořad MAJÁK\, který se zaměří na téma moderních drog a jejich vliv na zdraví i každodenní život mladých lidí. Setkání se uskuteční v pondělí 16. března 2026 od 17:00 hodin v prostorách Obecního úřadu Tuklaty\, Na Valech 19. Vstup na akci je zdarma.\nLektoři z organizace Czeched Substance z. s. představí nejčastější návykové látky dnešní doby\, upozorní na jejich rizika a možné zdravotní i sociální dopady. Nabídnou také prostor pro dotazy i otevřenou diskuzi. \nProgram se koná ve spolupráci s MAS Region Pošembeří\, Obcí Tuklaty\, projektem E.P.I.C. a NZDM Klubem Zvonice.
URL:https://leccos.cz/akce/moderni-drogy-vzdelavaci-porad-z-cyklu-majak-v-tuklatech/
LOCATION:OÚ Tuklaty\, Na Valech 19\, Tuklaty\, Středočeský\, 28201\, Czech Republic
CATEGORIES:Pro děti a mládež,Pro rodiče,Pro rodiny,Pro širokou veřejnost
ATTACH;FMTTYPE=image/jpeg:https://leccos.cz/wp-content/uploads/2026/03/Majak_260316.jpg
END:VEVENT
BEGIN:VEVENT
DTSTART;TZID=Europe/Prague:20260325T170000
DTEND;TZID=Europe/Prague:20260325T190000
DTSTAMP:20260421T065810
CREATED:20260227T100112Z
LAST-MODIFIED:20260227T100112Z
UID:8434-1774458000-1774465200@leccos.cz
SUMMARY:Offline hlava\, online svět - vzdělávací pořad z cyklu Maják
DESCRIPTION:Ve středu 25. března 2026 od 17.00 hodin proběhne v NZDM Klubu Zvonice další setkání ze série vzdělávacích pořadů Maják s názvem Offline hlava\, online svět. Je určen dětem starším 13 let\, rodičům a dalším zájemců z řad veřejnosti. Tématem nás provede dlouholetá pedagožka\, metodička vzdělávání a sociální pracovnice organizace LECCOS\, z. s.\, Mgr. et Mgr. Eva Vaňkátová.\nWorkshop se zaměří na vliv sociálních sítí na duševní zdraví a soukromí dětí a mladých lidí. Společně se podíváme na to\, jak online prostředí ovlivňuje naši náladu\, sebevědomí a vztahy\, a proč je důležité umět si nastavovat zdravé hranice.\nÚčastníci získají praktické tipy\, jak chránit své soukromí\, bezpečně se pohybovat na sociálních sítích a pečovat o svou psychickou pohodu.
URL:https://leccos.cz/akce/offline-hlava-online-svet-vzdelavaci-porad-z-cyklu-majak/
LOCATION:NZDM Klub Zvonice Český Brod\, Žižkova 508\, Český Brod\, Česká republika\, 282 01
CATEGORIES:Pro děti a mládež,Pro rodiče,Pro rodiny,Pro širokou veřejnost
ATTACH;FMTTYPE=image/jpeg:https://leccos.cz/wp-content/uploads/2026/02/Majak_260225-1.jpg
END:VEVENT
BEGIN:VEVENT
DTSTART;TZID=Europe/Prague:20260411T100000
DTEND;TZID=Europe/Prague:20260411T150000
DTSTAMP:20260421T065810
CREATED:20260329T101553Z
LAST-MODIFIED:20260329T101553Z
UID:8581-1775901600-1775919600@leccos.cz
SUMMARY:Jarmark ve Štolmíři – prezentace LECCOS\, z. s.
DESCRIPTION:V sobotu 11. dubna 2026 od 10.00 se zúčastníme Jarmarku ve Štolmíři\, kde proběhne prezentace organizace LECCOS\, z. s. a dílna pro děti. Můžete se seznámit s činností LECCOS\, z.s. a zároveň si vyzkoušet tvořivou dílnu s nejmenšími. Na stánku budeme prodávat drobné výrobky\, které jsme vytvořili s dětmi z NZDM Klub Zvonice Český Brod. Jejich nákupem podpoříte činnost naší organizace.\nAkce nabídne příjemné setkání s veřejností i prostor pro neformální sdílení. Je zdarma a otevřená široké veřejnosti.
URL:https://leccos.cz/akce/jarmark-ve-stolmiri-prezentace-leccos-z-s/
LOCATION:náves Štolmíř\, Štolmíř\, Štolmíř\, Středočeský\, 28201\, Česká republika
CATEGORIES:Pro děti a mládež,Pro rodiny,Pro širokou veřejnost
ATTACH;FMTTYPE=image/jpeg:https://leccos.cz/wp-content/uploads/2026/03/260411.jpg
END:VEVENT
BEGIN:VEVENT
DTSTART;TZID=Europe/Prague:20260525T170000
DTEND;TZID=Europe/Prague:20260525T193000
DTSTAMP:20260421T065810
CREATED:20260325T165914Z
LAST-MODIFIED:20260325T165914Z
UID:8526-1779728400-1779737400@leccos.cz
SUMMARY:Hyperaktivita a problematické chování u dětí - interaktivní seminář
DESCRIPTION:Interaktivní seminář se zkušenou psycholožkou \nLektorka Mgr. Hana Slobodová \n\nco je přirozená dětská živost a kdy už se jedná o hyperaktivitu\njak dlouho má udržet pozornost předškolák\nv jakém věku lze poznat\, že dítě může mít obtíže se soustředěním\nkdy můžeme mluvit o poruše pozornosti a kdy je dítě zlobivé\, vzdorovité a vzteklé\, a kdy se jedná o impulzivitu\, která je jedním z projevů poruchy pozornosti s hyperaktivitou\n\nMísto konání \nRC Kostička – Náměstí Arnošta z Pardubic 12\, Český Brod \nHLÍDÁNÍ DĚTÍ ZDARMA! \nRegistrujte se ZDE! \nVíce informací poskytne:\nandrea@leccos.cz\, tel.: 602 112 679 – Andrea Hradecká – koordinátorka RC \nPořádáme v rámci projektu LECCOS pro rodiny XII. podpořeného Ministerstvem práce a sociálních věcí a Městem Český Brod.
URL:https://leccos.cz/akce/hyperaktivita-a-problematicke-chovani-u-deti-interaktivni-seminar/
LOCATION:Rodinné centrum Kostička\, Nám. Arnošta z Pardubic 12\, Český Brod\, Česká republika\, 282 01
CATEGORIES:Pro rodiny,Pro širokou veřejnost,Pro školy
END:VEVENT
BEGIN:VEVENT
DTSTART;TZID=Europe/Prague:20260615T170000
DTEND;TZID=Europe/Prague:20260615T193000
DTSTAMP:20260421T065810
CREATED:20260325T170512Z
LAST-MODIFIED:20260325T170521Z
UID:8530-1781542800-1781551800@leccos.cz
SUMMARY:Komunikace v rodině a vztahy se širší rodinou - interaktivní seminář
DESCRIPTION:Interaktivní seminář se zkušenou psycholožkou \nLektorka Mgr. Hana Slobodová \n\nco si sdělujeme a jakým způsobem\nporozumění dítěti skrze jeho potřeby\nkomunikace ve výchovném působení\nkrizová komunikace\nkonflikty – přirozená součást komunikace\nřešení konfliktů\, vyjednávání\, asertivita\, pozitivní a negativní ovlivňování mezi všemi členy rodiny navzájem\nvztahy mezi rodiči a dětmi\ntrávení času jednotlivými generacemi v rodině\njak posílit vědomí rodinné historie\n\nMísto konání \nRC Kostička – Náměstí Arnošta z Pardubic 12\, Český Brod \nHLÍDÁNÍ DĚTÍ ZDARMA! \nRegistrujte se ZDE! \nVíce informací poskytne:\nandrea@leccos.cz\, tel.: 602 112 679 – Andrea Hradecká – koordinátorka RC \nPořádáme v rámci projektu LECCOS pro rodiny XII. podpořeného Ministerstvem práce a sociálních věcí a Městem Český Brod.
URL:https://leccos.cz/akce/komunikace-v-rodine-a-vztahy-se-sirsi-rodinou-interaktivni-seminar/
LOCATION:Rodinné centrum Kostička\, Nám. Arnošta z Pardubic 12\, Český Brod\, Česká republika\, 282 01
CATEGORIES:Pro rodiny,Pro širokou veřejnost,Pro školy
END:VEVENT
BEGIN:VEVENT
DTSTART;TZID=Europe/Prague:20260616T090000
DTEND;TZID=Europe/Prague:20260616T180000
DTSTAMP:20260421T065810
CREATED:20260204T124258Z
LAST-MODIFIED:20260204T124258Z
UID:8298-1781600400-1781632800@leccos.cz
SUMMARY:Den otevřených dveří v RC Kostička - Přijďte pobejt!
DESCRIPTION:Přijďte se podívat\, jak to u nás chodí. \nPřijďte si s námi připomenout 23 let našeho rodinného centra!! \nProgram:\nv RC Kostička\, Nám. A. z Pardubic 12\, Český Brod\n9.00 – 12.00 prezentace aktivit RC Kostička – volná zábava rodičů a dětí\n10.00 – 11.00 výtvarná dílna pro  děti \nv parčíku u městské radnice\n14.30 – 16.00 závod na odrážedlech a koloběžkách – 14.30 zápis závodníků\, 15.00 start\, 15.45 vyhlášení výsledků\n16.00 – 17.00 sportovní aktivity\, opékání buřtů\n17.00 – 18.00 ukázka z kroužků RC Kostička \nKostičkou vás provede koordinátorka Andrea Hradecká.\nNebude chybět občerstvení z domácí kuchyně. \nTĚŠÍME SE NA VÁS!!! \n 
URL:https://leccos.cz/akce/den-otevrenych-dveri-v-rc-kosticka-prijdte-pobejt/
LOCATION:Rodinné centrum Kostička\, Nám. Arnošta z Pardubic 12\, Český Brod\, Česká republika\, 282 01
CATEGORIES:Pro rodiny,Pro širokou veřejnost
END:VEVENT
BEGIN:VEVENT
DTSTART;TZID=Europe/Prague:20260623T090000
DTEND;TZID=Europe/Prague:20260623T113000
DTSTAMP:20260421T065810
CREATED:20260325T153523Z
LAST-MODIFIED:20260325T153523Z
UID:8527-1782205200-1782214200@leccos.cz
SUMMARY:Výchova a komunikace - interaktivní seminář
DESCRIPTION:Interaktivní seminář se zkušenou psycholožkou \nv rámci programu Setkání pro rodiny s dětmi. \nLektorka Mgr. Hana Slobodová \n\nco je výchova a jaké má cíle\nvýznam komunikace mezi rodičem a dítětem\njak naslouchat a být slyšen\njak vést dítě ke spolupráci\nřešení konfliktů a nedorozumění\nvýchovné styly a jejich dopady\nhranice a důslednost ve výchově\nrespektující přístup\, podpora sebevědomí dítěte\nrozdíly v komunikaci podle věku dítěte\njak posilovat vzájemnou důvěru a vztah mezi rodiči a dětmi\n\nMísto konání \nRC Kostička – Náměstí Arnošta z Pardubic 12\, Český Brod \nHLÍDÁNÍ DĚTÍ ZDARMA! \nRegistrujte se ZDE! \nVíce informací poskytne:\nandrea@leccos.cz\, tel.: 602 112 679 – Andrea Hradecká – koordinátorka RC \nPořádáme v rámci projektu LECCOS pro rodiny XII. podpořeného Ministerstvem práce a sociálních věcí a Městem Český Brod.
URL:https://leccos.cz/akce/vychova-a-komunikace-interaktivni-seminar/
LOCATION:Rodinné centrum Kostička\, Nám. Arnošta z Pardubic 12\, Český Brod\, Česká republika\, 282 01
CATEGORIES:Pro rodiče,Pro rodiny,Pro širokou veřejnost
END:VEVENT
END:VCALENDAR