BEGIN:VCALENDAR
VERSION:2.0
PRODID:-//LECCOS, z. s. - ECPv6.15.19//NONSGML v1.0//EN
CALSCALE:GREGORIAN
METHOD:PUBLISH
X-WR-CALNAME:LECCOS, z. s.
X-ORIGINAL-URL:https://leccos.cz
X-WR-CALDESC:Akce na LECCOS, z. s.
REFRESH-INTERVAL;VALUE=DURATION:PT1H
X-Robots-Tag:noindex
X-PUBLISHED-TTL:PT1H
BEGIN:VTIMEZONE
TZID:Europe/Prague
BEGIN:DAYLIGHT
TZOFFSETFROM:+0100
TZOFFSETTO:+0200
TZNAME:CEST
DTSTART:20240331T010000
END:DAYLIGHT
BEGIN:STANDARD
TZOFFSETFROM:+0200
TZOFFSETTO:+0100
TZNAME:CET
DTSTART:20241027T010000
END:STANDARD
BEGIN:DAYLIGHT
TZOFFSETFROM:+0100
TZOFFSETTO:+0200
TZNAME:CEST
DTSTART:20250330T010000
END:DAYLIGHT
BEGIN:STANDARD
TZOFFSETFROM:+0200
TZOFFSETTO:+0100
TZNAME:CET
DTSTART:20251026T010000
END:STANDARD
BEGIN:DAYLIGHT
TZOFFSETFROM:+0100
TZOFFSETTO:+0200
TZNAME:CEST
DTSTART:20260329T010000
END:DAYLIGHT
BEGIN:STANDARD
TZOFFSETFROM:+0200
TZOFFSETTO:+0100
TZNAME:CET
DTSTART:20261025T010000
END:STANDARD
END:VTIMEZONE
BEGIN:VEVENT
DTSTART;TZID=Europe/Prague:20250218T100000
DTEND;TZID=Europe/Prague:20250218T120000
DTSTAMP:20260422T000308
CREATED:20250211T182455Z
LAST-MODIFIED:20250211T182600Z
UID:6151-1739872800-1739880000@leccos.cz
SUMMARY:Masopustní dílna
DESCRIPTION:Chystáte se na masopustní průvod (22. 2. 2025) a potřebuje masku? \nV RC Kostička pořádáme v úterý 18. 2. 2025 od 10 do 12 dílnu\, ve které si s dětmi budete moci vyrobit jednoduché masky z papíru\, škrabošky… podle vlastní fantazie nebo dle předlohy. \nTěšíme se na vás \nCena za materiál: 50\,- Kč \nMísto konání\nRC Kostička – Náměstí Arnošta z Pardubic 12\, Český Brod \nKontakt pro více informací:\nandrea@leccos.cz\, tel.: 602 112 679 – Andrea Hradecká – koordinátorka RC
URL:https://leccos.cz/akce/masopustni-dilna/
LOCATION:Rodinné centrum Kostička\, Nám. Arnošta z Pardubic 12\, Český Brod\, Česká republika\, 282 01
CATEGORIES:Pro rodiny,Pro širokou veřejnost
END:VEVENT
END:VCALENDAR