BEGIN:VCALENDAR
VERSION:2.0
PRODID:-//LECCOS, z. s. - ECPv6.15.19//NONSGML v1.0//EN
CALSCALE:GREGORIAN
METHOD:PUBLISH
X-WR-CALNAME:LECCOS, z. s.
X-ORIGINAL-URL:https://leccos.cz
X-WR-CALDESC:Akce na LECCOS, z. s.
REFRESH-INTERVAL;VALUE=DURATION:PT1H
X-Robots-Tag:noindex
X-PUBLISHED-TTL:PT1H
BEGIN:VTIMEZONE
TZID:Europe/Prague
BEGIN:DAYLIGHT
TZOFFSETFROM:+0100
TZOFFSETTO:+0200
TZNAME:CEST
DTSTART:20240331T010000
END:DAYLIGHT
BEGIN:STANDARD
TZOFFSETFROM:+0200
TZOFFSETTO:+0100
TZNAME:CET
DTSTART:20241027T010000
END:STANDARD
BEGIN:DAYLIGHT
TZOFFSETFROM:+0100
TZOFFSETTO:+0200
TZNAME:CEST
DTSTART:20250330T010000
END:DAYLIGHT
BEGIN:STANDARD
TZOFFSETFROM:+0200
TZOFFSETTO:+0100
TZNAME:CET
DTSTART:20251026T010000
END:STANDARD
BEGIN:DAYLIGHT
TZOFFSETFROM:+0100
TZOFFSETTO:+0200
TZNAME:CEST
DTSTART:20260329T010000
END:DAYLIGHT
BEGIN:STANDARD
TZOFFSETFROM:+0200
TZOFFSETTO:+0100
TZNAME:CET
DTSTART:20261025T010000
END:STANDARD
END:VTIMEZONE
BEGIN:VEVENT
DTSTART;TZID=Europe/Prague:20250616T133000
DTEND;TZID=Europe/Prague:20250616T143000
DTSTAMP:20260421T155741
CREATED:20250219T085817Z
LAST-MODIFIED:20250527T084952Z
UID:6233-1750080600-1750084200@leccos.cz
SUMMARY:Letní posezení a vystoupení dětí z RC Kostička v Domově ANNA
DESCRIPTION:Děti z RC Kostička navštíví seniory českobrodského Domova ANNA.\nVystoupí děti z kroužků Hra na kytaru\, Tanečky pro nejmenší a Dramaťáček.\nUvidíte taneční vystoupení nejmladších dětí z programu Hlídání.\nVše pod vedením lektorky Lucie Čurgaliové. \nKontakt\nandrea@leccos.cz\, tel.: 602 112 679 – Andrea Hradecká – koordinátorka RC
URL:https://leccos.cz/akce/letni-posezeni-a-vystoupeni-deti-z-rc-kosticka-v-domove-anna-2/
LOCATION:Domov ANNA Český Brod\, Žitomířská 323\, Český Brod\, středočeský\, 28201
CATEGORIES:Pro rodiče,Pro rodiny,Pro širokou veřejnost
ATTACH;FMTTYPE=image/jpeg:https://leccos.cz/wp-content/uploads/2025/02/25-06-vystoupeni-ANNA.jpg
END:VEVENT
BEGIN:VEVENT
DTSTART;TZID=Europe/Prague:20250617T090000
DTEND;TZID=Europe/Prague:20250617T180000
DTSTAMP:20260421T155741
CREATED:20250404T105732Z
LAST-MODIFIED:20250527T084738Z
UID:6597-1750150800-1750183200@leccos.cz
SUMMARY:Den otevřených dveří v RC Kostička - Přijďte pobejt!
DESCRIPTION:Přijďte se podívat\, jak to u nás chodí. \nPřijďte si s námi připomenout 22 let našeho rodinného centra!! \nProgram:\nv RC Kostička\, Nám. A. z Pardubic 12\, Český Brod\n9.00 – 12.00 prezentace aktivit RC Kostička – volná zábava rodičů a dětí\n10.00 – 11.00 výtvarná dílna pro  děti \nv parčíku u městské radnice\n14.30 – 16.00 závod na odrážedlech a koloběžkách – 14.30 zápis závodníků\, 15.00 start\, 15.45 vyhlášení výsledků\n16.00 – 17.00 sportovní aktivity\, opékání buřtů\n17.00 – 18.00 ukázka z kroužků RC Kostička \nKostičkou vás provede koordinátorka Andrea Hradecká.\nNebude chybět občerstvení z domácí kuchyně. \nTĚŠÍME SE NA VÁS!!! \nDěkujeme za podporu Městu Český Brod \nDěkujeme za podporu: Polabské mlékárny\, a. s.
URL:https://leccos.cz/akce/prijdte-pobejt-aneb-den-otevrenych-dveri-v-rc-kosticka-4/
LOCATION:Rodinné centrum Kostička\, Nám. Arnošta z Pardubic 12\, Český Brod\, Česká republika\, 282 01
CATEGORIES:Pro rodiny,Pro širokou veřejnost,Pro školy
ATTACH;FMTTYPE=image/jpeg:https://leccos.cz/wp-content/uploads/2025/04/25-06-Prijdte-pobejt-RC.jpg
END:VEVENT
BEGIN:VEVENT
DTSTART;TZID=Europe/Prague:20250624T180000
DTEND;TZID=Europe/Prague:20250624T200000
DTSTAMP:20260421T155741
CREATED:20250401T153858Z
LAST-MODIFIED:20250528T140730Z
UID:6523-1750788000-1750795200@leccos.cz
SUMMARY:Jak mluvit s dětmi\, aby nás poslouchaly - interaktivní seminář
DESCRIPTION:NOVÝ TERMÍN: 24.6.2025 !!!!! \nInteraktivní seminář se zkušenou psycholožkou \nLektorka Mgr. Hana Slobodová \n\njak v dětech podporovat zdravou sebedůvěru\, ale nevychovat z nich rozmazlené jedince\njakým způsobem můžeme dosáhnout přátelské spolupráce s dětmi a jak je učit samostatnosti\njakých chyb se dopouštíte při jednání s dítětem\njak namísto dlouhého vysvětlování zákazu pomůžeme dítěti splnit jeho přání alespoň v představách\njak namísto dlouhého vysvětlování zákazu pomůžeme dítěti splnit jeho přání alespoň v představách\njak reagovat\, přijde-li za vámi dítě s problémem\, a jak tento problém řešit\n\nMísto konání\nMC Škvoreček ve Škvorci \nRegistrujte se ZDE! \nVíce informací poskytne:\nandrea@leccos.cz\, tel.: 602 112 679 – Andrea Hradecká – koordinátorka RC \nPořádáme v rámci projektu LECCOS pro rodiny XI. podpořeného Ministerstvem práce a sociálních věcí a Městem Český Brod.
URL:https://leccos.cz/akce/jak-mluvit-s-detmi-aby-nas-deti-poslouchaly-interaktivni-seminar-2/
LOCATION:MC Škvoreček\, z. s.\, Masarykovo nám 13\, Škvorec\, 250 83\, Česká republika
CATEGORIES:Pro rodiny,Pro širokou veřejnost
ATTACH;FMTTYPE=image/jpeg:https://leccos.cz/wp-content/uploads/2025/04/25-0408-0527-interaktivni-seminare-VERZE-2-FB.jpg
END:VEVENT
END:VCALENDAR