BEGIN:VCALENDAR
VERSION:2.0
PRODID:-//LECCOS, z. s. - ECPv6.15.19//NONSGML v1.0//EN
CALSCALE:GREGORIAN
METHOD:PUBLISH
X-WR-CALNAME:LECCOS, z. s.
X-ORIGINAL-URL:https://leccos.cz
X-WR-CALDESC:Akce na LECCOS, z. s.
REFRESH-INTERVAL;VALUE=DURATION:PT1H
X-Robots-Tag:noindex
X-PUBLISHED-TTL:PT1H
BEGIN:VTIMEZONE
TZID:Europe/Prague
BEGIN:DAYLIGHT
TZOFFSETFROM:+0100
TZOFFSETTO:+0200
TZNAME:CEST
DTSTART:20210328T010000
END:DAYLIGHT
BEGIN:STANDARD
TZOFFSETFROM:+0200
TZOFFSETTO:+0100
TZNAME:CET
DTSTART:20211031T010000
END:STANDARD
BEGIN:DAYLIGHT
TZOFFSETFROM:+0100
TZOFFSETTO:+0200
TZNAME:CEST
DTSTART:20220327T010000
END:DAYLIGHT
BEGIN:STANDARD
TZOFFSETFROM:+0200
TZOFFSETTO:+0100
TZNAME:CET
DTSTART:20221030T010000
END:STANDARD
BEGIN:DAYLIGHT
TZOFFSETFROM:+0100
TZOFFSETTO:+0200
TZNAME:CEST
DTSTART:20230326T010000
END:DAYLIGHT
BEGIN:STANDARD
TZOFFSETFROM:+0200
TZOFFSETTO:+0100
TZNAME:CET
DTSTART:20231029T010000
END:STANDARD
END:VTIMEZONE
BEGIN:VEVENT
DTSTART;TZID=Europe/Prague:20221102T090000
DTEND;TZID=Europe/Prague:20221102T120000
DTSTAMP:20260422T034003
CREATED:20220808T152701Z
LAST-MODIFIED:20220914T101629Z
UID:840-1667379600-1667390400@leccos.cz
SUMMARY:Zvládaní problematických situací ve škole - seminář pro pěstouny
DESCRIPTION:POZOR!\nZměna místa konání. Seminář proběhne v NZDM Klub Zvonice ( Žižkova 508\, areál Nemocnice Český Brod). \nVzdělávací seminář pro pěstouny v rozsahu 6 hodin. \nLektorka: Mgr. Zdeňka Svobodová
URL:https://leccos.cz/akce/zvladani-problematickych-situaci-ve-skole-seminar-pro-pestouny-2/
LOCATION:NZDM Klub Zvonice Český Brod\, Žižkova 508\, Český Brod\, Česká republika\, 282 01
CATEGORIES:Pro pěstouny
END:VEVENT
BEGIN:VEVENT
DTSTART;VALUE=DATE:20220930
DTEND;VALUE=DATE:20221003
DTSTAMP:20260422T034003
CREATED:20220808T152142Z
LAST-MODIFIED:20220926T094512Z
UID:832-1664496000-1664755199@leccos.cz
SUMMARY:Podzimní vzdělávací seminář pro pěstouny
DESCRIPTION:Tento vzdělávací víkendový seminář je již PLNĚ OBSAZEN!\nOd 30. 8. 2022 přijímáme pouze náhradníky. \nRS Kletečná\, Kletečná  č. o. 72\, 396 01 Humpolec \nTéma: Šikana ve škole – rizika\, dopady a řešení \nLektor: Mgr. Roksana Táborská (roz. Vintoniv) \nBěhem vzdělávání pěstounů je zajištěna celodenní péče o děti a animační program. \nCeny:\nOsoba pečující 9790 Kč (zahrnuje vzdělávání\, ubytování a stravu) \nDítě v pěstounské péči 7190 Kč (zahrnuje animační program\, ubytování a stravu) \nSoučástí celkové ceny je částka za stravování 900 Kč – hradí osoby pečující. Strava zahrnuje plnou penzi (děti 5× denně) a pitný režim. \nDalší dospělý (bez vzdělávání) 2700 Kč (zahrnuje ubytování a stravu) + případně symbolická částka za účast na vzdělávání ve výši 240 Kč. Lze uhradit na místě. \nDalší dítě 2840 Kč (zahrnuje animační program\, ubytování a stravu). \nMožnost zajištění ubytování v RS Kletečná už od čtvrtka (+ večeře a páteční snídaně)\, úhrada na fakturu. \nPŘIHLAŠTE SE ZDE!\nUzávěrka přihlášek 17. 6. 2022.\nKontakt pro další informace\, přihlášení\, rezervace:\nVěra Chamradová\ntel.: 734 108 096 e-mail: darci@leccos.cz
URL:https://leccos.cz/akce/832/
LOCATION:Kletečná č. o. 72\, Humpolec\, 396 01
CATEGORIES:Pro pěstouny
END:VEVENT
END:VCALENDAR