BEGIN:VCALENDAR
VERSION:2.0
PRODID:-//LECCOS, z. s. - ECPv6.15.19//NONSGML v1.0//EN
CALSCALE:GREGORIAN
METHOD:PUBLISH
X-ORIGINAL-URL:https://leccos.cz
X-WR-CALDESC:Akce na LECCOS, z. s.
REFRESH-INTERVAL;VALUE=DURATION:PT1H
X-Robots-Tag:noindex
X-PUBLISHED-TTL:PT1H
BEGIN:VTIMEZONE
TZID:Europe/Prague
BEGIN:DAYLIGHT
TZOFFSETFROM:+0100
TZOFFSETTO:+0200
TZNAME:CEST
DTSTART:20210328T010000
END:DAYLIGHT
BEGIN:STANDARD
TZOFFSETFROM:+0200
TZOFFSETTO:+0100
TZNAME:CET
DTSTART:20211031T010000
END:STANDARD
BEGIN:DAYLIGHT
TZOFFSETFROM:+0100
TZOFFSETTO:+0200
TZNAME:CEST
DTSTART:20220327T010000
END:DAYLIGHT
BEGIN:STANDARD
TZOFFSETFROM:+0200
TZOFFSETTO:+0100
TZNAME:CET
DTSTART:20221030T010000
END:STANDARD
BEGIN:DAYLIGHT
TZOFFSETFROM:+0100
TZOFFSETTO:+0200
TZNAME:CEST
DTSTART:20230326T010000
END:DAYLIGHT
BEGIN:STANDARD
TZOFFSETFROM:+0200
TZOFFSETTO:+0100
TZNAME:CET
DTSTART:20231029T010000
END:STANDARD
BEGIN:DAYLIGHT
TZOFFSETFROM:+0100
TZOFFSETTO:+0200
TZNAME:CEST
DTSTART:20240331T010000
END:DAYLIGHT
BEGIN:STANDARD
TZOFFSETFROM:+0200
TZOFFSETTO:+0100
TZNAME:CET
DTSTART:20241027T010000
END:STANDARD
BEGIN:DAYLIGHT
TZOFFSETFROM:+0100
TZOFFSETTO:+0200
TZNAME:CEST
DTSTART:20250330T010000
END:DAYLIGHT
BEGIN:STANDARD
TZOFFSETFROM:+0200
TZOFFSETTO:+0100
TZNAME:CET
DTSTART:20251026T010000
END:STANDARD
BEGIN:DAYLIGHT
TZOFFSETFROM:+0100
TZOFFSETTO:+0200
TZNAME:CEST
DTSTART:20260329T010000
END:DAYLIGHT
BEGIN:STANDARD
TZOFFSETFROM:+0200
TZOFFSETTO:+0100
TZNAME:CET
DTSTART:20261025T010000
END:STANDARD
BEGIN:DAYLIGHT
TZOFFSETFROM:+0100
TZOFFSETTO:+0200
TZNAME:CEST
DTSTART:20270328T010000
END:DAYLIGHT
BEGIN:STANDARD
TZOFFSETFROM:+0200
TZOFFSETTO:+0100
TZNAME:CET
DTSTART:20271031T010000
END:STANDARD
END:VTIMEZONE
BEGIN:VEVENT
DTSTART;VALUE=DATE:20260410
DTEND;VALUE=DATE:20260413
DTSTAMP:20260421T151311
CREATED:20260105T124309Z
LAST-MODIFIED:20260317T171700Z
UID:8016-1775779200-1776038399@leccos.cz
SUMMARY:Jarní vzdělávací seminář pro pěstouny 2026
DESCRIPTION:Sport Resort Nenudimse s. r. o.\, Sázava\nodkaz na Google maps \nTémata: \nKontakt s biologickou rodinou a krizové momenty\n \nLektor:\nMgr. Ondřej Máslo \nPřihlašte se on-line! \nCeny pro rok 2026:\n \nOsoba pečující: 9.990\,- Kč\nDítě v pěstounské péči: 8.060\,- Kč\nDalší osoba nepěstoun se vzděláváním 1.750\,- Kč\nDalší osoba nepěstoun bez vzdělávání 1.500\,- Kč\nDalší dítě s péčí po dobu vzdělávání 1.750\,- Kč \nSoučástí celkové ceny je stravování v hodnotě 700\,- Kč osoba / pobyt. \nProgram pobytových vzdělávacích akcí je určen pro celou rodinu\, péči o děti zajišťuje tým zkušených lektorů a lektorek včetně strukturovaného animačního programu. \nUbytování je zajištěno v pokojích v hlavní budově a ve vytápěných chatkách s kuchyňkou. Odesláním přihlášky souhlasíte s oběma variantami ubytování.
URL:https://leccos.cz/akce/jarni-vzdelavaci-seminar-pro-pestouny-2026/
LOCATION:Sportresort Nenudimse.cz
CATEGORIES:Pro pěstouny
ATTACH;FMTTYPE=image/webp:https://leccos.cz/wp-content/uploads/2025/01/wb-foto-sportresort.webp
END:VEVENT
BEGIN:VEVENT
DTSTART;TZID=Europe/Prague:20260324T090000
DTEND;TZID=Europe/Prague:20260324T090000
DTSTAMP:20260421T151311
CREATED:20260105T135558Z
LAST-MODIFIED:20260325T121802Z
UID:8034-1774342800-1774342800@leccos.cz
SUMMARY:Kontakt s biologickou rodinou a krizové momenty - seminář pro pěstouny
DESCRIPTION:Seminář v rozsahu 6 hodin. \nLektorka:\nMgr. Hana Slobodová \nPřihlašte se online!
URL:https://leccos.cz/akce/kontakt-s-biologickou-rodinou-a-krizove-momenty-seminar-pro-pestouny/
LOCATION:CVIK – Centrum vzdělávání\, informací a kultury p. o.\, Nám. Arnošta z Pardubic 1\, Český Brod\, Česká republika\, 282 01
CATEGORIES:Pro pěstouny
ATTACH;FMTTYPE=image/jpeg:https://leccos.cz/wp-content/uploads/2026/01/seminare-pro-pestouny-FB.jpg
END:VEVENT
BEGIN:VEVENT
DTSTART;TZID=Europe/Prague:20260224T090000
DTEND;TZID=Europe/Prague:20260224T090000
DTSTAMP:20260421T151311
CREATED:20260105T135316Z
LAST-MODIFIED:20260325T121629Z
UID:8028-1771923600-1771923600@leccos.cz
SUMMARY:Techniky pro zvládání dětských emocí - seminář pro pěstouny
DESCRIPTION:Seminář v rozsahu 6 hodin. \nLektor:\nMgr. Ondřej Máslo \nPřihlašte se online!
URL:https://leccos.cz/akce/techniky-pro-zvladani-detskych-emoci-seminar-pro-pestouny/
LOCATION:CVIK – Centrum vzdělávání\, informací a kultury p. o.\, Nám. Arnošta z Pardubic 1\, Český Brod\, Česká republika\, 282 01
CATEGORIES:Pro pěstouny
ATTACH;FMTTYPE=image/jpeg:https://leccos.cz/wp-content/uploads/2026/01/seminare-pro-pestouny-FB.jpg
END:VEVENT
BEGIN:VEVENT
DTSTART;TZID=Europe/Prague:20260114T170000
DTEND;TZID=Europe/Prague:20260114T190000
DTSTAMP:20260421T151311
CREATED:20251221T165714Z
LAST-MODIFIED:20251221T171929Z
UID:7987-1768410000-1768417200@leccos.cz
SUMMARY:Bezpečný sex – vzdělávací pořad z cyklu Maják
DESCRIPTION:Ve středu 14. ledna 2026 od 17.00 zveme děti starší 13 let\, rodiče i další zájemce do NZDM Klubu Zvonice\, Žižkova 508\, Český Brod na další setkání ze série vzdělávacích pořadů MAJÁK\, tentokrát na téma Bezpečný sex. Vstup je zdarma. \nTématem nás provede Mgr. et Mgr. Eva Vaňkátová\, dlouholetá pedagožka\, metodička vzdělávání a sociální pracovnice organizace LECCOS\, z. s. Prostor bude také pro dotazy a otevřenou diskuzi.
URL:https://leccos.cz/akce/bezpecny-sex-vzdelavaci-porad-z-cyklu-majak/
LOCATION:NZDM Klub Zvonice Český Brod\, Žižkova 508\, Český Brod\, Česká republika\, 282 01
CATEGORIES:Pro děti a mládež,Pro pěstouny,Pro rodiče,Pro rodiny,Pro širokou veřejnost
ATTACH;FMTTYPE=image/jpeg:https://leccos.cz/wp-content/uploads/2025/12/Majak_260114.jpg
END:VEVENT
BEGIN:VEVENT
DTSTART;TZID=Europe/Prague:20251202T090000
DTEND;TZID=Europe/Prague:20251202T150000
DTSTAMP:20260421T151311
CREATED:20250108T155547Z
LAST-MODIFIED:20250109T162202Z
UID:6012-1764666000-1764687600@leccos.cz
SUMMARY:Budování citového pouta v životních etapách dítěte - seminář pro pěstouny
DESCRIPTION:Seminář v rozsahu 6 hodin. \nLektor:\nMgr. Ondřej Máslo \nPřihlašte se online!
URL:https://leccos.cz/akce/budovani-citoveho-pouta-v-zivotnich-etapach-ditete-seminar-pro-pestouny/
LOCATION:CVIK – Centrum vzdělávání\, informací a kultury p. o.\, Nám. Arnošta z Pardubic 1\, Český Brod\, Česká republika\, 282 01
CATEGORIES:Pro pěstouny
ATTACH;FMTTYPE=image/png:https://leccos.cz/wp-content/uploads/2025/01/WEB-seminare-pro-pestouny.png
END:VEVENT
BEGIN:VEVENT
DTSTART;TZID=Europe/Prague:20251104T090000
DTEND;TZID=Europe/Prague:20251104T150000
DTSTAMP:20260421T151311
CREATED:20250108T155316Z
LAST-MODIFIED:20250109T162119Z
UID:6008-1762246800-1762268400@leccos.cz
SUMMARY:Jak pracovat s náročnými momenty při výchově dětí nejen v období puberty - seminář pro pěstouny
DESCRIPTION:Seminář v rozsahu 6 hodin. \nLektorka:\nMgr. Hana Slobodová \nPřihlašte se online!
URL:https://leccos.cz/akce/jak-pracovat-s-narocnymi-momenty-pri-vychove-deti-nejen-v-obdobi-puberty-seminar-pro-pestouny/
LOCATION:CVIK – Centrum vzdělávání\, informací a kultury p. o.\, Nám. Arnošta z Pardubic 1\, Český Brod\, Česká republika\, 282 01
CATEGORIES:Pro pěstouny
ATTACH;FMTTYPE=image/png:https://leccos.cz/wp-content/uploads/2025/01/WEB-seminare-pro-pestouny.png
END:VEVENT
BEGIN:VEVENT
DTSTART;TZID=Europe/Prague:20251017T080000
DTEND;TZID=Europe/Prague:20251019T170000
DTSTAMP:20260421T151311
CREATED:20250103T105651Z
LAST-MODIFIED:20250319T103102Z
UID:5956-1760688000-1760893200@leccos.cz
SUMMARY:Podzimní vzdělávací seminář pro pěstouny 2025
DESCRIPTION:Sport Resort Nenudimse s. r. o.\, Sázava\nodkaz na Google maps \nTémata: \nSociální poradenství a právní otázky v NRP\nDítě a jeho potřeba „patřit“ někam\n \nLektorky:\nMgr. Kamila Franková\, Mgr. Hana Slobodová \nPřihlašte se on-line! \nUZÁVĚRKA PŘIHLÁŠEK do 30. 6. 2025!\nCena pro rok 2025: \nOsoba pečující: 8 160\,- Kč\nDítě v pěstounské péči: 6 240\,- Kč \nSoučástí celkové ceny je stravování v hodnotě 700\,- Kč osoba / pobyt / den. \nProgram pobytových vzdělávacích akcí je určen pro celou rodinu\, péči o děti zajišťuje tým zkušených lektorů a lektorek včetně strukturovaného animačního programu
URL:https://leccos.cz/akce/podzimni-vzdelavaci-seminar-pro-pestouny-2025/
LOCATION:Sportresort Nenudimse.cz
CATEGORIES:Pro pěstouny
ATTACH;FMTTYPE=image/webp:https://leccos.cz/wp-content/uploads/2025/01/wb-foto-sportresort.webp
END:VEVENT
BEGIN:VEVENT
DTSTART;TZID=Europe/Prague:20250623T180000
DTEND;TZID=Europe/Prague:20250623T190000
DTSTAMP:20260421T151311
CREATED:20250622T083727Z
LAST-MODIFIED:20250622T084347Z
UID:7065-1750701600-1750705200@leccos.cz
SUMMARY:Informační schůzka k výjezdu
DESCRIPTION:Informační schůzka k výjezdu dětí a pracovníků v NZDM Klub Zvonice Český Brod se koná v pondělí 23. 6. 2025 přímo ve Zvonici. Probereme program\, rozdáme potvrzení o bezinfekčnosti\, zodpovíme dotazy apod.\nKomu se termín nehodí\, může volat na telefonní číslo 602 446 195 nebo psát na e-mail: petrai@leccos.cz. \nTento resocializační pobyt můžeme pro děti realizovat díky finanční podpoře Město Český Brod a Nadační fond Albert.\nDěkujeme!
URL:https://leccos.cz/akce/informacni-schuzka-k-vyjezdu/
LOCATION:NZDM Klub Zvonice Český Brod\, Žižkova 508\, Český Brod\, Česká republika\, 282 01
CATEGORIES:Pro děti a mládež,Pro pěstouny,Pro rodiče
ATTACH;FMTTYPE=image/jpeg:https://leccos.cz/wp-content/uploads/2025/06/Infoschuzka.jpg
END:VEVENT
BEGIN:VEVENT
DTSTART;VALUE=DATE:20250411
DTEND;VALUE=DATE:20250414
DTSTAMP:20260421T151311
CREATED:20250103T104709Z
LAST-MODIFIED:20250109T162803Z
UID:5948-1744329600-1744588799@leccos.cz
SUMMARY:Jarní vzdělávací seminář pro pěstouny 2025
DESCRIPTION:Sport Resort Nenudimse s. r. o.\, Sázava\nodkaz na Google maps \nTémata: \nČím děti žijí a co potřebují\nBudování citového pouta v životních etapách dítěte\n \nLektor:\nMgr. Ondřej Máslo \nPřihlašte se on-line! \nCena pro rok 2025: \nOsoba pečující: 8 160\,- Kč\nDítě v pěstounské péči: 6 240\,- Kč \nSoučástí celkové ceny je stravování v hodnotě 700\,- Kč osoba / pobyt. \nProgram pobytových vzdělávacích akcí je určen pro celou rodinu\, péči o děti zajišťuje tým zkušených lektorů a lektorek včetně strukturovaného animačního programu
URL:https://leccos.cz/akce/jarni-vzdelavaci-seminar-pro-pestouny-2025/
LOCATION:Sportresort Nenudimse.cz
CATEGORIES:Pro pěstouny
ATTACH;FMTTYPE=image/webp:https://leccos.cz/wp-content/uploads/2025/01/wb-foto-sportresort.webp
END:VEVENT
BEGIN:VEVENT
DTSTART;TZID=Europe/Prague:20250401T090000
DTEND;TZID=Europe/Prague:20250401T150000
DTSTAMP:20260421T151311
CREATED:20250108T154856Z
LAST-MODIFIED:20250218T113316Z
UID:6001-1743498000-1743519600@leccos.cz
SUMMARY:Čím děti žijí a co potřebují - seminář pro pěstouny
DESCRIPTION:Seminář v rozsahu 6 hodin. \nLektor:\nMgr. Ondřej Máslo \nPřihlašte se online!
URL:https://leccos.cz/akce/cim-deti-ziji-a-co-potrebuji-seminar-pro-pestouny/
LOCATION:CVIK – Centrum vzdělávání\, informací a kultury p. o.\, Nám. Arnošta z Pardubic 1\, Český Brod\, Česká republika\, 282 01
CATEGORIES:Pro pěstouny
ATTACH;FMTTYPE=image/png:https://leccos.cz/wp-content/uploads/2025/01/WEB-seminare-pro-pestouny.png
END:VEVENT
BEGIN:VEVENT
DTSTART;TZID=Europe/Prague:20250218T090000
DTEND;TZID=Europe/Prague:20250218T150000
DTSTAMP:20260421T151311
CREATED:20250108T154315Z
LAST-MODIFIED:20250109T161840Z
UID:5996-1739869200-1739890800@leccos.cz
SUMMARY:Sociální poradenství a právní otázky v NRP - seminář pro pěstouny
DESCRIPTION:Seminář v rozsahu 6 hodin. \nLektorka:\nMgr. Kamila Franková \nPřihlašte se online! \n 
URL:https://leccos.cz/akce/socialni-poradenstvi-a-pravni-otazky-v-nrp-seminar-pro-pestouny/
LOCATION:CVIK – Centrum vzdělávání\, informací a kultury p. o.\, Nám. Arnošta z Pardubic 1\, Český Brod\, Česká republika\, 282 01
CATEGORIES:Pro pěstouny
ATTACH;FMTTYPE=image/png:https://leccos.cz/wp-content/uploads/2025/01/WEB-seminare-pro-pestouny.png
END:VEVENT
BEGIN:VEVENT
DTSTART;TZID=Europe/Prague:20241203T090000
DTEND;TZID=Europe/Prague:20241203T150000
DTSTAMP:20260421T151311
CREATED:20231220T150542Z
LAST-MODIFIED:20231220T150631Z
UID:3937-1733216400-1733238000@leccos.cz
SUMMARY:Identita dítěte\, Nástrahy moderních komunikačních technologie a sociálních sítí - seminář pro pěstouny
DESCRIPTION:Seminář v rozsahu 6 hodin. \nLektor:\nMgr. Ondřej Máslo \nPřihlašte se on-line!
URL:https://leccos.cz/akce/identita-ditete-nastrahy-modernich-komunikacnich-technologie-a-socialnich-siti/
LOCATION:NZDM Klub Zvonice Český Brod\, Žižkova 508\, Český Brod\, Česká republika\, 282 01
CATEGORIES:Pro pěstouny
END:VEVENT
BEGIN:VEVENT
DTSTART;TZID=Europe/Prague:20241105T090000
DTEND;TZID=Europe/Prague:20241105T150000
DTSTAMP:20260421T151311
CREATED:20231220T150307Z
LAST-MODIFIED:20231220T150307Z
UID:3934-1730797200-1730818800@leccos.cz
SUMMARY:Šikana nejen ve škole - seminář pro pěstouny
DESCRIPTION:Seminář v rozsahu 6 hodin. \nLektorka:\nMgr. Roksana Táborská \nPřihlašte se on-line!
URL:https://leccos.cz/akce/sikana-nejen-ve-skole-seminar-pro-pestouny/
LOCATION:NZDM Klub Zvonice Český Brod\, Žižkova 508\, Český Brod\, Česká republika\, 282 01
CATEGORIES:Pro pěstouny
END:VEVENT
BEGIN:VEVENT
DTSTART;VALUE=DATE:20241011
DTEND;VALUE=DATE:20241014
DTSTAMP:20260421T151311
CREATED:20231220T141755Z
LAST-MODIFIED:20231220T142703Z
UID:3903-1728604800-1728863999@leccos.cz
SUMMARY:Podzimní vzdělávací seminář v RS Kletečná
DESCRIPTION:RS Kletečná\, Kletečná  č. o. 72\, 396 01 Humpolec \nTéma:\nZtráty v životě\nPodpora identity dítěte v náhradní rodinné péči\n \nLektorka:\nMgr. Hana Slobodová \nPřihlašte se on-line! \nCena pro rok 2024:\nOsoba pečující: 10 800\,- Kč\nDítě v pěstounské péči: 8300\,- Kč\nDalší dospělý bez vzdělávání: 2340\,- Kč\nDalší dospělý s účastí na vzdělávání: 2590\,- Kč\nDalší dítě: 2590\,- Kč \nSoučástí celkové ceny je stravování v hodnotě 1140\,- Kč osoba / pobyt. \nProgram pobytových vzdělávacích akcí je určen pro celou rodinu\, péči o děti zajišťuje tým zkušených lektorů a lektorek včetně strukturovaného animačního programu
URL:https://leccos.cz/akce/3903/
LOCATION:Kletečná č. o. 72\, Humpolec\, 396 01
CATEGORIES:Pro pěstouny
END:VEVENT
BEGIN:VEVENT
DTSTART;VALUE=DATE:20240412
DTEND;VALUE=DATE:20240415
DTSTAMP:20260421T151311
CREATED:20231220T140817Z
LAST-MODIFIED:20250103T102223Z
UID:3893-1712880000-1713139199@leccos.cz
SUMMARY:Jarní vzdělávací seminář pro pěstouny v RS Tesla
DESCRIPTION:Rekreační středisko Tesla\, Vršov 53\, 539 53 Horní Bradlo \nTéma: \nIdentita dítěte\nNástrahy moderních komunikačních technologií a sociálních sítí\n \nLektor:\nMgr. Ondřej Máslo \nPřihlašte se on-line! \nCena pro rok 2024: \nOsoba pečující: 9 990\,- Kč\nDítě v pěstounské péči: 7 190\,- Kč\nDalší dospělý bez vzdělávání: 1 450\,- Kč\nDalší dospělý s účastí na vzdělávání: 1 700\,- Kč\nDalší dítě : 1 480\,- Kč \nSoučástí celkové ceny je stravování v hodnotě 700\,- Kč osoba / pobyt. \nProgram pobytových vzdělávacích akcí je určen pro celou rodinu\, péči o děti zajišťuje tým zkušených lektorů a lektorek včetně strukturovaného animačního programu
URL:https://leccos.cz/akce/jarni-vzdelavaci-seminar-pro-pestouny-v-rs-tesla/
LOCATION:Rekreační středisko Tesla\, Vršov\, Vršov 53\, Horní Bradlo\, 53953\, Česká republika
CATEGORIES:Pro pěstouny
END:VEVENT
BEGIN:VEVENT
DTSTART;TZID=Europe/Prague:20240326T090000
DTEND;TZID=Europe/Prague:20240326T150000
DTSTAMP:20260421T151311
CREATED:20231220T150001Z
LAST-MODIFIED:20231220T150818Z
UID:3928-1711443600-1711465200@leccos.cz
SUMMARY:Děti v náhradní rodinné péči x biologické děti - seminář pro pěstouny
DESCRIPTION:Seminář v rozsahu 6 hodin. \nLektor:\nMgr. Ondřej Máslo \nPřihlašte se on-line!
URL:https://leccos.cz/akce/deti-v-nahradni-rodinne-peci-x-biologicke-deti/
LOCATION:NZDM Klub Zvonice Český Brod\, Žižkova 508\, Český Brod\, Česká republika\, 282 01
CATEGORIES:Pro pěstouny
END:VEVENT
BEGIN:VEVENT
DTSTART;TZID=Europe/Prague:20240227T090000
DTEND;TZID=Europe/Prague:20240227T150000
DTSTAMP:20260421T151311
CREATED:20231220T145614Z
LAST-MODIFIED:20231220T145822Z
UID:3925-1709024400-1709046000@leccos.cz
SUMMARY:Ztráty v životě\, Děti a peníze - seminář pro pěstouny
DESCRIPTION:Seminář v rozsahu 6 hodin. \nLektorka:\nMgr. Hana Slobodová \nPřihlašte se on-line!
URL:https://leccos.cz/akce/ztraty-v-zivote-deti-a-penize-seminar-pro-pestouny/
LOCATION:NZDM Klub Zvonice Český Brod\, Žižkova 508\, Český Brod\, Česká republika\, 282 01
CATEGORIES:Pro pěstouny
END:VEVENT
BEGIN:VEVENT
DTSTART;TZID=Europe/Prague:20231206T090000
DTEND;TZID=Europe/Prague:20231206T150000
DTSTAMP:20260421T151311
CREATED:20221212T134854Z
LAST-MODIFIED:20221212T134854Z
UID:2096-1701853200-1701874800@leccos.cz
SUMMARY:Návyky\, rituály a zdroje ve výchově a péči o děti - seminář pro pěstouny
DESCRIPTION:Lektor:\nMgr. Ondřej Máslo \nPřihlašte se on-line!
URL:https://leccos.cz/akce/navyky-ritualy-a-zdroje-ve-vychove-a-peci-o-deti-seminar-pro-pestouny/
LOCATION:NZDM Klub Zvonice Český Brod\, Žižkova 508\, Český Brod\, Česká republika\, 282 01
CATEGORIES:Pro pěstouny
END:VEVENT
BEGIN:VEVENT
DTSTART;TZID=Europe/Prague:20231108T090000
DTEND;TZID=Europe/Prague:20231108T150000
DTSTAMP:20260421T151311
CREATED:20221212T134635Z
LAST-MODIFIED:20221212T134635Z
UID:2093-1699434000-1699455600@leccos.cz
SUMMARY:Jak moderní technologie ovlivňují výchovu dětí - seminář pro pěstouny
DESCRIPTION:Lektor:\nMgr. Ondřej Máslo \nPřihlašte se on-line!
URL:https://leccos.cz/akce/jak-moderni-technologie-ovlivnuji-vychovu-deti-seminar-pro-pestouny/
LOCATION:NZDM Klub Zvonice Český Brod\, Žižkova 508\, Český Brod\, Česká republika\, 282 01
CATEGORIES:Pro pěstouny
END:VEVENT
BEGIN:VEVENT
DTSTART;TZID=Europe/Prague:20231103T140000
DTEND;TZID=Europe/Prague:20231103T173000
DTSTAMP:20260421T151311
CREATED:20231026T112551Z
LAST-MODIFIED:20231026T112551Z
UID:3471-1699020000-1699032600@leccos.cz
SUMMARY:Charitativní prodej oblečení v RC Kostička
DESCRIPTION:pro děti i pro dospělé \nPořiďte sobě nebo svým dětem na podzim něco na sebe a podpořte dobrou věc. Vybírat budete moci z oblečení z druhé ruky pro děti od 0 let i pro dospělé. Najdete tu také pár elegantních kousků obchodu SONNINI. \nCenu si určitě sami! \nPodpoříte děti\, které potřebují pomoc s financováním jejich volnočasové aktivity nebo tábora. \nDěkujeme Janě Sonnini 🙂
URL:https://leccos.cz/akce/charitativni-prodej-obleceni-v-rc-kosticka/
LOCATION:Rodinné centrum Kostička\, Nám. Arnošta z Pardubic 12\, Český Brod\, Česká republika\, 282 01
CATEGORIES:Pro pěstouny,Pro rodiče,Pro rodiny,Pro širokou veřejnost
ATTACH;FMTTYPE=image/jpeg:https://leccos.cz/wp-content/uploads/2023/10/23_11-bazar-obleceni-deti-sonnini-plakat-01-scaled.jpg
END:VEVENT
BEGIN:VEVENT
DTSTART;VALUE=DATE:20231013
DTEND;VALUE=DATE:20231016
DTSTAMP:20260421T151311
CREATED:20221212T131423Z
LAST-MODIFIED:20221212T135944Z
UID:2069-1697155200-1697414399@leccos.cz
SUMMARY:Podzimní vzdělávací seminář pro pěstouny
DESCRIPTION:Sporthotel Kácov\, Kácov 307\, 285 09 Kácov \nTéma:\nNávyky\, rituály a zdroje ve výchově a péči o děti \nLektor:\nMgr. Ondřej Máslo \nPřihlašte se on-line! \nCena pro rok 2023:\nOsoba pečující: 9 990\,- Kč\nDítě v pěstounské péči: 7 190\,- Kč\nDalší dospělý bez vzdělávání: 2 100\,- Kč\nDalší dospělý s účastí na vzdělávání: 2  350\,- Kč\nDalší dítě: 2350\,- Kč \nSoučástí celkové ceny je stravování v hodnotě 1100\,- Kč osoba / pobyt.
URL:https://leccos.cz/akce/podzimni-vzdelavaci-pobyt-pro-pestouny/
LOCATION:Česká republika
CATEGORIES:Pro pěstouny
END:VEVENT
BEGIN:VEVENT
DTSTART;VALUE=DATE:20230414
DTEND;VALUE=DATE:20230417
DTSTAMP:20260421T151311
CREATED:20221212T130356Z
LAST-MODIFIED:20221219T113025Z
UID:2066-1681430400-1681689599@leccos.cz
SUMMARY:Jarní vzdělávací seminář pro pěstouny
DESCRIPTION:Rekreační středisko Tesla\, Vršov 53\, 539 53 Horní Bradlo \nTéma: \nNastavení pravidel a hranic v pubertě a dospívání; Závislosti \nLektor:\nMgr. Ondřej Máslo \nPřihlašte se on-line! \nCena pro rok 2023: \nOsoba pečující: 9 990\,- Kč\nDítě v pěstounské péči: 7 190\,- Kč\nDalší dospělý bez vzdělávání: 1 204\,- Kč\nDalší dospělý s účastí na vzdělávání: 1 454\,- Kč\nDalší dítě : 1 454\,- Kč \nSoučástí celkové ceny je stravování v hodnotě 680\,- Kč osoba / pobyt.
URL:https://leccos.cz/akce/jarni-vzdelavaci-pobyt-pro-pestouny/
LOCATION:Česká republika
CATEGORIES:Pro pěstouny
END:VEVENT
BEGIN:VEVENT
DTSTART;TZID=Europe/Prague:20230329T090000
DTEND;TZID=Europe/Prague:20230329T150000
DTSTAMP:20260421T151311
CREATED:20221212T134125Z
LAST-MODIFIED:20221212T134148Z
UID:2086-1680080400-1680102000@leccos.cz
SUMMARY:Kontakt dětí v NRP s biologickou rodinou a krizové momenty - seminář pro pěstouny
DESCRIPTION:Lektorka:\nMgr. Zdeňka Svobodová \nPřihlašte se on-line!
URL:https://leccos.cz/akce/kontakt-deti-v-nrp-s-biologickou-rodinou-a-krizove-momenty-seminar-pro-pestouny/
LOCATION:NZDM Klub Zvonice Český Brod\, Žižkova 508\, Český Brod\, Česká republika\, 282 01
CATEGORIES:Pro pěstouny
END:VEVENT
BEGIN:VEVENT
DTSTART;TZID=Europe/Prague:20230228T090000
DTEND;TZID=Europe/Prague:20230228T150000
DTSTAMP:20260421T151311
CREATED:20221212T133705Z
LAST-MODIFIED:20221212T133705Z
UID:2084-1677574800-1677596400@leccos.cz
SUMMARY:Pravidla a hranice ve výchově dětí - seminář pro pěstouny
DESCRIPTION:Lektorka:\nMgr. Hana Slobodová \nPřihlašte se on-line!
URL:https://leccos.cz/akce/pravidla-a-hranice-ve-vychove-deti-seminar-pro-pestouny/
LOCATION:NZDM Klub Zvonice Český Brod\, Žižkova 508\, Český Brod\, Česká republika\, 282 01
CATEGORIES:Pro pěstouny
END:VEVENT
BEGIN:VEVENT
DTSTART;TZID=Europe/Prague:20221207T090000
DTEND;TZID=Europe/Prague:20221207T120000
DTSTAMP:20260421T151311
CREATED:20220808T152953Z
LAST-MODIFIED:20220914T101722Z
UID:845-1670403600-1670414400@leccos.cz
SUMMARY:Jak mluvit s dětmi - praktické nácviky - seminář pro pěstouny
DESCRIPTION:POZOR!\nZměna místa konání. Seminář proběhne v NZDM Klub Zvonice ( Žižkova 508\, areál Nemocnice Český Brod). \nVzdělávací seminář pro pěstouny v rozsahu 6 hodin. \nLektorka: Mgr. Ondřej Máslo
URL:https://leccos.cz/akce/jak-mluvit-s-detmi-prakticke-nacviky-seminar-pro-pestouny-2/
LOCATION:NZDM Klub Zvonice Český Brod\, Žižkova 508\, Český Brod\, Česká republika\, 282 01
CATEGORIES:Pro pěstouny
END:VEVENT
BEGIN:VEVENT
DTSTART;TZID=Europe/Prague:20221102T090000
DTEND;TZID=Europe/Prague:20221102T120000
DTSTAMP:20260421T151311
CREATED:20220808T152701Z
LAST-MODIFIED:20220914T101629Z
UID:840-1667379600-1667390400@leccos.cz
SUMMARY:Zvládaní problematických situací ve škole - seminář pro pěstouny
DESCRIPTION:POZOR!\nZměna místa konání. Seminář proběhne v NZDM Klub Zvonice ( Žižkova 508\, areál Nemocnice Český Brod). \nVzdělávací seminář pro pěstouny v rozsahu 6 hodin. \nLektorka: Mgr. Zdeňka Svobodová
URL:https://leccos.cz/akce/zvladani-problematickych-situaci-ve-skole-seminar-pro-pestouny-2/
LOCATION:NZDM Klub Zvonice Český Brod\, Žižkova 508\, Český Brod\, Česká republika\, 282 01
CATEGORIES:Pro pěstouny
END:VEVENT
BEGIN:VEVENT
DTSTART;VALUE=DATE:20220930
DTEND;VALUE=DATE:20221003
DTSTAMP:20260421T151311
CREATED:20220808T152142Z
LAST-MODIFIED:20220926T094512Z
UID:832-1664496000-1664755199@leccos.cz
SUMMARY:Podzimní vzdělávací seminář pro pěstouny
DESCRIPTION:Tento vzdělávací víkendový seminář je již PLNĚ OBSAZEN!\nOd 30. 8. 2022 přijímáme pouze náhradníky. \nRS Kletečná\, Kletečná  č. o. 72\, 396 01 Humpolec \nTéma: Šikana ve škole – rizika\, dopady a řešení \nLektor: Mgr. Roksana Táborská (roz. Vintoniv) \nBěhem vzdělávání pěstounů je zajištěna celodenní péče o děti a animační program. \nCeny:\nOsoba pečující 9790 Kč (zahrnuje vzdělávání\, ubytování a stravu) \nDítě v pěstounské péči 7190 Kč (zahrnuje animační program\, ubytování a stravu) \nSoučástí celkové ceny je částka za stravování 900 Kč – hradí osoby pečující. Strava zahrnuje plnou penzi (děti 5× denně) a pitný režim. \nDalší dospělý (bez vzdělávání) 2700 Kč (zahrnuje ubytování a stravu) + případně symbolická částka za účast na vzdělávání ve výši 240 Kč. Lze uhradit na místě. \nDalší dítě 2840 Kč (zahrnuje animační program\, ubytování a stravu). \nMožnost zajištění ubytování v RS Kletečná už od čtvrtka (+ večeře a páteční snídaně)\, úhrada na fakturu. \nPŘIHLAŠTE SE ZDE!\nUzávěrka přihlášek 17. 6. 2022.\nKontakt pro další informace\, přihlášení\, rezervace:\nVěra Chamradová\ntel.: 734 108 096 e-mail: darci@leccos.cz
URL:https://leccos.cz/akce/832/
LOCATION:Kletečná č. o. 72\, Humpolec\, 396 01
CATEGORIES:Pro pěstouny
END:VEVENT
END:VCALENDAR