BEGIN:VCALENDAR
VERSION:2.0
PRODID:-//LECCOS, z. s. - ECPv6.15.19//NONSGML v1.0//EN
CALSCALE:GREGORIAN
METHOD:PUBLISH
X-WR-CALNAME:LECCOS, z. s.
X-ORIGINAL-URL:https://leccos.cz
X-WR-CALDESC:Akce na LECCOS, z. s.
REFRESH-INTERVAL;VALUE=DURATION:PT1H
X-Robots-Tag:noindex
X-PUBLISHED-TTL:PT1H
BEGIN:VTIMEZONE
TZID:Europe/Prague
BEGIN:DAYLIGHT
TZOFFSETFROM:+0100
TZOFFSETTO:+0200
TZNAME:CEST
DTSTART:20240331T010000
END:DAYLIGHT
BEGIN:STANDARD
TZOFFSETFROM:+0200
TZOFFSETTO:+0100
TZNAME:CET
DTSTART:20241027T010000
END:STANDARD
BEGIN:DAYLIGHT
TZOFFSETFROM:+0100
TZOFFSETTO:+0200
TZNAME:CEST
DTSTART:20250330T010000
END:DAYLIGHT
BEGIN:STANDARD
TZOFFSETFROM:+0200
TZOFFSETTO:+0100
TZNAME:CET
DTSTART:20251026T010000
END:STANDARD
BEGIN:DAYLIGHT
TZOFFSETFROM:+0100
TZOFFSETTO:+0200
TZNAME:CEST
DTSTART:20260329T010000
END:DAYLIGHT
BEGIN:STANDARD
TZOFFSETFROM:+0200
TZOFFSETTO:+0100
TZNAME:CET
DTSTART:20261025T010000
END:STANDARD
END:VTIMEZONE
BEGIN:VEVENT
DTSTART;TZID=Europe/Prague:20250428T150000
DTEND;TZID=Europe/Prague:20250428T170000
DTSTAMP:20260421T220522
CREATED:20250403T202557Z
LAST-MODIFIED:20250403T202557Z
UID:6575-1745852400-1745859600@leccos.cz
SUMMARY:Výroba ptačí budky - workshop
DESCRIPTION:Zveme vás do NZDM Klub Zvonice v Českém Brodě na dílnu s názvem Výroba ptačí budky\, která se uskuteční v pondělí 28. dubna 2025 od 15.00 hodin jako třetí díl tématu měsíce JARNÍ TVOŘENÍ. Přijďte si vyzkoušet práci se dřevem pod vedením lektora. Dílna je zdarma a je otevřená všem zájemcům bez ohledu na to\, zda chodí do Zvonice nebo ne.\nNabízíme také individuální sociální poradenství pro zájemce do 26 let v časech od 14.00 do 15.00 hodin a od 17.00 do 18.00 hodin.
URL:https://leccos.cz/akce/vyroba-ptaci-budky-workshop/
LOCATION:NZDM Klub Zvonice Český Brod\, Žižkova 508\, Český Brod\, Česká republika\, 282 01
CATEGORIES:Pro děti a mládež
ATTACH;FMTTYPE=image/jpeg:https://leccos.cz/wp-content/uploads/2025/04/250428.jpg
END:VEVENT
BEGIN:VEVENT
DTSTART;TZID=Europe/Prague:20250424T140000
DTEND;TZID=Europe/Prague:20250424T180000
DTSTAMP:20260421T220522
CREATED:20250303T090414Z
LAST-MODIFIED:20250303T090414Z
UID:6348-1745503200-1745517600@leccos.cz
SUMMARY:Klubová olympiáda
DESCRIPTION:Baví tě šipky\, curling\, kuželky nebo hod na cíl? \nTak se přihlaš na Klubovou olympiádu. \nPřijď si zasoutěžit a změřit síly s ostatními! \nAkce se koná ve čtvrtek 24. 4. 2025 a začínáme ve 14 hod. \nNa akci je nutné se přihlásit na klubu a počet míst je omezen! \nOdevzdání přihlášek do 21. 4. 2025! \nKlub bude v této době dostupný pouze pro přihlášené děti.
URL:https://leccos.cz/akce/klubova-olympiada/
LOCATION:NZDM Klub Zvonice Poděbrady\, Družstevní 1461/III\, Poděbrady\, 29001\, Česká republika
CATEGORIES:Pro děti a mládež
ATTACH;FMTTYPE=image/png:https://leccos.cz/wp-content/uploads/2025/03/Klubova-olympiada.png
END:VEVENT
BEGIN:VEVENT
DTSTART;TZID=Europe/Prague:20250417T080000
DTEND;TZID=Europe/Prague:20250417T150000
DTSTAMP:20260421T220522
CREATED:20250317T095922Z
LAST-MODIFIED:20250317T095922Z
UID:6404-1744876800-1744902000@leccos.cz
SUMMARY:Velikonoční prázdniny ve Skanzenu Kouřim
DESCRIPTION:Velikonoční prázdniny odstartujeme výletem do Skanzenu Kouřim. \nVýlet se bude konat 17. 4. 2025. \nSraz bude na vlakovém nádraží v Poděbradech v 8:00! \nAkce je zdarma. \nPřihlášky k vyzvednutí na klubu.
URL:https://leccos.cz/akce/velikonocni-prazdniny-ve-skanzenu-kourim/
LOCATION:NZDM Klub Zvonice Poděbrady\, Družstevní 1461/III\, Poděbrady\, 29001\, Česká republika
CATEGORIES:Pro děti a mládež
ATTACH;FMTTYPE=image/jpeg:https://leccos.cz/wp-content/uploads/2025/03/Velikonocni-prazdniny-ve-Skanzenu-Kourim.jpg
END:VEVENT
BEGIN:VEVENT
DTSTART;TZID=Europe/Prague:20250415T180000
DTEND;TZID=Europe/Prague:20250415T180000
DTSTAMP:20260421T220522
CREATED:20250403T202229Z
LAST-MODIFIED:20250403T202737Z
UID:6571-1744740000-1744740000@leccos.cz
SUMMARY:Velikonoční jidáše a povídání o Velikonocích - workshop
DESCRIPTION:Zveme vás do NZDM Klub Zvonice v Českém Brodě na pečení velikonočních jidášů a povídání o Velikonocích\, které se uskuteční v úterý 15. dubna 2025 od 15.00 hodin. Přijďte si užít jarní tvoření a dozvědět se více o velikonočních tradicích. Tato akce je zdarma a otevřená všem zájemcům bez ohledu na to\, zda chodí do Zvonice nebo ne.\nNabízíme také individuální sociální poradenství pro zájemce do 26 let v časech od 14.00 do 15.00 hodin a od 17.00 do 18.00 hodin.
URL:https://leccos.cz/akce/velikonocni-jidase-a-povidani-o-velikonocich-workshop/
LOCATION:NZDM Klub Zvonice Český Brod\, Žižkova 508\, Český Brod\, Česká republika\, 282 01
CATEGORIES:Pro děti a mládež
ATTACH;FMTTYPE=image/jpeg:https://leccos.cz/wp-content/uploads/2025/04/250415.jpg
END:VEVENT
BEGIN:VEVENT
DTSTART;TZID=Europe/Prague:20250414T150000
DTEND;TZID=Europe/Prague:20250414T170000
DTSTAMP:20260421T220522
CREATED:20250401T104845Z
LAST-MODIFIED:20250401T104845Z
UID:6505-1744642800-1744650000@leccos.cz
SUMMARY:Pečení velikonočního zajíčka
DESCRIPTION:V pondělí 14. 4. 2025 nás čeká na Klubu pečení velikonočního zajíčka. \nZačínáme v 15 hod.!
URL:https://leccos.cz/akce/peceni-velikonocniho-zajicka/
LOCATION:NZDM Klub Zvonice Poděbrady\, Družstevní 1461/III\, Poděbrady\, 29001\, Česká republika
CATEGORIES:Pro děti a mládež
ATTACH;FMTTYPE=image/png:https://leccos.cz/wp-content/uploads/2025/04/Peceni-velikonocniho-zajicka.png
END:VEVENT
BEGIN:VEVENT
DTSTART;TZID=Europe/Prague:20250411T170000
DTEND;TZID=Europe/Prague:20250411T190000
DTSTAMP:20260421T220522
CREATED:20250228T111721Z
LAST-MODIFIED:20250407T151807Z
UID:6342-1744390800-1744398000@leccos.cz
SUMMARY:ZRUŠENO! Agrese - vzdělávací pořad z cyklu Maják
DESCRIPTION:Z důvodu účasti týmu NZDM Klub Zvonice Český Brod na návazné akci v Lize férového fotbalu jsme nuceni Maják zrušit. Omlouvám se a děkujeme za pochopení.\n \nZveme všechny děti starší 13 let\, jejich rodiče a další zájemce na další setkání v rámci série vzdělávacích pořadů Maják\, které se uskuteční v NZDM Klubu Zvonice\, Žižkova 508 v Českém Brodě. Workshop na téma AGRESE se bude konat v pátek 11. dubna 2025 od 17.00 hodin. Tématem nás provede psychoterapeutka Mgr. Gítha Rúthová. \nSpolečně si popovídáme o tom\, co je to agrese\, proč ji někdy cítíme a jak ji můžeme zvládnout bez zbytečných konfliktů. Vztek a agrese není jen něco špatného – je to přirozená součást našeho života. Důležité je naučit se je správně používat. Ukážeme si\, kdy nám agrese pomáhá a kdy už nám spíš škodí. Prozkoumáme\, jak agresi rozpoznat\, kdy je lepší situaci řešit jinak. Vyzkoušíme si způsoby\, jak zvládat silné emoce tak\, aby neubližovaly nám ani ostatním. \nChcete se naučit ovládat svou sílu? Zajímá vás\, jak řešit konflikty jinak než křikem a hádkou? Přijďte si zahrát\, popovídat a naučit se něco nového o sobě i svých emocích.
URL:https://leccos.cz/akce/agrese-vzdelavaci-porad-z-cyklu-majak/
LOCATION:NZDM Klub Zvonice Český Brod\, Žižkova 508\, Český Brod\, Česká republika\, 282 01
CATEGORIES:Pro děti a mládež,Pro rodiče,Pro rodiny,Pro širokou veřejnost
END:VEVENT
BEGIN:VEVENT
DTSTART;TZID=Europe/Prague:20250411T133000
DTEND;TZID=Europe/Prague:20250411T200000
DTSTAMP:20260421T220522
CREATED:20250403T203653Z
LAST-MODIFIED:20250403T203653Z
UID:6584-1744378200-1744401600@leccos.cz
SUMMARY:Zápas Fair Play Point ligy
DESCRIPTION:Místo akce: Základní škola\, Praha 10\, Gutova 1987/39\nKdy: pátek 11. 4. 2025; 13.30 na vlakovém nádraží Český Brod (odjez vlaku je v 13:40). Předpokládaný návrat z akce je kolem 20.30 hodin (přesný čas bude upřesněn formou SMS).\nZápas se bude konat venku\, zvolte tedy prosím vhodnou obuv (tenisky\, turfy)\, kopačky jsou zakázané. Vhodné bude i teplé sportovní oblečení (například tepláky a mikina). Přihlášku je nutné odevzdat nejpozději v úterý 8. 4. 2025\nJestliže dítě na sraz nedorazí\, je třeba ho předem omluvit na telefonu 725 303 131.\nV tento den je v NZDM Klubu Zvonice zavřeno!
URL:https://leccos.cz/akce/zapas-fair-play-point-ligy-7/
LOCATION:Česká republika
CATEGORIES:Pro děti a mládež
ATTACH;FMTTYPE=image/jpeg:https://leccos.cz/wp-content/uploads/2025/04/250411.jpg
END:VEVENT
BEGIN:VEVENT
DTSTART;TZID=Europe/Prague:20250407T150000
DTEND;TZID=Europe/Prague:20250407T170000
DTSTAMP:20260421T220522
CREATED:20250403T201353Z
LAST-MODIFIED:20250403T202312Z
UID:6559-1744038000-1744045200@leccos.cz
SUMMARY:Výroba svíček a balení zboží na prodejní stánek - workshop
DESCRIPTION:Zveme vás do NZDM Klub Zvonice v Českém Brodě na kreativní dílnu s názvem Výroba svíček a balení zboží na prodejní stánek\, která se uskuteční v pondělí 7. dubna 2025 od 15.00 hodin. Aktivita je úvodním blokem do tématu měsíce s názvem JARNÍ TVOŘENÍ a je zdarma\, otevřená všem zájemcům\, bez ohledu na to\, zda pravidelně navštěvují klub. Svíčky a zboží společně připravíme na prodejní stánek na Jarmark ve Štolmíři\, kde budeme prezentovat náš spolek v sobotu 12. dubna 2025 od 10.00 do 15.00 hodin.  Nabízíme také individuální sociální poradenství pro zájemce do 26 let\, které bude k dispozici dle potřeby od 14.00 do 15.00 hodin a od 17.00 do 18.00 hodin. 
URL:https://leccos.cz/akce/vyroba-svicek-a-baleni-zbozi-na-prodejni-stanek-workshop/
LOCATION:NZDM Klub Zvonice Český Brod\, Žižkova 508\, Český Brod\, Česká republika\, 282 01
CATEGORIES:Pro děti a mládež
ATTACH;FMTTYPE=image/jpeg:https://leccos.cz/wp-content/uploads/2025/04/250407.jpg
END:VEVENT
BEGIN:VEVENT
DTSTART;TZID=Europe/Prague:20250407T150000
DTEND;TZID=Europe/Prague:20250407T170000
DTSTAMP:20260421T220522
CREATED:20250314T090405Z
LAST-MODIFIED:20250314T090405Z
UID:6400-1744038000-1744045200@leccos.cz
SUMMARY:Velikonoční tvoření
DESCRIPTION:V pondělí 7. 4. 2025 proběhne na klubu velikonoční tvoření. \nZačínáme v 15:00! \nPřineste si vyfouknutá vajíčka\, pokud můžete.
URL:https://leccos.cz/akce/velikonocni-tvoreni-2/
LOCATION:NZDM Klub Zvonice Poděbrady\, Družstevní 1461/III\, Poděbrady\, 29001\, Česká republika
CATEGORIES:Pro děti a mládež
ATTACH;FMTTYPE=image/jpeg:https://leccos.cz/wp-content/uploads/2025/03/Velikonocni-tvoreni.jpg
END:VEVENT
BEGIN:VEVENT
DTSTART;TZID=Europe/Prague:20250404T150000
DTEND;TZID=Europe/Prague:20250404T170000
DTSTAMP:20260421T220522
CREATED:20250403T203230Z
LAST-MODIFIED:20250403T203230Z
UID:6581-1743778800-1743786000@leccos.cz
SUMMARY:Fotbalový trénink Fair Play Point ligy
DESCRIPTION:S dětmi z NZDM Klub Zvonice Český Brod jsme se zapojili do Fair Play Point ligy. Cílem této aktivity je účastníky naučit hrát férově nejen na hřišti\, ale i v běžném životě. Přímo na hřišti společně rozvíjíme u mladých lidí hodnoty jako respekt\, zodpovědnost a schopnost dohodnout se.\nV dubnu 2025 nás čeká fotbalový trénink v pátek 4. dubna od 15.00 hodin a v pátek 25. dubna od 14.00 hodin. Jednou za měsíc jezdíme do Prahy na zápasy.\nPokud máte zájem chodit na fotbalové tréninky a jezdit na zápasy\, oslovte naše pracovníky NZDM\, tel.: 602 446 195 (k dispozici v době otevření klubu)\, e-mail: zvonice@leccos.cz
URL:https://leccos.cz/akce/fotbalovy-trenink-fair-play-point-ligy-6/
LOCATION:NZDM Klub Zvonice Český Brod\, Žižkova 508\, Český Brod\, Česká republika\, 282 01
CATEGORIES:Pro děti a mládež
END:VEVENT
BEGIN:VEVENT
DTSTART;TZID=Europe/Prague:20250403T150000
DTEND;TZID=Europe/Prague:20250403T170000
DTSTAMP:20260421T220522
CREATED:20250303T090836Z
LAST-MODIFIED:20250303T090836Z
UID:6351-1743692400-1743699600@leccos.cz
SUMMARY:Ukliďme Česko s NZDM Klub Zvonice Poděbrady
DESCRIPTION:Zajímáš se o ekologii nebo chceš jen udělat dobrý skutek? \nPojď s námi ve čtvrtek 3. 4. 2025 na úklid kolem klubu a na Žižkov. \nSraz na klubu je v 15:00. Úklidová akce bude trvat do 17:00. \nPytle\, rukavice a sladká odměna pro pomocníky budou zajištěny!
URL:https://leccos.cz/akce/uklidme-cesko-s-nzdm-klub-zvonice-podebrady-2/
LOCATION:NZDM Klub Zvonice Poděbrady\, Družstevní 1461/III\, Poděbrady\, 29001\, Česká republika
CATEGORIES:Pro děti a mládež
ATTACH;FMTTYPE=image/png:https://leccos.cz/wp-content/uploads/2025/03/Uklid-s-NZDM-Klub-Zvonice-Podebrady-1.png
END:VEVENT
BEGIN:VEVENT
DTSTART;TZID=Europe/Prague:20250402T160000
DTEND;TZID=Europe/Prague:20250528T173000
DTSTAMP:20260421T220522
CREATED:20250401T105208Z
LAST-MODIFIED:20250602T115417Z
UID:6508-1743609600-1748453400@leccos.cz
SUMMARY:Sportovky
DESCRIPTION:Je to tady! Na jarní Sportovky se můžete těšit každou středu od dubna do června v čase 16:00 – 17:30. \nBudeme se pravidelně potkávat na hřišti Na Valech. \nZačínáme 2. 4. 2025!
URL:https://leccos.cz/akce/sportovky/
LOCATION:Hřiště „Na Valech“ u ZŠ Václava Havla\, Poděbrady\, Na Valech 45\, Poděbrady\, středočeský\, 29001\, Česká republika
CATEGORIES:Pro děti a mládež
ATTACH;FMTTYPE=image/png:https://leccos.cz/wp-content/uploads/2025/04/Jarni-sportovky.png
END:VEVENT
BEGIN:VEVENT
DTSTART;TZID=Europe/Prague:20250326T160000
DTEND;TZID=Europe/Prague:20250326T170000
DTSTAMP:20260421T220522
CREATED:20250211T094914Z
LAST-MODIFIED:20250227T115318Z
UID:6146-1743004800-1743008400@leccos.cz
SUMMARY:Fit středy ve Zvonici
DESCRIPTION:V klubu proběhnou dvě Fit středy – 26. 2. a 26. 3. 2025. \nPokud se chceš protáhnout a rozhýbat se\, tak se určitě zastav! \nFit středy budou probíhat v čase 16:00 – 17:00!
URL:https://leccos.cz/akce/fit-stredy-ve-zvonici-2/
LOCATION:NZDM Klub Zvonice Poděbrady\, Družstevní 1461/III\, Poděbrady\, 29001\, Česká republika
CATEGORIES:Pro děti a mládež
ATTACH;FMTTYPE=image/jpeg:https://leccos.cz/wp-content/uploads/2025/02/Fit-stredy-ve-Zvonici.jpg
END:VEVENT
BEGIN:VEVENT
DTSTART;TZID=Europe/Prague:20250324T170000
DTEND;TZID=Europe/Prague:20250324T180000
DTSTAMP:20260421T220522
CREATED:20250223T164925Z
LAST-MODIFIED:20250223T164925Z
UID:6293-1742835600-1742839200@leccos.cz
SUMMARY:OSPOD – vzdělávací pořad z cyklu Maják
DESCRIPTION:Zveme všechny děti starší 13 let\, jejich rodiče a další zájemce na další setkání v rámci série vzdělávacích pořadů Maják\, které se uskuteční v NZDM Klubu Zvonice\, Žižkova 508 v Českém Brodě. Workshop na téma OSPOD se bude konat v pondělí 24. března 2025 od 17.00 hodin. \nTématem nás provede Bc. Gabriela Janáková\, DiS.\, kurátorka pro děti a mládež z Odboru sociálních věcí a školství Městského úřadu Český Brod.\nCílem tohoto workshopu je poskytnout účastníkům důkladné porozumění činnosti OSPOD (Odbor sociálně-právní ochrany dětí). Účastníci se dozvědí\, jaké služby a podporu OSPOD nabízí\, jaké jsou jejich práva a povinnosti v rámci sociálně-právní ochrany dětí\, a jak mohou OSPOD využít v případě potřeby. Workshop bude také zaměřen na prevenci a řešení problémů spojených s rodinnými a sociálními situacemi\, které mohou ovlivnit děti a mládež. Účastníci získají praktické rady a informace o tom\, kam se mohou obrátit o pomoc a jaké kroky podniknout v krizových situacích. \nVstup je zdarma a akce je otevřena všem zájemcům.\nSledujte nás na Instagramu: @nzdmzvonicecb
URL:https://leccos.cz/akce/ospod-vzdelavaci-porad-z-cyklu-majak/
LOCATION:NZDM Klub Zvonice Český Brod\, Žižkova 508\, Český Brod\, Česká republika\, 282 01
CATEGORIES:Pro děti a mládež,Pro rodiče,Pro rodiny,Pro širokou veřejnost
ATTACH;FMTTYPE=image/jpeg:https://leccos.cz/wp-content/uploads/2025/02/250324_majak.jpg
END:VEVENT
BEGIN:VEVENT
DTSTART;TZID=Europe/Prague:20250321T140000
DTEND;TZID=Europe/Prague:20250321T160000
DTSTAMP:20260421T220522
CREATED:20250223T164113Z
LAST-MODIFIED:20250223T164113Z
UID:6288-1742565600-1742572800@leccos.cz
SUMMARY:Ukliďme Pošembeří
DESCRIPTION:Zveme vás do NZDM Klub Zvonice v Českém Brodě na akci Ukliďme Pošembeří\, která se uskuteční v pátek 21. března 2025 od 14.00 hodin. Připojte se k nám na dobrovolnickou akci na podporu životního prostředí\, kde společně uklidíme park v areálu nemocnice. Program je součástí našeho březnového tématu ekologie. \nAkce je zdarma a je otevřená všem zájemcům\, bez ohledu na to\, zda pravidelně navštěvují klub. Individuální sociální poradenství pro zájemce do 26 let bude k dispozici dle potřeby od 16.00 do 18.00 hodin.
URL:https://leccos.cz/akce/uklidme-posemberi/
LOCATION:NZDM Klub Zvonice Český Brod\, Žižkova 508\, Český Brod\, Česká republika\, 282 01
CATEGORIES:Pro děti a mládež
ATTACH;FMTTYPE=image/jpeg:https://leccos.cz/wp-content/uploads/2025/02/250321.jpg
END:VEVENT
BEGIN:VEVENT
DTSTART;TZID=Europe/Prague:20250317T150000
DTEND;TZID=Europe/Prague:20250317T170000
DTSTAMP:20260421T220522
CREATED:20250223T163747Z
LAST-MODIFIED:20250223T163747Z
UID:6286-1742223600-1742230800@leccos.cz
SUMMARY:Recy věci - workshop
DESCRIPTION:Zveme vás do NZDM Klub Zvonice v Českém Brodě na kreativní dílnu s názvem Recy věci\, která se uskuteční v pondělí 17. března 2025 od 15.00 hodin. Přijďte se naučit\, jak recyklovat a tvořit nové věci z použitých materiálů v rámci našeho měsíčního tématu ekologie. \nAkce je zdarma a je otevřená všem zájemcům\, bez ohledu na to\, zda pravidelně navštěvují klub. Individuální sociální poradenství pro zájemce do 26 let bude k dispozici dle potřeby od 14.00 do 15.00 hodin. Jinak dle potřeby. 
URL:https://leccos.cz/akce/recy-veci-workshop/
LOCATION:NZDM Klub Zvonice Český Brod\, Žižkova 508\, Český Brod\, Česká republika\, 282 01
CATEGORIES:Pro děti a mládež
ATTACH;FMTTYPE=image/jpeg:https://leccos.cz/wp-content/uploads/2025/02/250317.jpg
END:VEVENT
BEGIN:VEVENT
DTSTART;TZID=Europe/Prague:20250314T140000
DTEND;TZID=Europe/Prague:20250314T160000
DTSTAMP:20260421T220522
CREATED:20250223T164437Z
LAST-MODIFIED:20250223T164437Z
UID:6291-1741960800-1741968000@leccos.cz
SUMMARY:Fotbalový trénink Fair Play Point ligy
DESCRIPTION:S dětmi z NZDM Klub Zvonice Český Brod jsme se zapojili do Fair Play Point ligy. Cílem této aktivity je účastníky naučit hrát férově nejen na hřišti\, ale i v běžném životě. Přímo na hřišti společně rozvíjíme u mladých lidí hodnoty jako respekt\, zodpovědnost a schopnost dohodnout se.\nV únoru 2025 nás čeká fotbalový trénink v pátek 14. a 23. března 2025\, vždy v pátek od 14.00 hodin. . Jednou za měsíc jezdíme do Prahy na zápasy.\nPokud máte zájem chodit na fotbalové tréninky a jezdit na zápasy\, oslovte naše pracovníky NZDM\, tel.: 602 446 195 (k dispozici v době otevření klubu)\, e-mail: zvonice@leccos.cz
URL:https://leccos.cz/akce/fotbalovy-trenink-fair-play-point-ligy-5/
LOCATION:NZDM Klub Zvonice Český Brod\, Žižkova 508\, Český Brod\, Česká republika\, 282 01
CATEGORIES:Pro děti a mládež
ATTACH;FMTTYPE=image/jpeg:https://leccos.cz/wp-content/uploads/2025/02/fotbal-1.jpg
END:VEVENT
BEGIN:VEVENT
DTSTART;TZID=Europe/Prague:20250313T160000
DTEND;TZID=Europe/Prague:20250313T180000
DTSTAMP:20260421T220522
CREATED:20250225T100207Z
LAST-MODIFIED:20250225T100207Z
UID:6312-1741881600-1741888800@leccos.cz
SUMMARY:Filmový klub
DESCRIPTION:Ve čtvrtek 13. 3. 2025 proběhne další Filmový klub. \nPromítání začíná v 16:00!
URL:https://leccos.cz/akce/filmovy-klub-3/
LOCATION:NZDM Klub Zvonice Poděbrady\, Družstevní 1461/III\, Poděbrady\, 29001\, Česká republika
CATEGORIES:Pro děti a mládež
ATTACH;FMTTYPE=image/jpeg:https://leccos.cz/wp-content/uploads/2025/02/Filmovy-klub.jpg
END:VEVENT
BEGIN:VEVENT
DTSTART;TZID=Europe/Prague:20250311T160000
DTEND;TZID=Europe/Prague:20250311T170000
DTSTAMP:20260421T220522
CREATED:20250223T163424Z
LAST-MODIFIED:20250223T163438Z
UID:6283-1741708800-1741712400@leccos.cz
SUMMARY:Udržitelnost - workshop
DESCRIPTION:Zveme vás do NZDM Klub Zvonice v Českém Brodě na inspirativní setkání s názvem Udržitelnost\, které se uskuteční v úterý 11. března 2025 od 16.00 hodin. Je také úvodním blokem do tématu měsíce s názvem EKOLOGIE. Přijďte se ponořit do světa ekologie a udržitelnosti\, kde se dozvíte\, jak můžete přispět k ochraně naší planety. Tato akce je zdarma a otevřená všem zájemcům\, bez ohledu na to\, zda pravidelně navštěvují klub. Navíc nabízíme individuální sociální poradenství pro zájemce do 26 let\, které bude k dispozici dle potřeby od 14:00 do 16:00 hodin.
URL:https://leccos.cz/akce/udrzitelnost-workshop/
LOCATION:NZDM Klub Zvonice Český Brod\, Žižkova 508\, Český Brod\, Česká republika\, 282 01
CATEGORIES:Pro děti a mládež
ATTACH;FMTTYPE=image/jpeg:https://leccos.cz/wp-content/uploads/2025/02/250311.jpg
END:VEVENT
BEGIN:VEVENT
DTSTART;TZID=Europe/Prague:20250310T150000
DTEND;TZID=Europe/Prague:20250310T170000
DTSTAMP:20260421T220522
CREATED:20250225T095106Z
LAST-MODIFIED:20250225T095106Z
UID:6309-1741618800-1741626000@leccos.cz
SUMMARY:Pečení cupcakes
DESCRIPTION:V pondělí 10. 3. 2025 se naučíme připravit výborné cupcakes! \nZačínáme v 15:00!
URL:https://leccos.cz/akce/peceni-cupcakes/
LOCATION:NZDM Klub Zvonice Poděbrady\, Družstevní 1461/III\, Poděbrady\, 29001\, Česká republika
CATEGORIES:Pro děti a mládež
ATTACH;FMTTYPE=image/jpeg:https://leccos.cz/wp-content/uploads/2025/02/Cupcaky.jpg
END:VEVENT
BEGIN:VEVENT
DTSTART;TZID=Europe/Prague:20250307T140000
DTEND;TZID=Europe/Prague:20250307T180000
DTSTAMP:20260421T220522
CREATED:20250223T162859Z
LAST-MODIFIED:20250223T162859Z
UID:6278-1741356000-1741370400@leccos.cz
SUMMARY: Míčové hry
DESCRIPTION:Zveme vás do NZDM Klub Zvonice v Českém Brodě na akci Míčové hry\, která se bude konat v pátek 7. března 2025 od 14.00 hodin. Přijďte si zahrát různé míčové hry a užít si spoustu zábavy a pohybu. Program je určený pro všechny věkové kategorie a slibuje spoustu zábavy a pohybu. \nAkce je zdarma a je určena všem zájemcům bez ohledu na to\, zda do klubu chodí nebo ne. Individuální sociální poradenství pro zájemce do 26 let věku bude probíhat dle potřeby od 16.00 do 18.00 hodin.
URL:https://leccos.cz/akce/micove-hry/
LOCATION:NZDM Klub Zvonice Český Brod\, Žižkova 508\, Český Brod\, Česká republika\, 282 01
CATEGORIES:Pro děti a mládež
ATTACH;FMTTYPE=image/jpeg:https://leccos.cz/wp-content/uploads/2025/02/250307.jpg
END:VEVENT
BEGIN:VEVENT
DTSTART;TZID=Europe/Prague:20250305T140000
DTEND;TZID=Europe/Prague:20250305T180000
DTSTAMP:20260421T220522
CREATED:20250303T090027Z
LAST-MODIFIED:20250303T090027Z
UID:6345-1741183200-1741197600@leccos.cz
SUMMARY:Lego hry na klubu
DESCRIPTION:Baví tě stavit lego? \nTak doraž ve středu 5. 3.2025 a ve čtvrtek 6. 3. 2025 na klub! \nZačínáme vždy ve 14 hod.
URL:https://leccos.cz/akce/lego-hry-na-klubu-2/
LOCATION:NZDM Klub Zvonice Poděbrady\, Družstevní 1461/III\, Poděbrady\, 29001\, Česká republika
CATEGORIES:Pro děti a mládež
ATTACH;FMTTYPE=image/png:https://leccos.cz/wp-content/uploads/2025/03/Lego.png
END:VEVENT
BEGIN:VEVENT
DTSTART;TZID=Europe/Prague:20250304T113000
DTEND;TZID=Europe/Prague:20250304T170000
DTSTAMP:20260421T220522
CREATED:20250223T162552Z
LAST-MODIFIED:20250223T162552Z
UID:6269-1741087800-1741107600@leccos.cz
SUMMARY:Výlet do Kolína
DESCRIPTION:V době jarních prázdnin jsme pro děti z NZDM Klub Zvonice Český Brod připravili vlet do Kolína. Koná se v úterý 4. března 2025. Sejdeme se před vlakovým nádražím11:35. Čeká nás procházka historickým centrem města. Po procházce si zahrajeme bowling a poté bude rozchod ve Futuru. Cena: 100 Kč (pouze na přihlášky).
URL:https://leccos.cz/akce/vylet-do-kolina/
LOCATION:Česká republika
CATEGORIES:Pro děti a mládež
ATTACH;FMTTYPE=image/jpeg:https://leccos.cz/wp-content/uploads/2025/02/250304.jpg
END:VEVENT
BEGIN:VEVENT
DTSTART;TZID=Europe/Prague:20250228T133000
DTEND;TZID=Europe/Prague:20250228T203000
DTSTAMP:20260421T220522
CREATED:20250202T145222Z
LAST-MODIFIED:20250224T110445Z
UID:6102-1740749400-1740774600@leccos.cz
SUMMARY:Zápas Fair Play Point ligy
DESCRIPTION:Místo akce: Střední průmyslová škola stavební Josefa Gočára\, Družstevní ochoz 1659/3\, 140 00 Praha 4-Nusle\nKdy: pátek 28 2. 2025; sraz ve 13.30\nPředpokládaný návrat z akce je kolem 20.30 hodin (přesný čas bude upřesněn formou SMS). Vybavte děti svačinou\, pitím a sportovní obuví. Více informací na telefonu 725 303 131 u Elisabeth Anny Staňkové\, DiS. Na akci platí stejný pravidla jako v NZDM. V případě vážného porušení pravidel Vás budeme kontaktovat. \nPřihlášku je nutné odevzdat nejpozději v úterý 25. 2. 2025\nJestliže dítě na sraz nedorazí\, je třeba ho předem omluvit na telefonu 725 303 131! \nV tento den je v NZDM Klubu Zvonice zavřeno!
URL:https://leccos.cz/akce/zapas-fair-play-point-ligy-6/
LOCATION:Česká republika
CATEGORIES:Pro děti a mládež
ATTACH;FMTTYPE=image/jpeg:https://leccos.cz/wp-content/uploads/2025/02/FPR_250228.jpg
END:VEVENT
BEGIN:VEVENT
DTSTART;TZID=Europe/Prague:20250221T170000
DTEND;TZID=Europe/Prague:20250221T190000
DTSTAMP:20260421T220522
CREATED:20250202T150358Z
LAST-MODIFIED:20250212T171835Z
UID:6104-1740157200-1740164400@leccos.cz
SUMMARY:Závislost – vzdělávací pořad z cyklu Maják
DESCRIPTION:Zveme všechny děti od 13 let\, jejich rodiče a další zájemce na další setkání v rámci série programů primární prevence Maják\, který se uskuteční v NZDM Klubu Zvonice\, Žižkova 508 v Českém Brodě. Workshop na na téma ZÁVISLOST se odstartuje v pátek 21. února 2025 od 17.00 hodin. Program se sociálními pracovníky klubu bude zaměřen na to\, na čem můžeme být závislí\, jak se závislost projevuje a co s tím dělat. Cílem workshopu bude naučit děti a rodiče rozpoznávat spouštěče a rizika závislostí a také získání základního přehledu\, kam se mohou obrátit o pomoc. Vstup je zdarma. \n\n\n\n\n\nSledujte nás na Instagramu: @nzdmzvonicecb
URL:https://leccos.cz/akce/zavislost-vzdelavaci-porad-z-cyklu-majak/
LOCATION:NZDM Klub Zvonice Český Brod\, Žižkova 508\, Český Brod\, Česká republika\, 282 01
CATEGORIES:Pro děti a mládež,Pro rodiče,Pro širokou veřejnost
ATTACH;FMTTYPE=image/jpeg:https://leccos.cz/wp-content/uploads/2025/02/Majak_250221.jpg
END:VEVENT
BEGIN:VEVENT
DTSTART;TZID=Europe/Prague:20250220T153000
DTEND;TZID=Europe/Prague:20250220T173000
DTSTAMP:20260421T220522
CREATED:20250128T100153Z
LAST-MODIFIED:20250202T153018Z
UID:6069-1740065400-1740072600@leccos.cz
SUMMARY:Malování hrnečků a výroba z papíru - workshop
DESCRIPTION:Srdečně vás zveme na workshop zaměřený na propojení rodin ukrajinské komunity s místními rodinami. Akce se uskuteční ve čtvrtek 20. ledna 2025 od 15.30 v prostorách NZDM Klub Zvonice\, Žižkova 508\, Český Brod. Program je určený pro rodiče s dětmi staršími 6 let. Těšit se můžete na malování hrníčků a výrobu z papíru. Veškeré pomůcky\, včetně hrníčků\, budou na místě k dispozici. Vstup je zdarma. \nTěšíme se na vás!
URL:https://leccos.cz/akce/malovani-hrnecku-a-vyroba-z-papiru-workshop/
LOCATION:NZDM Klub Zvonice Český Brod\, Žižkova 508\, Český Brod\, Česká republika\, 282 01
CATEGORIES:Pro děti a mládež,Pro rodiny
ATTACH;FMTTYPE=image/jpeg:https://leccos.cz/wp-content/uploads/2025/01/250220_Dilna.jpg
END:VEVENT
BEGIN:VEVENT
DTSTART;TZID=Europe/Prague:20250220T140000
DTEND;TZID=Europe/Prague:20250220T180000
DTSTAMP:20260421T220522
CREATED:20250210T092538Z
LAST-MODIFIED:20250218T124136Z
UID:6136-1740060000-1740074400@leccos.cz
SUMMARY:Zimní olympiáda
DESCRIPTION:Baví tě šipky\, curling\, kuželky nebo hod na cíl? \nTak se přihlaš na klubovou Zimní olympiádu. \nPřijď si zasoutěžit a změřit síly s ostatními! \nAkce se koná ve čtvrtek 20. 2. 2025 a začínáme ve 14 hod.  \nNa akci je nutné se přihlásit a počet míst je omezen! \nOdevzdání přihlášek do 17. 2. 2025! \nKlub bude v této době dostupný pouze pro přihlášené děti. \n  \nPozor! Z důvodu nízkého počtu přihlášených se akce přesouvá na březen! Termín bude upřesněn.
URL:https://leccos.cz/akce/zimni-olympiada/
LOCATION:NZDM Klub Zvonice Poděbrady\, Družstevní 1461/III\, Poděbrady\, 29001\, Česká republika
CATEGORIES:Pro děti a mládež
ATTACH;FMTTYPE=image/png:https://leccos.cz/wp-content/uploads/2025/02/Zimni-olympiada-1.png
END:VEVENT
BEGIN:VEVENT
DTSTART;TZID=Europe/Prague:20250219T160000
DTEND;TZID=Europe/Prague:20250219T180000
DTSTAMP:20260421T220522
CREATED:20250207T110217Z
LAST-MODIFIED:20250207T110217Z
UID:6123-1739980800-1739988000@leccos.cz
SUMMARY:Filmový klub
DESCRIPTION:Ve středu 19.2.2025 proběhne Filmový klub. \nPromítání začíná v 16:00!
URL:https://leccos.cz/akce/filmovy-klub-2/
LOCATION:NZDM Klub Zvonice Poděbrady\, Družstevní 1461/III\, Poděbrady\, 29001\, Česká republika
CATEGORIES:Pro děti a mládež
ATTACH;FMTTYPE=image/png:https://leccos.cz/wp-content/uploads/2025/02/Filmovy-klub.png
END:VEVENT
BEGIN:VEVENT
DTSTART;TZID=Europe/Prague:20250217T140000
DTEND;TZID=Europe/Prague:20250217T180000
DTSTAMP:20260421T220522
CREATED:20250210T092041Z
LAST-MODIFIED:20250210T092041Z
UID:6131-1739800800-1739815200@leccos.cz
SUMMARY:Lego hry na klubu
DESCRIPTION:Ještě nemáš plány na jarní prázdniny a baví tě stavit lego?  \nTak doraž v pondělí 17. 2. 2025 na klub! \nZačínáme ve 14 hod.
URL:https://leccos.cz/akce/lego-hry-na-klubu/
LOCATION:NZDM Klub Zvonice Poděbrady\, Družstevní 1461/III\, Poděbrady\, 29001\, Česká republika
CATEGORIES:Pro děti a mládež
ATTACH;FMTTYPE=image/png:https://leccos.cz/wp-content/uploads/2025/02/Cas-14-18-hod.png
END:VEVENT
BEGIN:VEVENT
DTSTART;TZID=Europe/Prague:20250213T150000
DTEND;TZID=Europe/Prague:20250213T170000
DTSTAMP:20260421T220522
CREATED:20250207T105500Z
LAST-MODIFIED:20250207T110448Z
UID:6117-1739458800-1739466000@leccos.cz
SUMMARY:Valentýnské tvoření
DESCRIPTION:Ve čtvrtek 13.2.2025 proběhne na klubu Valentýnské tvoření. \nDěti si budou moci vyrobit valentýnku nebo jiný dáreček. \nZačínáme v 15:00!
URL:https://leccos.cz/akce/valentynske-tvoreni-2/
LOCATION:NZDM Klub Zvonice Poděbrady\, Družstevní 1461/III\, Poděbrady\, 29001\, Česká republika
CATEGORIES:Pro děti a mládež
ATTACH;FMTTYPE=image/png:https://leccos.cz/wp-content/uploads/2025/02/Valentynske-tvoreni.png
END:VEVENT
END:VCALENDAR