BEGIN:VCALENDAR
VERSION:2.0
PRODID:-//LECCOS, z. s. - ECPv6.15.19//NONSGML v1.0//EN
CALSCALE:GREGORIAN
METHOD:PUBLISH
X-WR-CALNAME:LECCOS, z. s.
X-ORIGINAL-URL:https://leccos.cz
X-WR-CALDESC:Akce na LECCOS, z. s.
REFRESH-INTERVAL;VALUE=DURATION:PT1H
X-Robots-Tag:noindex
X-PUBLISHED-TTL:PT1H
BEGIN:VTIMEZONE
TZID:Europe/Prague
BEGIN:DAYLIGHT
TZOFFSETFROM:+0100
TZOFFSETTO:+0200
TZNAME:CEST
DTSTART:20230326T010000
END:DAYLIGHT
BEGIN:STANDARD
TZOFFSETFROM:+0200
TZOFFSETTO:+0100
TZNAME:CET
DTSTART:20231029T010000
END:STANDARD
BEGIN:DAYLIGHT
TZOFFSETFROM:+0100
TZOFFSETTO:+0200
TZNAME:CEST
DTSTART:20240331T010000
END:DAYLIGHT
BEGIN:STANDARD
TZOFFSETFROM:+0200
TZOFFSETTO:+0100
TZNAME:CET
DTSTART:20241027T010000
END:STANDARD
BEGIN:DAYLIGHT
TZOFFSETFROM:+0100
TZOFFSETTO:+0200
TZNAME:CEST
DTSTART:20250330T010000
END:DAYLIGHT
BEGIN:STANDARD
TZOFFSETFROM:+0200
TZOFFSETTO:+0100
TZNAME:CET
DTSTART:20251026T010000
END:STANDARD
END:VTIMEZONE
BEGIN:VEVENT
DTSTART;TZID=Europe/Prague:20240918T170000
DTEND;TZID=Europe/Prague:20240918T190000
DTSTAMP:20260422T100802
CREATED:20240813T102436Z
LAST-MODIFIED:20240831T114629Z
UID:5212-1726678800-1726686000@leccos.cz
SUMMARY:Jak zvládnout nový školní rok v klidu a v pohodě - vzdělávací pořad
DESCRIPTION:Připravili jsme pro vás sérii vzdělávacích pořadů Maják\, která je určena dětem starším 13 let\, rodičům a všem dalším zájemcům. Ve středu 18. 9. 2024 od 17:00 si budeme s Mgr. Gíthou Rúthovou a pracovníky NZDM povídat o tom\, jak zvládnout nový školní rok v klidu a v pohodě. Již nyní můžete psát své dotazy na githa@leccos.cz. \nCílem workshopu je podpora komunikace ve školním prostředí\, nabídka obecných nástrojů pro duševní hygienu a hledání vlastních zdrojů pro zvládnutí školních nároků. \nProgram je zdarma a je součástí kampaně Týden nízkoprahových klubů\, kterou zaštituje České asociace streetwork\, z.s.. 
URL:https://leccos.cz/akce/jak-zvladnout-novy-skolni-rok-v-klidu-a-v-pohode/
CATEGORIES:Pro děti a mládež,Pro rodiče,Pro širokou veřejnost
ATTACH;FMTTYPE=image/jpeg:https://leccos.cz/wp-content/uploads/2024/08/Majak_240918_.jpg
END:VEVENT
BEGIN:VEVENT
DTSTART;TZID=Europe/Prague:20240917T150000
DTEND;TZID=Europe/Prague:20240917T190000
DTSTAMP:20260422T100802
CREATED:20240831T105724Z
LAST-MODIFIED:20240916T184914Z
UID:5356-1726585200-1726599600@leccos.cz
SUMMARY:Den otevřených dveří a odpoledne s deskovkami v NZDM Klubu Zvonice Český Brod
DESCRIPTION:Zveme vás na Den otevřených dveří do NZDM Klubu Zvonice Český Brod\, který se koná v rámci kampaně Týdnu nízkoprahových klubů. Naše akce pro děti\, mládež\, rodiče a další zájemce se koná v úterý 17. 9. 2024 od 15.00 do 19.00 hodin.\nZ důvodu zákazu využívání přilehlého parku v areálu nemocnice\, kde jsme měli v plánu sportovní aktivity\, nabízíme ODPOLEDNE S DESKOVAKMI. Představíme vám také naši službu a návazné aktivity NZDM Klub Zvonice. Těšíme se na vás!
URL:https://leccos.cz/akce/den-otevrenych-dveri-a-sportovni-odpoledne/
LOCATION:NZDM Klub Zvonice Český Brod\, Žižkova 508\, Český Brod\, Česká republika\, 282 01
CATEGORIES:Pro děti a mládež,Pro rodiče,Pro širokou veřejnost
ATTACH;FMTTYPE=image/jpeg:https://leccos.cz/wp-content/uploads/2024/08/240917_ZMENA.jpg
END:VEVENT
BEGIN:VEVENT
DTSTART;VALUE=DATE:20240916
DTEND;VALUE=DATE:20240919
DTSTAMP:20260422T100802
CREATED:20240729T100321Z
LAST-MODIFIED:20240729T101038Z
UID:5080-1726444800-1726703999@leccos.cz
SUMMARY:Týden nízkoprahových klubů 2024
DESCRIPTION:Letošní 18. ročník kampaně České asociace streetwork\, z.s. se bude konat ve dnech 16. – 22. září 2024\, kdy nízkoprahové kluby pro děti a mládež napříč celou Českou republikou ožijí veřejnými akcemi.\nI my se v Českém Brodě ke kampani tradičně připojujeme\, a to s těmito aktivitami:\npondělí 16. 9.\, 9.00 – 11.00\nSnídaně pro odbornou veřejnost\, kde se zaměříme na témata:\n* Děti a rodiny ohrožené ztrátou bydlení\n* Duševní zdraví dětí a dospívajících a wellbeing na školách\núterý 17. 9.\, 15.00 – 19.00\nDen otevřených dveří pro veřejnost\n* představní služby a návazných aktivit NZDM Klub Zvonice\n* parkour a koloběžky s lektorem\n* doprovodné sportovní aktivity pro celou rodinu\n* program je zdarma\nstředa 18. 9.\, 17.00 – 19.00\nJak zvládnout nový školní rok v klidu a v pohodě\n* workshop s odborníky určený dětem\, mládeži\, rodičům a dalším zájemcům\n* program je zdarma
URL:https://leccos.cz/akce/tyden-nizkoprahovych-klubu-2024/
LOCATION:NZDM Klub Zvonice Český Brod\, Žižkova 508\, Český Brod\, Česká republika\, 282 01
CATEGORIES:Pro děti a mládež,Pro rodiče,Pro rodiny,Pro širokou veřejnost
ATTACH;FMTTYPE=image/jpeg:https://leccos.cz/wp-content/uploads/2024/07/TNK_2024.jpg
END:VEVENT
BEGIN:VEVENT
DTSTART;TZID=Europe/Prague:20240915T140000
DTEND;TZID=Europe/Prague:20240915T170000
DTSTAMP:20260422T100802
CREATED:20240831T105330Z
LAST-MODIFIED:20240913T121635Z
UID:5352-1726408800-1726419600@leccos.cz
SUMMARY:V hlavě 2 - kino pro uživatele NZDM - akce zrušena!
DESCRIPTION:Z důvodu malého zájmu uživatelů NZDM Klubu Zvonice Český Brod je plánovaná návštěva kina ZRUŠENA! \nV neděli 15. září 2024 vyrazíme s našimi uživateli NZDM do místního KD Svět. Promítat se bude film V hlavě 2. Sraz před kinem ve 14.00 hodin na adrese Kulturní dům Svět\, Krále Jiřího 332\, Český Brod.\nBěhem akce se každý sám naučí kupovat lístek\, dát si věci do šatny nebo si zakoupit malé občerstvení v kavárně kina. Dotované vstupné pro jednoho je 100 Kč. Akce je jen na přihlášky\, které si můžete vyzvednout v NZDM a je určena našim uživatelům\, kteří prošli prvokonaktem.  \n 
URL:https://leccos.cz/akce/v-hlave-2-kino-pro-uzivatele-nzdm/
LOCATION:KD Svět\, Krále Jiřího 332\, Český Brod\, Česká republika\, 282 01
CATEGORIES:Pro děti a mládež
ATTACH;FMTTYPE=image/jpeg:https://leccos.cz/wp-content/uploads/2024/08/240915_ZRUSENO.jpg
END:VEVENT
BEGIN:VEVENT
DTSTART;TZID=Europe/Prague:20240911T160000
DTEND;TZID=Europe/Prague:20240911T180000
DTSTAMP:20260422T100802
CREATED:20240831T104727Z
LAST-MODIFIED:20240831T104727Z
UID:5349-1726070400-1726077600@leccos.cz
SUMMARY:Naše pohybové dovednosti a koordinace těla - workshop
DESCRIPTION:Tématem měsíce září v NZDM Klubu Zvonice Český Brod je POHYB A KOORDINACE TĚLA. Ve workshopu si vyzkoušíme\, jak je na tom naše tělo. Zahrajeme si na cirkus a zkusíme si i pár akrobatických čísel 🙂 Akce proběhne ve středu 11. září 2024 od 16.00 do 18.00 hodin.\nAkce je zdarma a je určena všem zájemcům ve věku 6 – 15 let bez ohledu na to\, zda do klubu chodí nebo ne. Individuální sociální poradenství pro zájemce do 26 let věku bude probíhat v době 15.00 – 16.00 hodin a 18.00 – 19.00 hodin.
URL:https://leccos.cz/akce/nase-pohybove-dovednosti-a-koordinace-tela-workshop/
LOCATION:NZDM Klub Zvonice Český Brod\, Žižkova 508\, Český Brod\, Česká republika\, 282 01
CATEGORIES:Pro děti a mládež
ATTACH;FMTTYPE=image/jpeg:https://leccos.cz/wp-content/uploads/2024/08/240911.jpg
END:VEVENT
BEGIN:VEVENT
DTSTART;TZID=Europe/Prague:20240909T150000
DTEND;TZID=Europe/Prague:20240909T170000
DTSTAMP:20260422T100802
CREATED:20240827T070726Z
LAST-MODIFIED:20240827T070726Z
UID:5331-1725894000-1725901200@leccos.cz
SUMMARY:Pečení čokoládových muffinů
DESCRIPTION:Od září budeme v klubu opět pravidelně péct! \nV pondělí 9. 9. 2024 si společně upečeme čokoládové muffiny. \nZačínáme v 15:00 hod.\, tak se zastav.
URL:https://leccos.cz/akce/peceni-cokoladovych-muffinu/
LOCATION:NZDM Klub Zvonice Poděbrady\, Družstevní 1461/III\, Poděbrady\, 29001\, Česká republika
CATEGORIES:Pro děti a mládež
ATTACH;FMTTYPE=image/png:https://leccos.cz/wp-content/uploads/2024/08/Cokoladove-muffiny.png
END:VEVENT
BEGIN:VEVENT
DTSTART;TZID=Europe/Prague:20240906T150000
DTEND;TZID=Europe/Prague:20240906T163000
DTSTAMP:20260422T100802
CREATED:20240831T104217Z
LAST-MODIFIED:20240831T104217Z
UID:5337-1725634800-1725640200@leccos.cz
SUMMARY:Fotbalový trénink FPR
DESCRIPTION:S dětmi z NZDM Klub Zvonice Český Brod jsme se zapojili do Ligy férového fotbalu. Cílem této aktivity je účastníky naučit hrát férově nejen na hřišti\, ale i v běžném životě. Přímo na hřišti společně rozvíjíme u mladých lidí hodnoty jako respekt\, zodpovědnost a schopnost dohodnout se.\nV září 2024 nás čeká trénink v pátek 6. 9. a 27. 9. 2024 od 15.00 do 17.30 hodin. Jednou za měsíc jezdíme do Prahy na zápasy.\nPokud máte zájem chodit na fotbalové tréninky a jezdit na zápasy\, oslovte naše pracovníky NZDM\, tel.: 602 446 195 (k dispozici v době otevření klubu)\, e-mail: zvonice@leccos.cz
URL:https://leccos.cz/akce/fotbalovy-trenink-fpr/
LOCATION:NZDM Klub Zvonice Český Brod\, Žižkova 508\, Český Brod\, Česká republika\, 282 01
CATEGORIES:Pro děti a mládež
ATTACH;FMTTYPE=image/jpeg:https://leccos.cz/wp-content/uploads/2024/08/FOTBAL.jpg
END:VEVENT
BEGIN:VEVENT
DTSTART;VALUE=DATE:20240826
DTEND;VALUE=DATE:20240831
DTSTAMP:20260422T100802
CREATED:20240218T113726Z
LAST-MODIFIED:20241118T155446Z
UID:4271-1724630400-1725062399@leccos.cz
SUMMARY:Prázdninový výjezd pro uživatele NZDM
DESCRIPTION:NZDM Klub Zvonice pořádá v termínu 26. – 30. 8. 2024 pro uživatele NZDM ve věku 6 – 18 let resocializační pobyt v Sušici (Klášter Menších Kapucínů\, Dlouhoveská 1\, 342 01 Sušice 1). Pro účastníky jsme připravili hry\, výlety a tvořivé a volnočasové aktivity na téma měsíce KOMUNIKACE. \nOdjezd: pondělí 26. 8. 2024\, autobus bude přistaven v 7:30\, odjezd v 8:00 od klubu\nPříjezd: pátek 30. 8. 2024 kolem 13:00. \nPřihlášku odevzdat nejpozději do 30. 4. 2024\, 19.00. \nInformační schůzka pro rodiče s dětmi\, které jedou na prázdninový pobyt se bude konat v pondělí 19. 8. 2024 v 15.00 v prostorách NZDM Klubu Zvonice. \nDěkujeme za podporu Městu Český Brod.
URL:https://leccos.cz/akce/prazdninovy-vyjezd/
CATEGORIES:Pro děti a mládež
END:VEVENT
BEGIN:VEVENT
DTSTART;TZID=Europe/Prague:20240821T100000
DTEND;TZID=Europe/Prague:20240821T140000
DTSTAMP:20260422T100802
CREATED:20240719T082849Z
LAST-MODIFIED:20240719T082849Z
UID:5055-1724234400-1724248800@leccos.cz
SUMMARY:Výlet na koloběžkách
DESCRIPTION:Ve středu dne 21. 8. 2024 pořádá NZDM Klub Zvonice Poděbrady vyjížďku na koloběžkách podél Labe. \nSraz na klubu je v 10 hod. \nKoloběžky i helmy jsou k zapůjčení. \nPřihlášky jsou k vyzvednutí na klubu a je nutné je odevzdat do 19. 8. 2024.
URL:https://leccos.cz/akce/vylet-na-kolobezkach/
LOCATION:NZDM Klub Zvonice Poděbrady\, Družstevní 1461/III\, Poděbrady\, 29001\, Česká republika
CATEGORIES:Pro děti a mládež
ATTACH;FMTTYPE=image/png:https://leccos.cz/wp-content/uploads/2024/07/Vylet-na-kolobezkach-s-NZDM-Klub-Zvonice-Podebrady.png
END:VEVENT
BEGIN:VEVENT
DTSTART;TZID=Europe/Prague:20240819T160000
DTEND;TZID=Europe/Prague:20240819T180000
DTSTAMP:20260422T100802
CREATED:20240627T205254Z
LAST-MODIFIED:20240803T100812Z
UID:5011-1724083200-1724090400@leccos.cz
SUMMARY:Komunikace - 2. workshop
DESCRIPTION:Tématem měsíce srpna v NZDM Klubu Zvonice Český Brod je KOMUNIKACE. Ve druhém workshopu si zopakujeme pár teoretických pojmů a zahrajeme si divadlo. Akce proběhne v pondělí 19. srpna 2024 od 16.00 do 18.00 hodin.\nAkce je zdarma a je určena všem zájemcům ve věku 6 – 15 let bez ohledu na to\, zda do klubu chodí nebo ne. Individuální sociální poradenství pro zájemce do 26 let věku bude probíhat v době 15.00 – 16.00 hodin a 18.00 – 19.00 hodin.
URL:https://leccos.cz/akce/komunikace-1-workshop/
LOCATION:NZDM Klub Zvonice Český Brod\, Žižkova 508\, Český Brod\, Česká republika\, 282 01
CATEGORIES:Pro děti a mládež
ATTACH;FMTTYPE=image/jpeg:https://leccos.cz/wp-content/uploads/2024/06/240819.jpg
END:VEVENT
BEGIN:VEVENT
DTSTART;TZID=Europe/Prague:20240814T130000
DTEND;TZID=Europe/Prague:20240814T150000
DTSTAMP:20260422T100802
CREATED:20240809T124020Z
LAST-MODIFIED:20240809T124020Z
UID:5102-1723640400-1723647600@leccos.cz
SUMMARY:Sociální sítě - beseda
DESCRIPTION:Ve středu 14. 8. 2024 proběhne na klubu další ze série preventivních besed na téma Sociální sítě. Začínáme ve 13:00 hod. Těšíme se na všechny účastníky a zvídavé dotazy.
URL:https://leccos.cz/akce/socialni-site-beseda/
LOCATION:NZDM Klub Zvonice Poděbrady\, Družstevní 1461/III\, Poděbrady\, 29001\, Česká republika
CATEGORIES:Pro děti a mládež
ATTACH;FMTTYPE=image/png:https://leccos.cz/wp-content/uploads/2024/08/Socialni-site.png
END:VEVENT
BEGIN:VEVENT
DTSTART;TZID=Europe/Prague:20240813T160000
DTEND;TZID=Europe/Prague:20240813T180000
DTSTAMP:20260422T100802
CREATED:20240803T100742Z
LAST-MODIFIED:20240803T100742Z
UID:5094-1723564800-1723572000@leccos.cz
SUMMARY:Komunikace - 1. workshop
DESCRIPTION:Tématem měsíce srpna v NZDM Klubu Zvonice Český Brod je KOMUNIKACE. V úvodním workshopu si vysvětlíme pár teoretických pojmů a zahrajeme si různě hry. Akce proběhne v úterý 13. srpna 2024 od 16.00 do 18.00 hodin.\nAkce je zdarma a je určena všem zájemcům ve věku 6 – 15 let bez ohledu na to\, zda do klubu chodí nebo ne. Individuální sociální poradenství pro zájemce do 26 let věku bude probíhat v době 15.00 – 16.00 hodin a 18.00 – 19.00 hodin.
URL:https://leccos.cz/akce/komunikace-1-workshop-2/
LOCATION:NZDM Klub Zvonice Český Brod\, Žižkova 508\, Český Brod\, Česká republika\, 282 01
CATEGORIES:Pro děti a mládež
ATTACH;FMTTYPE=image/jpeg:https://leccos.cz/wp-content/uploads/2024/08/240813.jpg
END:VEVENT
BEGIN:VEVENT
DTSTART;TZID=Europe/Prague:20240812T080000
DTEND;TZID=Europe/Prague:20240816T163000
DTSTAMP:20260422T100802
CREATED:20240305T140327Z
LAST-MODIFIED:20240305T140327Z
UID:4410-1723449600-1723825800@leccos.cz
SUMMARY:Příměstský tábor pro nejmenší
DESCRIPTION:pro děti od 3 do 6 let\nDobrodružný týden – výlety\, sportovní hry\, výtvarka… \nS SEBOU\npřezůvky\, základní náhradní oblečení\, svačiny \nCENA: 3 100\,- Kč \nCena zahrnuje: obědy\, vstupenky\, provozní náklady\, práci vedoucích \nPřihlaste se online! \nZÁKLADNA\nRC Kostička\, nám. Arnošta z Pardubic 12\, Český Brod \nVEDOUCÍ\nPetra Čurgaliová\, petra@leccos.cz\, 737 312 056 \nInformační schůzka 18. 6. 2024 v 17:00\nv RC Kostička – Nám. Arnošta z Pardubic 12\, Český Brod
URL:https://leccos.cz/akce/primestsky-tabor-pro-nejmensi-4/
LOCATION:Rodinné centrum Kostička\, Nám. Arnošta z Pardubic 12\, Český Brod\, Česká republika\, 282 01
CATEGORIES:Pro děti a mládež
ATTACH;FMTTYPE=image/jpeg:https://leccos.cz/wp-content/uploads/2024/03/24_Primestske_tabory_RC-1.jpg
END:VEVENT
BEGIN:VEVENT
DTSTART;TZID=Europe/Prague:20240808T100000
DTEND;TZID=Europe/Prague:20240808T120000
DTSTAMP:20260422T100802
CREATED:20240803T064810Z
LAST-MODIFIED:20240803T064810Z
UID:5088-1723111200-1723118400@leccos.cz
SUMMARY:Trávení volného času - beseda
DESCRIPTION:Ve čtvrtek 8. 8. 2024 proběhne na klubu další preventivní beseda na téma Trávení volného času. \nZačínáme v 10:00 hod. \nTěšíme se na všechny účastníky a zvídavé dotazy.
URL:https://leccos.cz/akce/traveni-volneho-casu-beseda/
LOCATION:NZDM Klub Zvonice Poděbrady\, Družstevní 1461/III\, Poděbrady\, 29001\, Česká republika
CATEGORIES:Pro děti a mládež
ATTACH;FMTTYPE=image/png:https://leccos.cz/wp-content/uploads/2024/08/Traveni-volneho-casu.png
END:VEVENT
BEGIN:VEVENT
DTSTART;TZID=Europe/Prague:20240807T100000
DTEND;TZID=Europe/Prague:20240807T140000
DTSTAMP:20260422T100802
CREATED:20240719T130258Z
LAST-MODIFIED:20240719T130258Z
UID:5062-1723024800-1723039200@leccos.cz
SUMMARY:Fotbalgolf a Discgolf s NZDM Klub Zvonice Poděbrady
DESCRIPTION:Ve středu 7. 8. 2024 si společně vyrazíme zahrát Fotbalgolf a Discgolf. \nSraz na klubu je v 10:00! \nPřihlášky je nutné odevzdat do 31. 7. 2024.
URL:https://leccos.cz/akce/fotbalgolf-a-discgolf-s-nzdm-klub-zvonice-podebrady/
LOCATION:NZDM Klub Zvonice Poděbrady\, Družstevní 1461/III\, Poděbrady\, 29001\, Česká republika
CATEGORIES:Pro děti a mládež
ATTACH;FMTTYPE=image/png:https://leccos.cz/wp-content/uploads/2024/07/Discgolf.png
END:VEVENT
BEGIN:VEVENT
DTSTART;TZID=Europe/Prague:20240801T084500
DTEND;TZID=Europe/Prague:20240801T153000
DTSTAMP:20260422T100802
CREATED:20240614T121225Z
LAST-MODIFIED:20240614T121225Z
UID:4901-1722501900-1722526200@leccos.cz
SUMMARY:Výlet do Kutné Hory
DESCRIPTION:Začátkem druhé poloviny letních prázdnin ve čtvrtek 1. 8. 2024 společně vyrazíme do Kutné Hory. \nSraz je v 8:45 před budovou vlakového nádraží k Poděbradech. Návrat je v 15:30 hodin. \nCena je 50 Kč. \nPřihlášky a bližší informace poskytneme na klubu. Akce je určena pro děti starší 8 let. \nOdevzdání přihlášek je do 25. 7. 2024.
URL:https://leccos.cz/akce/vylet-do-kutne-hory/
LOCATION:NZDM Klub Zvonice Poděbrady\, Družstevní 1461/III\, Poděbrady\, 29001\, Česká republika
CATEGORIES:Pro děti a mládež
ATTACH;FMTTYPE=image/jpeg:https://leccos.cz/wp-content/uploads/2024/06/Vylet-do-Kutne-Hory.jpg
END:VEVENT
BEGIN:VEVENT
DTSTART;TZID=Europe/Prague:20240731T130000
DTEND;TZID=Europe/Prague:20240731T150000
DTSTAMP:20260422T100802
CREATED:20240726T124240Z
LAST-MODIFIED:20240726T124240Z
UID:5077-1722430800-1722438000@leccos.cz
SUMMARY:Závislosti - beseda
DESCRIPTION:Ve středu 31. 7. 2024 proběhne na klubu beseda na téma Závislosti. Probereme\, jaké typy závislostí existují a jaké jsou jejich příznaky. \nZačínáme ve 13:00 hod. \nTěšíme se na vaši účast.
URL:https://leccos.cz/akce/zavislosti-beseda/
LOCATION:NZDM Klub Zvonice Poděbrady\, Družstevní 1461/III\, Poděbrady\, 29001\, Česká republika
CATEGORIES:Pro děti a mládež
ATTACH;FMTTYPE=image/png:https://leccos.cz/wp-content/uploads/2024/07/Zavislosti.png
END:VEVENT
BEGIN:VEVENT
DTSTART;TZID=Europe/Prague:20240724T150000
DTEND;TZID=Europe/Prague:20240725T100000
DTSTAMP:20260422T100802
CREATED:20240627T204931Z
LAST-MODIFIED:20240723T185956Z
UID:5009-1721833200-1721901600@leccos.cz
SUMMARY:Klubová přespávačka - ZRUŠENO
DESCRIPTION:Téma tábornictví si užijeme v rámci běžné otevírací doby klubu 24.7.2024 v čase 15:00 – 19:00 hodin. \nKlubová přespávačka v NZDM Klubu Zvonice Český se odehraje pro klubové děti ve středu 24. července 2024 od 15.00 hodin. Téma: táborníci. \n 
URL:https://leccos.cz/akce/klubova-prespavacka/
LOCATION:NZDM Klub Zvonice Český Brod\, Žižkova 508\, Český Brod\, Česká republika\, 282 01
CATEGORIES:Pro děti a mládež
ATTACH;FMTTYPE=image/jpeg:https://leccos.cz/wp-content/uploads/2024/06/240724_ZRUSENO.jpg
END:VEVENT
BEGIN:VEVENT
DTSTART;TZID=Europe/Prague:20240724T130000
DTEND;TZID=Europe/Prague:20240724T150000
DTSTAMP:20260422T100802
CREATED:20240719T124228Z
LAST-MODIFIED:20240719T124228Z
UID:5059-1721826000-1721833200@leccos.cz
SUMMARY:Odlišnost - beseda
DESCRIPTION:Ve středu 24. 7. 2024 proběhne na klubu další preventivní beseda. Tématem bude Odlišnost – co pro nás znamená\, jak ji vnímáme. Zaměříme se také na to\, co nás jako lidi spojuje. \nZačínáme ve 13:00 hod. \nTěšíme se na všechny účastníky a zvídavé dotazy.
URL:https://leccos.cz/akce/odlisnost-beseda/
LOCATION:NZDM Klub Zvonice Poděbrady\, Družstevní 1461/III\, Poděbrady\, 29001\, Česká republika
CATEGORIES:Pro děti a mládež
ATTACH;FMTTYPE=image/png:https://leccos.cz/wp-content/uploads/2024/07/Odlisnost.png
END:VEVENT
BEGIN:VEVENT
DTSTART;VALUE=DATE:20240720
DTEND;VALUE=DATE:20240728
DTSTAMP:20260422T100802
CREATED:20240305T135409Z
LAST-MODIFIED:20240305T140453Z
UID:4406-1721433600-1722124799@leccos.cz
SUMMARY:Tábor v ráji
DESCRIPTION:Tábor se zaměřením na pohybové aktivity v přírodě – výlety\, plavání\, soutěže…\nUskuteční se uprostřed krásné přírody Českého ráje v rekreačním středisku „PALDA“\, nedaleko hradu Trosky.\nDěti se naučí starat se samy o sebe\, hledat východiska z problémů\, čelit strachu. Fyzická náročnost bude přizpůsobena věku a zdatnosti dětí. Nebude chybět celotáborová hra a večerní program. \nCena: 9.100 Kč \nCena zahrnuje: ubytování ve 4 lůžkových chatičkách\, 7 nocí s plnou penzí\, pitný režim\, doprava z Českého Brodu tam\, celodenní program\, pedagogický a zdravotnický dozor\, sportovní a výtvarné aktivity\, outdoor aktivity\, výlety\, odměny \nOdvoz dětí z tábora v sobotu 27. 7. 2024 mezi 10.00 – 11.00 hod. \nPřihlašte se online! \nPodklady pro platbu: \nČíslo účtu: 221457653/0600\nSpecifický symbol:  202223\nVariabilní symbol: datum narození dítěte ve formátu ddmmrrrr \nzáloha 4000\,- Kč do 31. 5. 2024\ndoplatek 5100\,- Kč do 28. 6. 2024 \nVedoucí:\nAndrea Hradecká\nPetra Čurgaliová\nLucie Čurgaliová \nKontakt:\nAndrea Hradecká\, andrea@leccos.cz\, 602 112 679\nPetra Čurgaliová\, petra@leccos.cz\, 737 312 056 \nInformační schůzka 18. 6. 2024 v 17:30\nv RC Kostička – Nám. Arnošta z Pardubic 12\, Český Brod
URL:https://leccos.cz/akce/tabor-v-raji-3/
LOCATION:Palda – rekreační středisko\, s. r.o. – Camping v ráji\, Liščí Kotce 10\, Rovensko pod Troskami\, 51263\, Česká republika
CATEGORIES:Pro děti a mládež
ATTACH;FMTTYPE=image/jpeg:https://leccos.cz/wp-content/uploads/2024/03/24_tabor_v_raji_plakat-1.jpg
END:VEVENT
BEGIN:VEVENT
DTSTART;TZID=Europe/Prague:20240717T160000
DTEND;TZID=Europe/Prague:20240717T180000
DTSTAMP:20260422T100802
CREATED:20240627T204336Z
LAST-MODIFIED:20240627T205948Z
UID:5004-1721232000-1721239200@leccos.cz
SUMMARY:Malování v přírodě
DESCRIPTION:S dětmi v NZDM Klubu Zvonice Český Brod se budeme věnovat malbě v přírodě. Vysvětlíme si také základní techniky\, osvětlíme pár pojmů jako je plenér apod. Ukážeme si také několik nejznámějších krajinářů pro inspiraci a hlavně si užijeme malování na malířských stojanech přímo v parku u klubu. Workshop začne ve středu 17. července 2024 v 16.00. Je zdarma a je určen všem zájemcům ve věku 6 – 15 let bez ohledu na to\, zda do klubu chodí nebo ne.\nIndividuální sociální poradenství pro zájemce do 26 let věku bude probíhat v době 15.00 – 16.00 hodin a 18.00 – 19.00 hodin.
URL:https://leccos.cz/akce/malovani-v-prirode/
LOCATION:NZDM Klub Zvonice Český Brod\, Žižkova 508\, Český Brod\, Česká republika\, 282 01
CATEGORIES:Pro děti a mládež
ATTACH;FMTTYPE=image/jpeg:https://leccos.cz/wp-content/uploads/2024/06/240717.jpg
END:VEVENT
BEGIN:VEVENT
DTSTART;TZID=Europe/Prague:20240717T130000
DTEND;TZID=Europe/Prague:20240717T150000
DTSTAMP:20260422T100802
CREATED:20240712T144206Z
LAST-MODIFIED:20240712T144300Z
UID:5049-1721221200-1721228400@leccos.cz
SUMMARY:Bezpečnost na internetu - beseda
DESCRIPTION:Ve středu 17. 7. 2024 proběhne na klubu první ze série preventivních besed. Tématem bude Bezpečnost na internetu. \nZačínáme ve 13:00 hod. \nTěšíme se na všechny účastníky a zvídavé dotazy.
URL:https://leccos.cz/akce/bezpecnost-na-internetu/
LOCATION:NZDM Klub Zvonice Poděbrady\, Družstevní 1461/III\, Poděbrady\, 29001\, Česká republika
CATEGORIES:Pro děti a mládež
ATTACH;FMTTYPE=image/png:https://leccos.cz/wp-content/uploads/2024/07/Bezpecnost-na-internetu.png
END:VEVENT
BEGIN:VEVENT
DTSTART;TZID=Europe/Prague:20240715T160000
DTEND;TZID=Europe/Prague:20240715T180000
DTSTAMP:20260422T100802
CREATED:20240627T203426Z
LAST-MODIFIED:20240627T203426Z
UID:4999-1721059200-1721066400@leccos.cz
SUMMARY:Léto v pohybu – 2. workshop
DESCRIPTION:V pondělí 15. července 2024 si od 16.00 hodin v NZDM Klubu Zvonice Český Brod zařádíme na kolečkových bruslích\, koloběžkách\, kolech… kdo si nebude vědět rady\, toho rádi naučíme novým kouskům!\nAkce je zdarma a je určena všem zájemcům ve věku 6 – 15 let bez ohledu na to\, zda do klubu chodí nebo ne. Individuální sociální poradenství pro zájemce do 26 let věku bude probíhat v době 15.00 – 16.00 hodin a 18.00 – 19.00 hodin.
URL:https://leccos.cz/akce/leto-v-pohybu-2-workshop/
LOCATION:NZDM Klub Zvonice Český Brod\, Žižkova 508\, Český Brod\, Česká republika\, 282 01
CATEGORIES:Pro děti a mládež
ATTACH;FMTTYPE=image/jpeg:https://leccos.cz/wp-content/uploads/2024/06/240715.jpg
END:VEVENT
BEGIN:VEVENT
DTSTART;TZID=Europe/Prague:20240711T083000
DTEND;TZID=Europe/Prague:20240711T150000
DTSTAMP:20260422T100802
CREATED:20240603T133129Z
LAST-MODIFIED:20240603T133217Z
UID:4857-1720686600-1720710000@leccos.cz
SUMMARY:Výlet do ZOO Chleby
DESCRIPTION:Ještě nemáš plány na letní prázdniny? Vyraž s námi na výlet do ZOO Chleby. \nAkce se koná ve čtvrtek 11. 7. 2024. Sraz je v 8:30 před budovou vlakového nádraží k Poděbradech. Návrat je v 15 hodin. \nCena je 50 Kč. \nPřihlášky a bližší informace poskytneme na klubu. Akce je určena pro děti starší 8 let. \nOdevzdání přihlášek je do 4. 7. 2024.
URL:https://leccos.cz/akce/vylet-do-zoo-chleby/
LOCATION:ZOO Chleby\, Václava Otty 1\, Chleby\, Středočeský\, 289 31\, Česká republika
CATEGORIES:Pro děti a mládež
ATTACH;FMTTYPE=image/png:https://leccos.cz/wp-content/uploads/2024/06/Vylet-do-ZOO-Chleby-1.png
END:VEVENT
BEGIN:VEVENT
DTSTART;TZID=Europe/Prague:20240710T130000
DTEND;TZID=Europe/Prague:20240710T150000
DTSTAMP:20260422T100802
CREATED:20240703T074517Z
LAST-MODIFIED:20240703T074517Z
UID:5033-1720616400-1720623600@leccos.cz
SUMMARY:Cesta labyrintem města
DESCRIPTION:Ve středu 10. 7. 2024 si na klubu zahrajeme interaktivní preventivní hru Cesta labyrintem města. \nČeká Vás plnění úkolů a otázek a spoustu zábavy! \nZačínáme ve 13 hod. \nKlub bude v době hry uzavřen pro jiné aktivity.
URL:https://leccos.cz/akce/cesta-labyrintem-mesta/
LOCATION:NZDM Klub Zvonice Poděbrady\, Družstevní 1461/III\, Poděbrady\, 29001\, Česká republika
CATEGORIES:Pro děti a mládež
ATTACH;FMTTYPE=image/png:https://leccos.cz/wp-content/uploads/2024/07/Cesta-labyrintem-mesta-v-NZDM-Klub-Zvonice-Podebrady.png
END:VEVENT
BEGIN:VEVENT
DTSTART;TZID=Europe/Prague:20240709T080000
DTEND;TZID=Europe/Prague:20240709T150000
DTSTAMP:20260422T100802
CREATED:20240627T203849Z
LAST-MODIFIED:20240708T213840Z
UID:5001-1720512000-1720537200@leccos.cz
SUMMARY:ZRUŠENO - Výlet do Radimi
DESCRIPTION:Pro malý zájem je výlet zrušen! \nNa výlet do Radimi vyrážíme s dětmi z NZDM Klubu Zvonice Český Brod v úterý 9. července 2024. Sraz v 8.15 hodin před vlakovým nádražím. Akce je pouze na přihlášky!
URL:https://leccos.cz/akce/vylet-do-radimi/
CATEGORIES:Pro děti a mládež
ATTACH;FMTTYPE=image/jpeg:https://leccos.cz/wp-content/uploads/2024/06/240709.jpg
END:VEVENT
BEGIN:VEVENT
DTSTART;TZID=Europe/Prague:20240708T080000
DTEND;TZID=Europe/Prague:20240712T163000
DTSTAMP:20260422T100802
CREATED:20240305T140054Z
LAST-MODIFIED:20240305T140202Z
UID:4411-1720425600-1720801800@leccos.cz
SUMMARY:Příměstský tábor pro nejmenší
DESCRIPTION:pro děti od 3 do 6 let\nDobrodružný týden – výlety\, sportovní hry\, výtvarka… \nS SEBOU\npřezůvky\, základní náhradní oblečení\, svačiny \nCENA: 3 100\,- Kč \nCena zahrnuje: obědy\, vstupenky\, provozní náklady\, práci vedoucích \nPřihlaste se online! \nZÁKLADNA\nRC Kostička\, nám. Arnošta z Pardubic 12\, Český Brod \nVEDOUCÍ\nPetra Čurgaliová\, petra@leccos.cz\, 737 312 056 \nInformační schůzka 18. 6. 2024 v 17:00\nv RC Kostička – Nám. Arnošta z Pardubic 12\, Český Brod
URL:https://leccos.cz/akce/primestsky-tabor-pro-nejmensi-3/
LOCATION:Rodinné centrum Kostička\, Nám. Arnošta z Pardubic 12\, Český Brod\, Česká republika\, 282 01
CATEGORIES:Pro děti a mládež
ATTACH;FMTTYPE=image/jpeg:https://leccos.cz/wp-content/uploads/2024/03/24_Primestske_tabory_RC-1.jpg
END:VEVENT
BEGIN:VEVENT
DTSTART;TZID=Europe/Prague:20240703T160000
DTEND;TZID=Europe/Prague:20240703T180000
DTSTAMP:20260422T100802
CREATED:20240627T202653Z
LAST-MODIFIED:20240627T202653Z
UID:4986-1720022400-1720029600@leccos.cz
SUMMARY:Léto v pohybu – 1. workshop
DESCRIPTION:Tématem měsíce června v NZDM Klubu Zvonice Český Brod je LÉTO V POHYBU. V úvodním workshopu se budeme věnovat dopravní výchově a prevenci. Vyžijeme k tomu naše oblíbené káry! Akce proběhne ve středu 3. července 2024 od 16.00 do 18.00 hodin.\nAkce je zdarma a je určena všem zájemcům ve věku 6 – 15 let bez ohledu na to\, zda do klubu chodí nebo ne. Individuální sociální poradenství pro zájemce do 26 let věku bude probíhat v době 15.00 – 16.00 hodin a 18.00 – 19.00 hodin.
URL:https://leccos.cz/akce/leto-v-pohybu-1-workshop/
LOCATION:NZDM Klub Zvonice Český Brod\, Žižkova 508\, Český Brod\, Česká republika\, 282 01
CATEGORIES:Pro děti a mládež
ATTACH;FMTTYPE=image/jpeg:https://leccos.cz/wp-content/uploads/2024/06/240703.jpg
END:VEVENT
BEGIN:VEVENT
DTSTART;TZID=Europe/Prague:20240703T100000
DTEND;TZID=Europe/Prague:20240703T120000
DTSTAMP:20260422T100802
CREATED:20240703T074929Z
LAST-MODIFIED:20240703T074929Z
UID:5037-1720000800-1720008000@leccos.cz
SUMMARY:Letní Sportovky
DESCRIPTION:Pozor změna! \nV červenci a srpnu se budeme na letních Sportovkách potkávat v čase 10 – 12 hod. \nOdchod z klubu je v 10 hod. nebo se potkáme na hřišti! \nTěšíme se na Vás!
URL:https://leccos.cz/akce/letni-sportovky/
LOCATION:Hřiště „Na Valech“ u ZŠ Václava Havla\, Poděbrady\, Na Valech 45\, Poděbrady\, středočeský\, 29001\, Česká republika
CATEGORIES:Pro děti a mládež
ATTACH;FMTTYPE=image/png:https://leccos.cz/wp-content/uploads/2024/07/Letni-Sportovky.png
END:VEVENT
BEGIN:VEVENT
DTSTART;TZID=Europe/Prague:20240628T143000
DTEND;TZID=Europe/Prague:20240628T170000
DTSTAMP:20260422T100802
CREATED:20240530T123158Z
LAST-MODIFIED:20240530T123217Z
UID:4831-1719585000-1719594000@leccos.cz
SUMMARY:Zvonicová grilovačka
DESCRIPTION:Oblíbená grilovačka pro uživatele z NZDM Klubu Zvonice Český Brod na počest ukončení školního roku 2023/2024 odstartuje ve 14.30 hodin v pátek 28. června 2024. Kromě občerstvení bude připraven doprovodný program.
URL:https://leccos.cz/akce/grilovacka/
LOCATION:NZDM Klub Zvonice Český Brod\, Žižkova 508\, Český Brod\, Česká republika\, 282 01
CATEGORIES:Pro děti a mládež
ATTACH;FMTTYPE=image/jpeg:https://leccos.cz/wp-content/uploads/2024/05/240628.jpg
END:VEVENT
END:VCALENDAR