BEGIN:VCALENDAR
VERSION:2.0
PRODID:-//LECCOS, z. s. - ECPv6.15.19//NONSGML v1.0//EN
CALSCALE:GREGORIAN
METHOD:PUBLISH
X-ORIGINAL-URL:https://leccos.cz
X-WR-CALDESC:Akce na LECCOS, z. s.
REFRESH-INTERVAL;VALUE=DURATION:PT1H
X-Robots-Tag:noindex
X-PUBLISHED-TTL:PT1H
BEGIN:VTIMEZONE
TZID:Europe/Prague
BEGIN:DAYLIGHT
TZOFFSETFROM:+0100
TZOFFSETTO:+0200
TZNAME:CEST
DTSTART:20250330T010000
END:DAYLIGHT
BEGIN:STANDARD
TZOFFSETFROM:+0200
TZOFFSETTO:+0100
TZNAME:CET
DTSTART:20251026T010000
END:STANDARD
BEGIN:DAYLIGHT
TZOFFSETFROM:+0100
TZOFFSETTO:+0200
TZNAME:CEST
DTSTART:20260329T010000
END:DAYLIGHT
BEGIN:STANDARD
TZOFFSETFROM:+0200
TZOFFSETTO:+0100
TZNAME:CET
DTSTART:20261025T010000
END:STANDARD
BEGIN:DAYLIGHT
TZOFFSETFROM:+0100
TZOFFSETTO:+0200
TZNAME:CEST
DTSTART:20270328T010000
END:DAYLIGHT
BEGIN:STANDARD
TZOFFSETFROM:+0200
TZOFFSETTO:+0100
TZNAME:CET
DTSTART:20271031T010000
END:STANDARD
END:VTIMEZONE
BEGIN:VEVENT
DTSTART;TZID=Europe/Prague:20260123T150000
DTEND;TZID=Europe/Prague:20260123T160000
DTSTAMP:20260421T033433
CREATED:20260108T204829Z
LAST-MODIFIED:20260108T204909Z
UID:8106-1769180400-1769184000@leccos.cz
SUMMARY:Bruslení se Zvonicí
DESCRIPTION:V pátek 23. ledna 2026 pořádá NZDM Klub Zvonice Český Brod společné bruslení na kluzišti v Českém Brodě. Odchod účastníků z klubu je naplánován na 15:00 hodin. Na kluzišti je k dispozici půjčovna bruslí\, přesto doporučujeme\, aby si účastníci\, kteří mají možnost\, vzali vlastní brusle. Občerstvení si každý účastník hradí na místě sám. Akce je určena pro klienty NZDM Klubu Zvonice.\nPůjčovné a vstupné hradíme z prostředků NZDM.
URL:https://leccos.cz/akce/8106/
LOCATION:nám. Husovo\, Český Brod\, nám. Husovo\, Český Brod (okr. Kolín)\, 28201\, Czech Republic
CATEGORIES:Pro děti a mládež
ATTACH;FMTTYPE=image/jpeg:https://leccos.cz/wp-content/uploads/2026/01/260123.jpg
END:VEVENT
END:VCALENDAR