BEGIN:VCALENDAR
VERSION:2.0
PRODID:-//LECCOS, z. s. - ECPv6.15.19//NONSGML v1.0//EN
CALSCALE:GREGORIAN
METHOD:PUBLISH
X-WR-CALNAME:LECCOS, z. s.
X-ORIGINAL-URL:https://leccos.cz
X-WR-CALDESC:Akce na LECCOS, z. s.
REFRESH-INTERVAL;VALUE=DURATION:PT1H
X-Robots-Tag:noindex
X-PUBLISHED-TTL:PT1H
BEGIN:VTIMEZONE
TZID:Europe/Prague
BEGIN:DAYLIGHT
TZOFFSETFROM:+0100
TZOFFSETTO:+0200
TZNAME:CEST
DTSTART:20250330T010000
END:DAYLIGHT
BEGIN:STANDARD
TZOFFSETFROM:+0200
TZOFFSETTO:+0100
TZNAME:CET
DTSTART:20251026T010000
END:STANDARD
BEGIN:DAYLIGHT
TZOFFSETFROM:+0100
TZOFFSETTO:+0200
TZNAME:CEST
DTSTART:20260329T010000
END:DAYLIGHT
BEGIN:STANDARD
TZOFFSETFROM:+0200
TZOFFSETTO:+0100
TZNAME:CET
DTSTART:20261025T010000
END:STANDARD
BEGIN:DAYLIGHT
TZOFFSETFROM:+0100
TZOFFSETTO:+0200
TZNAME:CEST
DTSTART:20270328T010000
END:DAYLIGHT
BEGIN:STANDARD
TZOFFSETFROM:+0200
TZOFFSETTO:+0100
TZNAME:CET
DTSTART:20271031T010000
END:STANDARD
END:VTIMEZONE
BEGIN:VEVENT
DTSTART;TZID=Europe/Prague:20260107T143000
DTEND;TZID=Europe/Prague:20260107T170000
DTSTAMP:20260421T033348
CREATED:20251221T165528Z
LAST-MODIFIED:20260102T092430Z
UID:7985-1767796200-1767805200@leccos.cz
SUMMARY:Se Zvonicí do kina – Neporazitelní
DESCRIPTION:Ve středu 7. ledna 2026 vyrážíme s NZDM Klubem Zvonice Český Brod do kina KD Svět v Českém Brodě na film Neporazitelní.Sraz je ve 14.45 před KD Svět\, vstupné činí 50 Kč. Akce je na přihlášky! \nPřijď si užít společný filmový zážitek a strávit odpoledne mimo klub.
URL:https://leccos.cz/akce/se-zvonici-do-kina-neporazitelni/
LOCATION:KD Svět\, Krále Jiřího 332\, Český Brod\, Česká republika\, 282 01
CATEGORIES:Pro děti a mládež
ATTACH;FMTTYPE=image/jpeg:https://leccos.cz/wp-content/uploads/2025/12/260107.jpg
END:VEVENT
END:VCALENDAR