BEGIN:VCALENDAR
VERSION:2.0
PRODID:-//LECCOS, z. s. - ECPv6.15.19//NONSGML v1.0//EN
CALSCALE:GREGORIAN
METHOD:PUBLISH
X-ORIGINAL-URL:https://leccos.cz
X-WR-CALDESC:Akce na LECCOS, z. s.
REFRESH-INTERVAL;VALUE=DURATION:PT1H
X-Robots-Tag:noindex
X-PUBLISHED-TTL:PT1H
BEGIN:VTIMEZONE
TZID:Europe/Prague
BEGIN:DAYLIGHT
TZOFFSETFROM:+0100
TZOFFSETTO:+0200
TZNAME:CEST
DTSTART:20240331T010000
END:DAYLIGHT
BEGIN:STANDARD
TZOFFSETFROM:+0200
TZOFFSETTO:+0100
TZNAME:CET
DTSTART:20241027T010000
END:STANDARD
BEGIN:DAYLIGHT
TZOFFSETFROM:+0100
TZOFFSETTO:+0200
TZNAME:CEST
DTSTART:20250330T010000
END:DAYLIGHT
BEGIN:STANDARD
TZOFFSETFROM:+0200
TZOFFSETTO:+0100
TZNAME:CET
DTSTART:20251026T010000
END:STANDARD
BEGIN:DAYLIGHT
TZOFFSETFROM:+0100
TZOFFSETTO:+0200
TZNAME:CEST
DTSTART:20260329T010000
END:DAYLIGHT
BEGIN:STANDARD
TZOFFSETFROM:+0200
TZOFFSETTO:+0100
TZNAME:CET
DTSTART:20261025T010000
END:STANDARD
END:VTIMEZONE
BEGIN:VEVENT
DTSTART;TZID=Europe/Prague:20251029T092000
DTEND;TZID=Europe/Prague:20251029T160900
DTSTAMP:20260421T065539
CREATED:20250919T121432Z
LAST-MODIFIED:20251024T091404Z
UID:7545-1761729600-1761754140@leccos.cz
SUMMARY:ZRUŠENO! Halloween v Botanicu Ostrá
DESCRIPTION:Výlet jsme zrušili! Ve středu 29. 10. 2025 bude otevřený klub v čase 14:00 – 15:30 a poté budou Sportovky v čase 16:00 – 17:30. \nDěkujeme za pochopení.
URL:https://leccos.cz/akce/halloween-v-botanicu-ostra/
LOCATION:Centrum řemesel a bylinné zahrady Botanicus\, Ostrá 8\, Ostrá\, 289 22\, Czech Republic
CATEGORIES:Pro děti a mládež
ATTACH;FMTTYPE=image/jpeg:https://leccos.cz/wp-content/uploads/2025/09/NZDM-Klub-Zvonice-Podebrady-porada.jpg
END:VEVENT
END:VCALENDAR