BEGIN:VCALENDAR
VERSION:2.0
PRODID:-//LECCOS, z. s. - ECPv6.15.19//NONSGML v1.0//EN
CALSCALE:GREGORIAN
METHOD:PUBLISH
X-ORIGINAL-URL:https://leccos.cz
X-WR-CALDESC:Akce na LECCOS, z. s.
REFRESH-INTERVAL;VALUE=DURATION:PT1H
X-Robots-Tag:noindex
X-PUBLISHED-TTL:PT1H
BEGIN:VTIMEZONE
TZID:Europe/Prague
BEGIN:DAYLIGHT
TZOFFSETFROM:+0100
TZOFFSETTO:+0200
TZNAME:CEST
DTSTART:20240331T010000
END:DAYLIGHT
BEGIN:STANDARD
TZOFFSETFROM:+0200
TZOFFSETTO:+0100
TZNAME:CET
DTSTART:20241027T010000
END:STANDARD
BEGIN:DAYLIGHT
TZOFFSETFROM:+0100
TZOFFSETTO:+0200
TZNAME:CEST
DTSTART:20250330T010000
END:DAYLIGHT
BEGIN:STANDARD
TZOFFSETFROM:+0200
TZOFFSETTO:+0100
TZNAME:CET
DTSTART:20251026T010000
END:STANDARD
BEGIN:DAYLIGHT
TZOFFSETFROM:+0100
TZOFFSETTO:+0200
TZNAME:CEST
DTSTART:20260329T010000
END:DAYLIGHT
BEGIN:STANDARD
TZOFFSETFROM:+0200
TZOFFSETTO:+0100
TZNAME:CET
DTSTART:20261025T010000
END:STANDARD
END:VTIMEZONE
BEGIN:VEVENT
DTSTART;TZID=Europe/Prague:20250604T160000
DTEND;TZID=Europe/Prague:20250625T173000
DTSTAMP:20260423T150232
CREATED:20250602T115602Z
LAST-MODIFIED:20250602T115650Z
UID:6950-1749052800-1750872600@leccos.cz
SUMMARY:Sportovky
DESCRIPTION:Pozor změna! \nV červnu budou Sportovky probíhat před klubem z důvodu rekonstrukce hřiště Na Valech. \nTěšíme se na Vás každou středu od 16:00 do 17:30!
URL:https://leccos.cz/akce/sportovky-3/
LOCATION:NZDM Klub Zvonice Poděbrady\, Družstevní 1461/III\, Poděbrady\, 29001\, Česká republika
CATEGORIES:Pro děti a mládež
ATTACH;FMTTYPE=image/png:https://leccos.cz/wp-content/uploads/2025/06/Sportovky-cerven.png
END:VEVENT
BEGIN:VEVENT
DTSTART;TZID=Europe/Prague:20250613T140000
DTEND;TZID=Europe/Prague:20250613T153000
DTSTAMP:20260423T150232
CREATED:20250525T200916Z
LAST-MODIFIED:20250525T200916Z
UID:6847-1749823200-1749828600@leccos.cz
SUMMARY:Fotbalový trénink ve Zvonici
DESCRIPTION:Přijď si zahrát a potrénovat! V pátek 13. a 20. června 2025 od 14:00 se v Klubu Zvonice Český Brod konají fotbalové tréninky. Ať už jsi zkušený hráč nebo si chceš jen kopnout s partou\, jsi vítán. Přijď si užít pohyb\, týmovou hru a dobrou náladu. \nPokud máš zájem chodit na fotbalové tréninky a jezdit na zápasy\, oslov naše pracovníky NZDM\, tel.: 602 446 195 (k dispozici v době otevření klubu)\, e-mail: zvonice@leccos.cz
URL:https://leccos.cz/akce/fotbalovy-trenink-ve-zvonici/
LOCATION:NZDM Klub Zvonice Český Brod\, Žižkova 508\, Český Brod\, Česká republika\, 282 01
CATEGORIES:Pro děti a mládež
ATTACH;FMTTYPE=image/png:https://leccos.cz/wp-content/uploads/2025/05/fotbal_cerven.png
END:VEVENT
BEGIN:VEVENT
DTSTART;TZID=Europe/Prague:20250613T153000
DTEND;TZID=Europe/Prague:20250613T170000
DTSTAMP:20260423T150232
CREATED:20250525T200612Z
LAST-MODIFIED:20250525T200612Z
UID:6845-1749828600-1749834000@leccos.cz
SUMMARY:Sportovky ve Zvonici
DESCRIPTION:V pátek 13. a 20. června 2025 od 15.30 se v Klubu Zvonice Český Brod konají sportovky! Přijď si zasportovat\, rozhýbat tělo a užít si odpoledne plné pohybu a dobré nálady.\nAkce je otevřená všem bez ohledu na výkonnost – hlavní je chuť se hýbat a bavit se.\nNabízíme také individuální sociální poradenství pro zájemce do 26 let v časech od 13.00 do 15.30 hodin.
URL:https://leccos.cz/akce/sportovky-ve-zvonici/
LOCATION:NZDM Klub Zvonice Český Brod\, Žižkova 508\, Český Brod\, Česká republika\, 282 01
CATEGORIES:Pro děti a mládež
ATTACH;FMTTYPE=image/png:https://leccos.cz/wp-content/uploads/2025/05/sportovky_cerven.png
END:VEVENT
END:VCALENDAR