BEGIN:VCALENDAR
VERSION:2.0
PRODID:-//LECCOS, z. s. - ECPv6.15.19//NONSGML v1.0//EN
CALSCALE:GREGORIAN
METHOD:PUBLISH
X-WR-CALNAME:LECCOS, z. s.
X-ORIGINAL-URL:https://leccos.cz
X-WR-CALDESC:Akce na LECCOS, z. s.
REFRESH-INTERVAL;VALUE=DURATION:PT1H
X-Robots-Tag:noindex
X-PUBLISHED-TTL:PT1H
BEGIN:VTIMEZONE
TZID:Europe/Prague
BEGIN:DAYLIGHT
TZOFFSETFROM:+0100
TZOFFSETTO:+0200
TZNAME:CEST
DTSTART:20240331T010000
END:DAYLIGHT
BEGIN:STANDARD
TZOFFSETFROM:+0200
TZOFFSETTO:+0100
TZNAME:CET
DTSTART:20241027T010000
END:STANDARD
BEGIN:DAYLIGHT
TZOFFSETFROM:+0100
TZOFFSETTO:+0200
TZNAME:CEST
DTSTART:20250330T010000
END:DAYLIGHT
BEGIN:STANDARD
TZOFFSETFROM:+0200
TZOFFSETTO:+0100
TZNAME:CET
DTSTART:20251026T010000
END:STANDARD
BEGIN:DAYLIGHT
TZOFFSETFROM:+0100
TZOFFSETTO:+0200
TZNAME:CEST
DTSTART:20260329T010000
END:DAYLIGHT
BEGIN:STANDARD
TZOFFSETFROM:+0200
TZOFFSETTO:+0100
TZNAME:CET
DTSTART:20261025T010000
END:STANDARD
END:VTIMEZONE
BEGIN:VEVENT
DTSTART;TZID=Europe/Prague:20250221T170000
DTEND;TZID=Europe/Prague:20250221T190000
DTSTAMP:20260423T200608
CREATED:20250202T150358Z
LAST-MODIFIED:20250212T171835Z
UID:6104-1740157200-1740164400@leccos.cz
SUMMARY:Závislost – vzdělávací pořad z cyklu Maják
DESCRIPTION:Zveme všechny děti od 13 let\, jejich rodiče a další zájemce na další setkání v rámci série programů primární prevence Maják\, který se uskuteční v NZDM Klubu Zvonice\, Žižkova 508 v Českém Brodě. Workshop na na téma ZÁVISLOST se odstartuje v pátek 21. února 2025 od 17.00 hodin. Program se sociálními pracovníky klubu bude zaměřen na to\, na čem můžeme být závislí\, jak se závislost projevuje a co s tím dělat. Cílem workshopu bude naučit děti a rodiče rozpoznávat spouštěče a rizika závislostí a také získání základního přehledu\, kam se mohou obrátit o pomoc. Vstup je zdarma. \n\n\n\n\n\nSledujte nás na Instagramu: @nzdmzvonicecb
URL:https://leccos.cz/akce/zavislost-vzdelavaci-porad-z-cyklu-majak/
LOCATION:NZDM Klub Zvonice Český Brod\, Žižkova 508\, Český Brod\, Česká republika\, 282 01
CATEGORIES:Pro děti a mládež,Pro rodiče,Pro širokou veřejnost
ATTACH;FMTTYPE=image/jpeg:https://leccos.cz/wp-content/uploads/2025/02/Majak_250221.jpg
END:VEVENT
END:VCALENDAR