BEGIN:VCALENDAR
VERSION:2.0
PRODID:-//LECCOS, z. s. - ECPv6.15.19//NONSGML v1.0//EN
CALSCALE:GREGORIAN
METHOD:PUBLISH
X-WR-CALNAME:LECCOS, z. s.
X-ORIGINAL-URL:https://leccos.cz
X-WR-CALDESC:Akce na LECCOS, z. s.
REFRESH-INTERVAL;VALUE=DURATION:PT1H
X-Robots-Tag:noindex
X-PUBLISHED-TTL:PT1H
BEGIN:VTIMEZONE
TZID:Europe/Prague
BEGIN:DAYLIGHT
TZOFFSETFROM:+0100
TZOFFSETTO:+0200
TZNAME:CEST
DTSTART:20250330T010000
END:DAYLIGHT
BEGIN:STANDARD
TZOFFSETFROM:+0200
TZOFFSETTO:+0100
TZNAME:CET
DTSTART:20251026T010000
END:STANDARD
BEGIN:DAYLIGHT
TZOFFSETFROM:+0100
TZOFFSETTO:+0200
TZNAME:CEST
DTSTART:20260329T010000
END:DAYLIGHT
BEGIN:STANDARD
TZOFFSETFROM:+0200
TZOFFSETTO:+0100
TZNAME:CET
DTSTART:20261025T010000
END:STANDARD
BEGIN:DAYLIGHT
TZOFFSETFROM:+0100
TZOFFSETTO:+0200
TZNAME:CEST
DTSTART:20270328T010000
END:DAYLIGHT
BEGIN:STANDARD
TZOFFSETFROM:+0200
TZOFFSETTO:+0100
TZNAME:CET
DTSTART:20271031T010000
END:STANDARD
END:VTIMEZONE
BEGIN:VEVENT
DTSTART;TZID=Europe/Prague:20260203T150000
DTEND;TZID=Europe/Prague:20260203T170000
DTSTAMP:20260421T002935
CREATED:20260128T172914Z
LAST-MODIFIED:20260128T172914Z
UID:8227-1770130800-1770138000@leccos.cz
SUMMARY:Kuchařské okénko – Perník na plech
DESCRIPTION:V úterý 3. února 2026 od 15.00 proběhne v NZDM Klubu Zvonice\, Český Brod kuchařská aktivita se sociálními pracovnicemi klubu. Společně si upečeme perník na plech a užijeme si čas při vaření\, povídání a spolupráci v příjemné atmosféře klubu.
URL:https://leccos.cz/akce/kucharske-okenko-pernik-na-plech/
LOCATION:NZDM Klub Zvonice Český Brod\, Žižkova 508\, Český Brod\, Česká republika\, 282 01
CATEGORIES:Pro děti a mládež
ATTACH;FMTTYPE=image/png:https://leccos.cz/wp-content/uploads/2026/01/260203.png
END:VEVENT
BEGIN:VEVENT
DTSTART;TZID=Europe/Prague:20260204T160000
DTEND;TZID=Europe/Prague:20260325T170000
DTSTAMP:20260421T002935
CREATED:20260129T101017Z
LAST-MODIFIED:20260129T101017Z
UID:8262-1770220800-1774458000@leccos.cz
SUMMARY:Fit středy ve Zvonici
DESCRIPTION:V únoru a březnu budeme na klubu pravidelně cvičit! \nZačínáme ve středu 4. 2. 2026 v čase 16:00 – 17:00 hod.
URL:https://leccos.cz/akce/fit-stredy-ve-zvonici-3/
LOCATION:NZDM Klub Zvonice Poděbrady\, Družstevní 1461/III\, Poděbrady\, 29001\, Česká republika
CATEGORIES:Pro děti a mládež
ATTACH;FMTTYPE=image/png:https://leccos.cz/wp-content/uploads/2026/01/Fit-stredy-ve-Zvonici.png
END:VEVENT
BEGIN:VEVENT
DTSTART;TZID=Europe/Prague:20260206T130000
DTEND;TZID=Europe/Prague:20260206T190000
DTSTAMP:20260421T002935
CREATED:20260128T173117Z
LAST-MODIFIED:20260207T113319Z
UID:8235-1770382800-1770404400@leccos.cz
SUMMARY:ZRUŠENO! Zápas Fair Play Point ligy
DESCRIPTION:Pro malý zájem akce zrušena! \nV pátek 6. února 2026 se uskuteční zápas Fair Play Point ligy. Sraz je ve 13.30 před vlakovým nádražím v Českém Brodě\, odkud se společně přesuneme do tělocvičny v Praze. (Střední průmyslová škola stavební Josefa Gočára\, Družstevní ochoz 1659/3\, 140 00 Praha 4-Nusle)\nZápas je určen pro přihlášené účastníky. Nabízíme i pravidelné páteční sportovní aktivity a fotbalové tréninky od 14.00 hodin. \nPředpokládaný návrat z akce je kolem 20.30 hodin (přesný čas bude upřesněn formou SMS). Vybavte děti svačinou\, pitím a sportovní obuví. Více informací na telefonu 725 303 131 u Elisabeth Anny Staňkové\, DiS. Na akci platí stejný pravidla jako v NZDM. \nPřihlášku je nutné odevzdat nejpozději v 3. 2. 2026.\nJestliže dítě na sraz nedorazí\, je třeba ho předem omluvit na telefonu 725 303 131!
URL:https://leccos.cz/akce/zapas-fair-play-point-ligy-11/
LOCATION:Česká republika
CATEGORIES:Pro děti a mládež
ATTACH;FMTTYPE=image/png:https://leccos.cz/wp-content/uploads/2026/01/260206.png
END:VEVENT
BEGIN:VEVENT
DTSTART;TZID=Europe/Prague:20260209T150000
DTEND;TZID=Europe/Prague:20260209T170000
DTSTAMP:20260421T002935
CREATED:20260129T101725Z
LAST-MODIFIED:20260129T101725Z
UID:8265-1770649200-1770656400@leccos.cz
SUMMARY:Růžová pudinková srdíčka
DESCRIPTION:V pondělí 9. 2. 2026 si upečeme růžová pudinková srdíčka. \nZačínáme v 15:00 hod.
URL:https://leccos.cz/akce/ruzova-pudinkova-srdicka/
LOCATION:NZDM Klub Zvonice Poděbrady\, Družstevní 1461/III\, Poděbrady\, 29001\, Česká republika
CATEGORIES:Pro děti a mládež
ATTACH;FMTTYPE=image/png:https://leccos.cz/wp-content/uploads/2026/01/Ruzova-pudinkova-srdicka.png
END:VEVENT
BEGIN:VEVENT
DTSTART;TZID=Europe/Prague:20260210T150000
DTEND;TZID=Europe/Prague:20260210T170000
DTSTAMP:20260421T002935
CREATED:20260128T173430Z
LAST-MODIFIED:20260128T173430Z
UID:8238-1770735600-1770742800@leccos.cz
SUMMARY:Co je to dobrý vztah - workshop
DESCRIPTION:V úterý 10. února 2026 od 15.00 proběhne v NZDM Klubu Zvonice Český Brod workshop na téma Co je to dobrý vztah? Téma si připravily pracovnice klubu.  Společně se zaměříme na to\, jak poznat zdravý vztah\, jak funguje respekt\, důvěra a komunikace mezi lidmi. Workshop nabídne prostor pro sdílení\, otázky i diskuzi. \nAkce je zdarma a otevřená všem zájemcům bez ohledu na to\, zda chodí do Zvonice nebo ne. Nabízíme také individuální sociální poradenství pro zájemce do 26 let v časech od 14.00 do 15.00 a od 17.00 do 18.00 hodin.
URL:https://leccos.cz/akce/co-je-to-dobry-vztah-workshop/
LOCATION:NZDM Klub Zvonice Český Brod\, Žižkova 508\, Český Brod\, Česká republika\, 282 01
CATEGORIES:Pro děti a mládež
ATTACH;FMTTYPE=image/png:https://leccos.cz/wp-content/uploads/2026/01/260210.png
END:VEVENT
BEGIN:VEVENT
DTSTART;TZID=Europe/Prague:20260212T150000
DTEND;TZID=Europe/Prague:20260212T170000
DTSTAMP:20260421T002935
CREATED:20260129T102445Z
LAST-MODIFIED:20260129T102445Z
UID:8269-1770908400-1770915600@leccos.cz
SUMMARY:Valentýnské tvoření
DESCRIPTION:Ve čtvrtek 12. 2. 2026 proběhne na klubu Valentýnské tvoření! \nZačínáme v 15:00 hod.
URL:https://leccos.cz/akce/valentynske-tvoreni-3/
LOCATION:NZDM Klub Zvonice Poděbrady\, Družstevní 1461/III\, Poděbrady\, 29001\, Česká republika
CATEGORIES:Pro děti a mládež
ATTACH;FMTTYPE=image/png:https://leccos.cz/wp-content/uploads/2026/01/Valentynske-tvoreni.png
END:VEVENT
BEGIN:VEVENT
DTSTART;TZID=Europe/Prague:20260213T140000
DTEND;TZID=Europe/Prague:20260213T160000
DTSTAMP:20260421T002935
CREATED:20260128T173858Z
LAST-MODIFIED:20260128T173858Z
UID:8247-1770991200-1770998400@leccos.cz
SUMMARY:Sportovky ve Zvonici
DESCRIPTION:V únoru 2026\, každý pátek od 14.00\, probíhají v NZDM Klubu Zvonice\, Český Brod sportovní aktivity se sociálními pracovnicemi klubu. Těšit se můžeš na pohyb\, zábavu\, týmové hry i možnost vybít energii v bezpečném a přátelském prostředí klubu. \nAkce je zdarma a otevřená všem zájemcům bez ohledu na to\, zda chodí do Zvonice nebo ne. Nabízíme také individuální sociální poradenství pro zájemce do 26 let v časech od 14.00 do 15.00 a od 17.00 do 18.00 hodin.
URL:https://leccos.cz/akce/sportovky-ve-zvonici-3/
LOCATION:NZDM Klub Zvonice Český Brod\, Žižkova 508\, Český Brod\, Česká republika\, 282 01
CATEGORIES:Pro děti a mládež
ATTACH;FMTTYPE=image/png:https://leccos.cz/wp-content/uploads/2026/01/sportovky.png
END:VEVENT
BEGIN:VEVENT
DTSTART;TZID=Europe/Prague:20260216T150000
DTEND;TZID=Europe/Prague:20260216T170000
DTSTAMP:20260421T002935
CREATED:20260128T173555Z
LAST-MODIFIED:20260128T173555Z
UID:8241-1771254000-1771261200@leccos.cz
SUMMARY:Umět říct NE - workshop
DESCRIPTION:V pondělí 16. února 2026 od 15.00 proběhne v NZDM Klubu Zvonice Český Brod workshop na téma Umět říct NE. Akce je součástí série tématu měsíce VZTAHY. Společně se budeme věnovat tématu osobních hranic\, sebeprosazení a tomu\, jak se ozvat v situacích\, které nám nejsou příjemné. Workshop nabídne bezpečný prostor pro nácvik a diskuzi.\nAkce je zdarma a otevřená všem zájemcům bez ohledu na to\, zda chodí do Zvonice nebo ne. Nabízíme také individuální sociální poradenství pro zájemce do 26 let v časech od 14.00 do 15.00 a od 17.00 do 18.00 hodin.
URL:https://leccos.cz/akce/umet-rict-ne-workshop/
LOCATION:NZDM Klub Zvonice Český Brod\, Žižkova 508\, Český Brod\, Česká republika\, 282 01
CATEGORIES:Pro děti a mládež
ATTACH;FMTTYPE=image/png:https://leccos.cz/wp-content/uploads/2026/01/260216.png
END:VEVENT
BEGIN:VEVENT
DTSTART;TZID=Europe/Prague:20260223T084000
DTEND;TZID=Europe/Prague:20260223T160000
DTSTAMP:20260421T002935
CREATED:20260203T152413Z
LAST-MODIFIED:20260203T152804Z
UID:8277-1771836000-1771862400@leccos.cz
SUMMARY:Výlet do Prahy na Lumia gallery a Street art
DESCRIPTION:O jarních prázdninách v pondělí 23. 2. 2026 pojedeme na výlet do Prahy. \nSraz je v 8:40 hod. před pokladnama vlakového nádraží. \nPředpokládaný návrat bude v 16:00 hod. \nVýlet je ZDARMA vč. oběda a je určen pro děti od 8 let. \nUzavírka přihlášek je ve čtvrtek 19. 2. 2026!
URL:https://leccos.cz/akce/vylet-do-prahy-na-lumia-gallery-a-street-art/
LOCATION:NZDM Klub Zvonice Poděbrady\, Družstevní 1461/III\, Poděbrady\, 29001\, Česká republika
CATEGORIES:Pro děti a mládež
ATTACH;FMTTYPE=image/png:https://leccos.cz/wp-content/uploads/2026/02/Vylet-do-Prahy-na-Lumia-gallery-a-Street-art.png
END:VEVENT
BEGIN:VEVENT
DTSTART;TZID=Europe/Prague:20260224T150000
DTEND;TZID=Europe/Prague:20260224T170000
DTSTAMP:20260421T002935
CREATED:20260128T173738Z
LAST-MODIFIED:20260128T173738Z
UID:8244-1771945200-1771952400@leccos.cz
SUMMARY:Kamarádství nebo láska - workshop
DESCRIPTION:V úterý 24. února 2026 od 15.00 proběhne v NZDM Klubu Zvonice Český Brod další workshop na téma měsíce VZTAHY s názvem Kamarádství nebo láska. Zaměříme se na rozdíly mezi kamarádským a partnerským vztahem\, na emoce\, respekt a zdravé nastavení vztahů. Workshop nabídne prostor pro sdílení\, otázky i diskuzi.\nAkce je zdarma a otevřená všem zájemcům bez ohledu na to\, zda chodí do Zvonice nebo ne. Nabízíme také individuální sociální poradenství pro zájemce do 26 let v časech od 14.00 do 15.00 a od 17.00 do 18.00 hodin.
URL:https://leccos.cz/akce/kamaradstvi-nebo-laska-workshop/
LOCATION:NZDM Klub Zvonice Český Brod\, Žižkova 508\, Český Brod\, Česká republika\, 282 01
CATEGORIES:Pro děti a mládež
ATTACH;FMTTYPE=image/png:https://leccos.cz/wp-content/uploads/2026/01/260224.png
END:VEVENT
BEGIN:VEVENT
DTSTART;TZID=Europe/Prague:20260225T170000
DTEND;TZID=Europe/Prague:20260225T190000
DTSTAMP:20260421T002935
CREATED:20260210T160751Z
LAST-MODIFIED:20260210T160801Z
UID:8333-1772038800-1772046000@leccos.cz
SUMMARY:Poruchy příjmu potravy a svět ideálů - vzdělávací pořad z cyklu Maják
DESCRIPTION:Zveme všechny děti od 13 let\, jejich rodiče a další zájemce na další setkání v rámci série programů Maják\, který se odehraje v NZDM Klubu Zvonice\, Žižkova 508\, Český Brod ve středu 25. února 2026 od 17.00 hodin.\nProč se nevinná snaha zhubnout a zapadat do sociálních tabulek promění v nebezpečnou posedlost? Tato přednáška otevírá dveře do světa výživy a poruch příjmu potravy. Společně probereme základní rozdělení poruch příjmu potravy a moderní rizika jejich vzniku\, jako jsou sociální sítě apod. . Zaměříme se na to\, jak budovat zdravý vztah k jídlu a svému tělu a jak poruchám příjmu potravy předcházet. Zároveň probereme\, co člověk s poruchou příjmu potravy prožívá\, jak probíhá léčba a jak pro tyto lidi být oporou a pomocí .\nProfesní medailonek lektorky najdete zde
URL:https://leccos.cz/akce/poruchy-prijmu-potravy-a-svet-idealu-vzdelavaci-porad-z-cyklu-majak/
LOCATION:NZDM Klub Zvonice Český Brod\, Žižkova 508\, Český Brod\, Česká republika\, 282 01
CATEGORIES:Pro děti a mládež,Pro rodiče,Pro rodiny,Pro širokou veřejnost
ATTACH;FMTTYPE=image/jpeg:https://leccos.cz/wp-content/uploads/2026/02/Majak_260225.jpg
END:VEVENT
BEGIN:VEVENT
DTSTART;TZID=Europe/Prague:20260226T150000
DTEND;TZID=Europe/Prague:20260226T170000
DTSTAMP:20260421T002935
CREATED:20260217T160740Z
LAST-MODIFIED:20260217T160740Z
UID:8359-1772118000-1772125200@leccos.cz
SUMMARY:Filmový klub
DESCRIPTION:Ve čtvrtek 26. 2. 2026 proběhne Filmový klub. \nPromítání začne v 15:00 hod.
URL:https://leccos.cz/akce/filmovy-klub-4/
LOCATION:NZDM Klub Zvonice Poděbrady\, Družstevní 1461/III\, Poděbrady\, 29001\, Česká republika
CATEGORIES:Pro děti a mládež
ATTACH;FMTTYPE=image/png:https://leccos.cz/wp-content/uploads/2026/02/Filmove-kluby.png
END:VEVENT
END:VCALENDAR