BEGIN:VCALENDAR
VERSION:2.0
PRODID:-//LECCOS, z. s. - ECPv6.15.19//NONSGML v1.0//EN
CALSCALE:GREGORIAN
METHOD:PUBLISH
X-ORIGINAL-URL:https://leccos.cz
X-WR-CALDESC:Akce na LECCOS, z. s.
REFRESH-INTERVAL;VALUE=DURATION:PT1H
X-Robots-Tag:noindex
X-PUBLISHED-TTL:PT1H
BEGIN:VTIMEZONE
TZID:Europe/Prague
BEGIN:DAYLIGHT
TZOFFSETFROM:+0100
TZOFFSETTO:+0200
TZNAME:CEST
DTSTART:20240331T010000
END:DAYLIGHT
BEGIN:STANDARD
TZOFFSETFROM:+0200
TZOFFSETTO:+0100
TZNAME:CET
DTSTART:20241027T010000
END:STANDARD
BEGIN:DAYLIGHT
TZOFFSETFROM:+0100
TZOFFSETTO:+0200
TZNAME:CEST
DTSTART:20250330T010000
END:DAYLIGHT
BEGIN:STANDARD
TZOFFSETFROM:+0200
TZOFFSETTO:+0100
TZNAME:CET
DTSTART:20251026T010000
END:STANDARD
BEGIN:DAYLIGHT
TZOFFSETFROM:+0100
TZOFFSETTO:+0200
TZNAME:CEST
DTSTART:20260329T010000
END:DAYLIGHT
BEGIN:STANDARD
TZOFFSETFROM:+0200
TZOFFSETTO:+0100
TZNAME:CET
DTSTART:20261025T010000
END:STANDARD
END:VTIMEZONE
BEGIN:VEVENT
DTSTART;TZID=Europe/Prague:20251103T150000
DTEND;TZID=Europe/Prague:20251103T170000
DTSTAMP:20260421T051213
CREATED:20251101T220748Z
LAST-MODIFIED:20251101T222325Z
UID:7703-1762182000-1762189200@leccos.cz
SUMMARY:Kuchařské okénko
DESCRIPTION:V pondělí 3. listopadu 2025 od 15.00 si v NZDM Klubu Zvonice Český Brod můžete vyzkoušet přípravu jednoduchého podzimního jídla žemlovky v rámci oblíbeného Kuchařského okénka. Společně budeme vařit\, povídat si a užijeme si přátelskou atmosféru klubu.\nAkce je zdarma a otevřená všem zájemcům bez ohledu na to\, zda chodí do Zvonice nebo ne. Nabízíme také individuální sociální poradenství pro zájemce do 26 let v časech od 14.00 do 15.00 a od 17.00 do 18.00 hodin.
URL:https://leccos.cz/akce/kucharske-okenko-3/
LOCATION:NZDM Klub Zvonice Český Brod\, Žižkova 508\, Český Brod\, Česká republika\, 282 01
CATEGORIES:Pro děti a mládež
ATTACH;FMTTYPE=image/jpeg:https://leccos.cz/wp-content/uploads/2025/11/251103.jpg
END:VEVENT
BEGIN:VEVENT
DTSTART;TZID=Europe/Prague:20251107T130000
DTEND;TZID=Europe/Prague:20251107T200000
DTSTAMP:20260421T051213
CREATED:20251101T220917Z
LAST-MODIFIED:20251101T222730Z
UID:7712-1762520400-1762545600@leccos.cz
SUMMARY:Zápas Fair Play Point ligy
DESCRIPTION:V pátek 7. listopadu 2025 se uskuteční zápas Fair Play Point ligy. Sraz je ve 13.30 před vlakovým nádražím v Českém Brodě\, odkud se společně přesuneme do tělocvičny v Praze. (Střední průmyslová škola stavební Josefa Gočára\, Družstevní ochoz 1659/3\, 140 00 Praha 4-Nusle)\nZápas je určen pro přihlášené účastníky. Nabízíme i pravidelné páteční sportovní aktivity a fotbalové tréninky od 14.00 hodin. \nPředpokládaný návrat z akce je kolem 20.30 hodin (přesný čas bude upřesněn formou SMS). Vybavte děti svačinou\, pitím a sportovní obuví. Více informací na telefonu 725 303 131 u Elisabeth Anny Staňkové\, DiS. Na akci platí stejný pravidla jako v NZDM. \nPřihlášku je nutné odevzdat nejpozději v 6. 11. 2025.\nJestliže dítě na sraz nedorazí\, je třeba ho předem omluvit na telefonu 725 303 131!
URL:https://leccos.cz/akce/zapas-fair-play-point-ligy-10/
LOCATION:Česká republika
CATEGORIES:Pro děti a mládež
ATTACH;FMTTYPE=image/jpeg:https://leccos.cz/wp-content/uploads/2025/11/FPP_251105.jpg
END:VEVENT
BEGIN:VEVENT
DTSTART;TZID=Europe/Prague:20251110T150000
DTEND;TZID=Europe/Prague:20251110T170000
DTSTAMP:20260421T051213
CREATED:20251014T125403Z
LAST-MODIFIED:20251014T125403Z
UID:7669-1762786800-1762794000@leccos.cz
SUMMARY:Pečení - pizza šneci a slané tyčinky
DESCRIPTION:V pondělí 10. 11. 2025 si upečeme pizza šneky a slané tyčinky. \nZačínáme v 15:00 hod. \n 
URL:https://leccos.cz/akce/peceni-pizza-sneci-a-slane-tycinky/
LOCATION:NZDM Klub Zvonice Poděbrady\, Družstevní 1461/III\, Poděbrady\, 29001\, Česká republika
CATEGORIES:Pro děti a mládež
ATTACH;FMTTYPE=image/jpeg:https://leccos.cz/wp-content/uploads/2025/10/Peceni-pizza-sneku-a-slanych-tycinek.jpg
END:VEVENT
BEGIN:VEVENT
DTSTART;TZID=Europe/Prague:20251112T170000
DTEND;TZID=Europe/Prague:20251112T190000
DTSTAMP:20260421T051213
CREATED:20251001T190138Z
LAST-MODIFIED:20251002T164508Z
UID:7615-1762966800-1762974000@leccos.cz
SUMMARY:Důvěra – vzdělávací pořad z cyklu Maják
DESCRIPTION:Zveme všechny děti od 13 let\, jejich rodiče a další zájemce na další setkání v rámci série programů Maják na téma Důvěra\, který se uskuteční v NZDM Klubu Zvonice\, Žižkova 508\, Český Brod ve středu 12. listopadu 2025 od 17.00 hodin.\nZáměrem setkání je přiblížit dětem a mladým lidem význam důvěry v mezilidských vztazích a ukázat\, jak se důvěra získává\, udržuje i ztrácí.\nLektoruje Mgr. Pavlína Komenda Čepelková\, terapeutka v NZDM Klubu Zvonice a sociální pracovnice.\nVSTUP ZDARMA.
URL:https://leccos.cz/akce/duvera-vzdelavaci-porad-z-cyklu-majak/
LOCATION:NZDM Klub Zvonice Český Brod\, Žižkova 508\, Český Brod\, Česká republika\, 282 01
CATEGORIES:Pro děti a mládež,Pro rodiče,Pro širokou veřejnost
ATTACH;FMTTYPE=image/jpeg:https://leccos.cz/wp-content/uploads/2025/10/Majak_251112.jpg
END:VEVENT
BEGIN:VEVENT
DTSTART;TZID=Europe/Prague:20251112T190000
DTEND;TZID=Europe/Prague:20251112T213000
DTSTAMP:20260421T051213
CREATED:20251101T221243Z
LAST-MODIFIED:20251101T221243Z
UID:7717-1762974000-1762983000@leccos.cz
SUMMARY:Se Zvonicí do kina
DESCRIPTION:Ve středu 12. listopadu 2025 od 19.30 se vydáme společně do kina na film Virtuální přítelkyně. Sraz je v 19.10 před KD Svět v Českém Brodě. Akce je určena pro přihlášené účastníky od 15 let.\nVstupné činí 100 Kč. Přijďte si užít večer s kamarády a společně sdílet filmový zážitek!
URL:https://leccos.cz/akce/se-zvonici-do-kina/
LOCATION:KD Svět\, Krále Jiřího 332\, Český Brod\, Česká republika\, 282 01
CATEGORIES:Pro děti a mládež
ATTACH;FMTTYPE=image/jpeg:https://leccos.cz/wp-content/uploads/2025/11/251112.jpg
END:VEVENT
BEGIN:VEVENT
DTSTART;TZID=Europe/Prague:20251123T173000
DTEND;TZID=Europe/Prague:20251123T200000
DTSTAMP:20260421T051213
CREATED:20251101T221417Z
LAST-MODIFIED:20251119T191542Z
UID:7719-1763919000-1763928000@leccos.cz
SUMMARY:ZRUŠENO! Se Zvonicí do kina
DESCRIPTION:Pro malý zájem je akce zrušena! \nV neděli 23. listopadu 2025 od 18.00 se vydáme na film Letní škola (2001). Sraz účastníků je v 17.40 před KD Svět v Českém Brodě.\nAkce je určena pro přihlášené od 12 let. Vstupné činí 100 Kč.\nPřijďte s námi zakončit víkend pohodovým filmem a dobrou partou!
URL:https://leccos.cz/akce/se-zvonici-do-kina-2/
LOCATION:KD Svět\, Krále Jiřího 332\, Český Brod\, Česká republika\, 282 01
CATEGORIES:Pro děti a mládež
ATTACH;FMTTYPE=image/jpeg:https://leccos.cz/wp-content/uploads/2025/11/251123.jpg
END:VEVENT
BEGIN:VEVENT
DTSTART;TZID=Europe/Prague:20251124T140000
DTEND;TZID=Europe/Prague:20251124T170000
DTSTAMP:20260421T051213
CREATED:20251101T221632Z
LAST-MODIFIED:20251101T221632Z
UID:7721-1763992800-1764003600@leccos.cz
SUMMARY:Zdobení perníčků
DESCRIPTION:V pondělí 24. listopadu 2025 od 14.00 se v NZDM Klubu Zvonice Český Brod pustíme do tvořivého odpoledne zdobení perníčků. Společně připravíme voňavé perníčky\, které poté využijeme při Adventnímu průvodu světýlek. \nNabízíme také možnost individuálního sociálního poradenství pro děti a mladé do 26 let v časech od 14.00 do 15.00 a od 17.00 do 18.00 hodin.
URL:https://leccos.cz/akce/zdobeni-pernicku-2/
LOCATION:NZDM Klub Zvonice Český Brod\, Žižkova 508\, Český Brod\, Česká republika\, 282 01
CATEGORIES:Pro děti a mládež
ATTACH;FMTTYPE=image/jpeg:https://leccos.cz/wp-content/uploads/2025/11/251124.jpg
END:VEVENT
BEGIN:VEVENT
DTSTART;TZID=Europe/Prague:20251127T140000
DTEND;TZID=Europe/Prague:20251127T170000
DTSTAMP:20260421T051213
CREATED:20251125T103720Z
LAST-MODIFIED:20251125T103720Z
UID:7795-1764252000-1764262800@leccos.cz
SUMMARY:Výroba mýdla
DESCRIPTION:Ve čtvrtek 27. 11. a v pondělí 1. 12. 2025 budeme společně vyrábět mýdla. \nPřidej se k nám!
URL:https://leccos.cz/akce/vyroba-mydla/
LOCATION:NZDM Klub Zvonice Poděbrady\, Družstevní 1461/III\, Poděbrady\, 29001\, Česká republika
CATEGORIES:Pro děti a mládež
ATTACH;FMTTYPE=image/png:https://leccos.cz/wp-content/uploads/2025/11/Vyroba-mydla.png
END:VEVENT
BEGIN:VEVENT
DTSTART;TZID=Europe/Prague:20251130T160000
DTEND;TZID=Europe/Prague:20251130T190000
DTSTAMP:20260421T051213
CREATED:20251101T222048Z
LAST-MODIFIED:20251120T123746Z
UID:7723-1764518400-1764529200@leccos.cz
SUMMARY:Rozdávání perníčků na Adventním průvodu světýlek
DESCRIPTION:V neděli 30. listopadu 2025 od 17.00 se zúčastníme Adventního průvodu světýlek. Sraz účastníků je v 16.00 ve Zvonici Český Brod\, odkud společně vyrazíme v andělských kostýmech. V průvodu budeme rozdávat perníčky a půjdeme v průvodu městem. Akce je určena pro přihlášené účastníky a je skvělou příležitostí zahájit adventní čas společně. Po rozsvícení vánočního stromu na náměstí se společně vracíme do klubu abychom se převlékli\, případně ještě ohřáli. Potom se rozejdeme každý domů. 
URL:https://leccos.cz/akce/rozdavani-pernicku-na-adventnihom-pruvodu-svetylek/
LOCATION:nám. Arnošta z Pardubic\, Český Brod\, nám. Arnošta z Pardubic\, Český Brod (okr. Kolín)\, 28201\, Czech Republic
CATEGORIES:Pro děti a mládež
ATTACH;FMTTYPE=image/jpeg:https://leccos.cz/wp-content/uploads/2025/11/251130.jpg
END:VEVENT
END:VCALENDAR