BEGIN:VCALENDAR
VERSION:2.0
PRODID:-//LECCOS, z. s. - ECPv6.15.19//NONSGML v1.0//EN
CALSCALE:GREGORIAN
METHOD:PUBLISH
X-ORIGINAL-URL:https://leccos.cz
X-WR-CALDESC:Akce na LECCOS, z. s.
REFRESH-INTERVAL;VALUE=DURATION:PT1H
X-Robots-Tag:noindex
X-PUBLISHED-TTL:PT1H
BEGIN:VTIMEZONE
TZID:Europe/Prague
BEGIN:DAYLIGHT
TZOFFSETFROM:+0100
TZOFFSETTO:+0200
TZNAME:CEST
DTSTART:20240331T010000
END:DAYLIGHT
BEGIN:STANDARD
TZOFFSETFROM:+0200
TZOFFSETTO:+0100
TZNAME:CET
DTSTART:20241027T010000
END:STANDARD
BEGIN:DAYLIGHT
TZOFFSETFROM:+0100
TZOFFSETTO:+0200
TZNAME:CEST
DTSTART:20250330T010000
END:DAYLIGHT
BEGIN:STANDARD
TZOFFSETFROM:+0200
TZOFFSETTO:+0100
TZNAME:CET
DTSTART:20251026T010000
END:STANDARD
BEGIN:DAYLIGHT
TZOFFSETFROM:+0100
TZOFFSETTO:+0200
TZNAME:CEST
DTSTART:20260329T010000
END:DAYLIGHT
BEGIN:STANDARD
TZOFFSETFROM:+0200
TZOFFSETTO:+0100
TZNAME:CET
DTSTART:20261025T010000
END:STANDARD
END:VTIMEZONE
BEGIN:VEVENT
DTSTART;TZID=Europe/Prague:20250702T101500
DTEND;TZID=Europe/Prague:20250827T114500
DTSTAMP:20260421T125529
CREATED:20250703T073944Z
LAST-MODIFIED:20250703T074035Z
UID:7163-1751451300-1756295100@leccos.cz
SUMMARY:Letní Sportovky
DESCRIPTION:Pozor! \nZ důvodu rekonstrukce hřiště Na Valech\, budou letní Sportovky probíhat na hřišti u ZŠ TGM na Žižkově. \nOdchod v 10:00 z klubu nebo sraz 10:15 na hřišti. \nPřijď se o prázdninách protáhnout a zahrát si s námi hry! \nTěšíme se na tebe!
URL:https://leccos.cz/akce/letni-sportovky-2/
LOCATION:hřiště ZŠ TGM Žižkov\, Žižkova 1252\, Poděbrady\, 29001\, Czech Republic
CATEGORIES:Pro děti a mládež
ATTACH;FMTTYPE=image/png:https://leccos.cz/wp-content/uploads/2025/07/Sportovky-leto.png
END:VEVENT
BEGIN:VEVENT
DTSTART;TZID=Europe/Prague:20250807T074500
DTEND;TZID=Europe/Prague:20250807T180000
DTSTAMP:20260421T125529
CREATED:20250610T095339Z
LAST-MODIFIED:20250723T075418Z
UID:7027-1754552700-1754589600@leccos.cz
SUMMARY:ZRUŠENO! Výlet na Sněžku
DESCRIPTION:Výlet jsme zrušili! Klub bude ve čtvrtek 7. 8. 2025 otevřený v čase 10:00 – 12:00 a 13:00 – 15:00! \n 
URL:https://leccos.cz/akce/vylet-na-snezku/
LOCATION:sněžka\, Sněžka\, Krkonoše\, Pec pod sněžkou\, 542 91\, Czech Republic
CATEGORIES:Pro děti a mládež
ATTACH;FMTTYPE=image/png:https://leccos.cz/wp-content/uploads/2025/06/Vylet-na-Snezku.png
END:VEVENT
BEGIN:VEVENT
DTSTART;TZID=Europe/Prague:20250811T080000
DTEND;TZID=Europe/Prague:20250815T163000
DTSTAMP:20260421T125529
CREATED:20250217T194314Z
LAST-MODIFIED:20250306T154148Z
UID:6216-1754899200-1755275400@leccos.cz
SUMMARY:Příměstský tábor pro nejmenší
DESCRIPTION:pro děti od 3 do 6 let\nDobrodružný týden – výlety\, sportovní hry\, výtvarka… \nS SEBOU\npřezůvky\, základní náhradní oblečení\, svačiny \nCENA: 3 100\,- Kč \nCena zahrnuje: obědy\, vstupenky\, provozní náklady\, práci vedoucích \nPřihlaste se online! \nPodklady pro platbu: \nČíslo účtu: 221457653/0600\nSpecifický symbol: 312224\nVariabilní symbol: datum narození dítěte ve formátu ddmmrrrr \nzáloha 2000\,- Kč do 31. 5. 2025\ndoplatek 1100\,- Kč do 25. 6. 2025 \nZÁKLADNA\nRC Kostička\, nám. Arnošta z Pardubic 12\, Český Brod \nVEDOUCÍ\nPetra Čurgaliová\, petra@leccos.cz\, 737 312 056 \nInformační schůzka 10. 6. 2025 v 17:00\nv RC Kostička – Nám. Arnošta z Pardubic 12\, Český Brod
URL:https://leccos.cz/akce/primestsky-tabor-pro-nejmensi-6/
LOCATION:Rodinné centrum Kostička\, Nám. Arnošta z Pardubic 12\, Český Brod\, Česká republika\, 282 01
CATEGORIES:Pro děti a mládež
ATTACH;FMTTYPE=image/jpeg:https://leccos.cz/wp-content/uploads/2025/02/25-primestske-tabory-RC-plakat.jpg
END:VEVENT
BEGIN:VEVENT
DTSTART;TZID=Europe/Prague:20250812T120000
DTEND;TZID=Europe/Prague:20250812T170000
DTSTAMP:20260421T125529
CREATED:20250724T200910Z
LAST-MODIFIED:20250724T200910Z
UID:7225-1755000000-1755018000@leccos.cz
SUMMARY:Výlet do Jump Arény
DESCRIPTION:V úterý 12. srpna 2025 ve 12:20 vyrážíme s dětmi z NZDM Klub Zvonice Český Brod do Jump Arény! Sraz je u kaštanu před vlakovým nádražím v Českém Brodě.\nNa místě bude možnost si zakoupit občerstvení. Více informací v NZDM Zvonice\, na čísle tel.: 725 303 131 (k dispozici v době otevření klubu).\nNa akci platí stejná pravidla jako v NZDM.\nAkce se koná v případě zájmu alespoň 6 dětí.\nVybíráme 100 Kč. PŘIHLÁŠKU JE TŘEBA ODEVZDAT DO PÁTKU 1. 8. 2025\nV tento den bude v klubu zavřeno.
URL:https://leccos.cz/akce/vylet-do-jump-areny/
LOCATION:Česká republika
CATEGORIES:Pro děti a mládež
ATTACH;FMTTYPE=image/jpeg:https://leccos.cz/wp-content/uploads/2025/07/250812.jpg
END:VEVENT
BEGIN:VEVENT
DTSTART;TZID=Europe/Prague:20250813T100000
DTEND;TZID=Europe/Prague:20250813T140000
DTSTAMP:20260421T125529
CREATED:20250704T123834Z
LAST-MODIFIED:20250704T123834Z
UID:7174-1755079200-1755093600@leccos.cz
SUMMARY:Discgolf a Fotbalgolf
DESCRIPTION:Ve středu 13. 8. 2025 vyrazíme společně na Discgolf a Fotbalgolf v Poděbradech. \nAkce se bude konat v čase 10:00 – 14:00! \nPřihlásit se můžete do 6. 8. 2025 na klubu! \nNezapomeňte si s sebou vzít pití a svačinu.
URL:https://leccos.cz/akce/discgolf-a-fotbalgolf/
LOCATION:NZDM Klub Zvonice Poděbrady\, Družstevní 1461/III\, Poděbrady\, 29001\, Česká republika
CATEGORIES:Pro děti a mládež
ATTACH;FMTTYPE=image/jpeg:https://leccos.cz/wp-content/uploads/2025/07/Discgolf-a-Fotbalgolf.jpg
END:VEVENT
BEGIN:VEVENT
DTSTART;TZID=Europe/Prague:20250814T090000
DTEND;TZID=Europe/Prague:20250814T140000
DTSTAMP:20260421T125529
CREATED:20250728T075138Z
LAST-MODIFIED:20250812T071019Z
UID:7239-1755162000-1755180000@leccos.cz
SUMMARY:ZRUŠENO! Výlet lodí a návštěva Ekocentra Huslík
DESCRIPTION:Výlet je ZRUŠEN!  \nKlub bude ve čtvrtek 14. 8. 2025 otevřený v čase 10:00 – 12:00 a 13:00 – 15:00!
URL:https://leccos.cz/akce/7239/
LOCATION:Česká republika
CATEGORIES:Pro děti a mládež
ATTACH;FMTTYPE=image/png:https://leccos.cz/wp-content/uploads/2025/07/Vylet-lodi-a-navsteva-Husliku.png
END:VEVENT
BEGIN:VEVENT
DTSTART;TZID=Europe/Prague:20250821T083000
DTEND;TZID=Europe/Prague:20250821T160000
DTSTAMP:20260421T125529
CREATED:20250617T122155Z
LAST-MODIFIED:20250617T122155Z
UID:7049-1755765000-1755792000@leccos.cz
SUMMARY:Výlet do Fajn parku v Chlumci nad Cidlinou
DESCRIPTION:Posledním srpnovým výletem s NZDM Klub Zvonice Poděbrady bude Fajnpark v Chlumci nad Cidlinou. \nVýlet se koná ve čtvrtek 21. 8. 2025. Sraz bude v 8:30 hod. před budovou vlakového nádraží v Poděbradech. \nVýlet je určen pro děti od 8 let! \nNávrat bude v 15:52 hod. \nPřihlášky jsou k dostání na klubu. Odevzdání do 7. 8. 2025. \nPro více informací nás neváhej kontaktovat nebo navštívit osobně v klubu.
URL:https://leccos.cz/akce/vylet-do-fajn-parku-v-chlumci-nad-cidlinou/
LOCATION:Fajnpark Chlumec nad Cidlinou\, Kozelkova 898\, Chlumec nad Cidlinou\, 503 51\, Czech Republic
CATEGORIES:Pro děti a mládež
ATTACH;FMTTYPE=image/png:https://leccos.cz/wp-content/uploads/2025/06/Fajnpark.png
END:VEVENT
BEGIN:VEVENT
DTSTART;TZID=Europe/Prague:20250826T080000
DTEND;TZID=Europe/Prague:20250826T170000
DTSTAMP:20260421T125529
CREATED:20250724T201253Z
LAST-MODIFIED:20250724T201253Z
UID:7228-1756195200-1756227600@leccos.cz
SUMMARY:Výlet do Mirákula
DESCRIPTION:V úterý 26. srpna 2025 v 8:15 vyrážíme s dětmi z NZDM Klub Zvonice Český Brod na výlet do zábavního parku Mirákulum! Sraz je u kaštanu před vlakovým nádražím v Českém Brodě. Doporučujeme si vzít s sebou kapesné a svačinu! Na místě bude možnost si zakoupit občerstvení. Více informací v NZDM Zvonice\, na čísle tel.: 725 303 131 (k dispozici v době otevření klubu).\nNa akci platí stejná pravidla jako v NZDM.\nAkce se koná v případě zájmu alespoň 6 dětí.\nVybíráme 50 Kč. PŘIHLÁŠKU JE TŘEBA ODEVZDAT DO PÁTKU 19.8.2025!\nV tento den bude klub zavřený.
URL:https://leccos.cz/akce/vylet-do-mirakula/
LOCATION:Česká republika
CATEGORIES:Pro děti a mládež
ATTACH;FMTTYPE=image/jpeg:https://leccos.cz/wp-content/uploads/2025/07/250826.jpg
END:VEVENT
BEGIN:VEVENT
DTSTART;TZID=Europe/Prague:20250827T100000
DTEND;TZID=Europe/Prague:20250827T140000
DTSTAMP:20260421T125529
CREATED:20250725T123658Z
LAST-MODIFIED:20250826T113516Z
UID:7234-1756288800-1756303200@leccos.cz
SUMMARY:ZRUŠENO! Vyjížďka na koloběžkách
DESCRIPTION:Vyjížďku jsme zrušili! Ve středu 27. 8. 2025 budou sportovky v čase 10:00 – 12:00 a klub 13:00 – 15:00! \n 
URL:https://leccos.cz/akce/vyjizdka-na-kolobezkach-2/
LOCATION:NZDM Klub Zvonice Poděbrady\, Družstevní 1461/III\, Poděbrady\, 29001\, Česká republika
CATEGORIES:Pro děti a mládež
ATTACH;FMTTYPE=image/jpeg:https://leccos.cz/wp-content/uploads/2025/07/Vylet-na-kolobezkach-s-NZDM-Klub-Zvonice-Podebrady.jpg
END:VEVENT
END:VCALENDAR