BEGIN:VCALENDAR
VERSION:2.0
PRODID:-//LECCOS, z. s. - ECPv6.15.19//NONSGML v1.0//EN
CALSCALE:GREGORIAN
METHOD:PUBLISH
X-ORIGINAL-URL:https://leccos.cz
X-WR-CALDESC:Akce na LECCOS, z. s.
REFRESH-INTERVAL;VALUE=DURATION:PT1H
X-Robots-Tag:noindex
X-PUBLISHED-TTL:PT1H
BEGIN:VTIMEZONE
TZID:Europe/Prague
BEGIN:DAYLIGHT
TZOFFSETFROM:+0100
TZOFFSETTO:+0200
TZNAME:CEST
DTSTART:20240331T010000
END:DAYLIGHT
BEGIN:STANDARD
TZOFFSETFROM:+0200
TZOFFSETTO:+0100
TZNAME:CET
DTSTART:20241027T010000
END:STANDARD
BEGIN:DAYLIGHT
TZOFFSETFROM:+0100
TZOFFSETTO:+0200
TZNAME:CEST
DTSTART:20250330T010000
END:DAYLIGHT
BEGIN:STANDARD
TZOFFSETFROM:+0200
TZOFFSETTO:+0100
TZNAME:CET
DTSTART:20251026T010000
END:STANDARD
BEGIN:DAYLIGHT
TZOFFSETFROM:+0100
TZOFFSETTO:+0200
TZNAME:CEST
DTSTART:20260329T010000
END:DAYLIGHT
BEGIN:STANDARD
TZOFFSETFROM:+0200
TZOFFSETTO:+0100
TZNAME:CET
DTSTART:20261025T010000
END:STANDARD
END:VTIMEZONE
BEGIN:VEVENT
DTSTART;TZID=Europe/Prague:20250701T140000
DTEND;TZID=Europe/Prague:20250701T160000
DTSTAMP:20260423T122229
CREATED:20250629T120639Z
LAST-MODIFIED:20250629T120639Z
UID:7121-1751378400-1751385600@leccos.cz
SUMMARY:Mimořádný fotbalový trénink
DESCRIPTION:V úterý 1. července 2025 od 14.00 proběhne mimořádný fotbalový trénink na hřišti Škvárovna. Sraz je přímo na místě. Přijď si zahrát\, potrénovat a užít si sportovní odpoledne! Čeká na vás tým NZDM Klubu Zvonice. \nKlub bude v úterý běžně otevřený v čase 14.00 – 18.00.
URL:https://leccos.cz/akce/mimoradny-fotbalovy-trenink/
LOCATION:Česká republika
CATEGORIES:Pro děti a mládež
ATTACH;FMTTYPE=image/jpeg:https://leccos.cz/wp-content/uploads/2025/06/250701.jpg
END:VEVENT
BEGIN:VEVENT
DTSTART;TZID=Europe/Prague:20250702T101500
DTEND;TZID=Europe/Prague:20250827T114500
DTSTAMP:20260423T122229
CREATED:20250703T073944Z
LAST-MODIFIED:20250703T074035Z
UID:7163-1751451300-1756295100@leccos.cz
SUMMARY:Letní Sportovky
DESCRIPTION:Pozor! \nZ důvodu rekonstrukce hřiště Na Valech\, budou letní Sportovky probíhat na hřišti u ZŠ TGM na Žižkově. \nOdchod v 10:00 z klubu nebo sraz 10:15 na hřišti. \nPřijď se o prázdninách protáhnout a zahrát si s námi hry! \nTěšíme se na tebe!
URL:https://leccos.cz/akce/letni-sportovky-2/
LOCATION:hřiště ZŠ TGM Žižkov\, Žižkova 1252\, Poděbrady\, 29001\, Czech Republic
CATEGORIES:Pro děti a mládež
ATTACH;FMTTYPE=image/png:https://leccos.cz/wp-content/uploads/2025/07/Sportovky-leto.png
END:VEVENT
BEGIN:VEVENT
DTSTART;TZID=Europe/Prague:20250704T093000
DTEND;TZID=Europe/Prague:20250704T200000
DTSTAMP:20260423T122229
CREATED:20250629T121015Z
LAST-MODIFIED:20250702T201228Z
UID:7132-1751621400-1751659200@leccos.cz
SUMMARY:Národní turnaj Fair Play Point
DESCRIPTION:Místo akce: Nad Ohradou 2825\, 130 00 Praha 3-Žižkov – Pražačka\nSraz: pátek 4. 7. 2025 v 9:15\nPředpokládaný návrat z akce je kolem 19:00 hodin (přesný čas bude upřesněn formou SMS).\nVíce informací na tel č. 725 303 131 (Elisabeth Anna Staňková)\nNa akci platí stejná pravidla jako v NZDM. V případě vážného porušení pravidel Vás budeme kontaktovat.\nTurnaj se bude konat venku\, zvolte tedy prosím vhodnou obuv (tenisky\, turfy)\, kopačky jsou zakázané. Vhodné bude i teplé sportovní oblečení (mikina na večer)\, svačinu\, pití. Nějaké občerstvení bude i na místě.\nPřihlášku je nutné odevzdat nejpozději v úterý 1. 7. 2025.\nJestliže dítě na sraz nedorazí\, je třeba ho alespoň jeden den předem omluvit na telefonu 725 303 131. \nKlub bude tento den zavřený.
URL:https://leccos.cz/akce/7132/
LOCATION:Česká republika
CATEGORIES:Pro děti a mládež
ATTACH;FMTTYPE=image/jpeg:https://leccos.cz/wp-content/uploads/2025/06/FPP_250704-2.jpg
END:VEVENT
BEGIN:VEVENT
DTSTART;VALUE=DATE:20250707
DTEND;VALUE=DATE:20250712
DTSTAMP:20260423T122229
CREATED:20250223T165712Z
LAST-MODIFIED:20250629T121336Z
UID:6295-1751846400-1752278399@leccos.cz
SUMMARY:Výjezd NZDM Klubu Zvonice na téma EMOCE
DESCRIPTION:OBSAZENO!\nNZDM Klub Zvonice Český Brod pořádá v termínu 7. – 11. 7. 2025 Prázdninový resocializační pobyt se Zvonicí v Sušici (Klášter Menších Kapucínů\, Dlouhoveská 1\, 342 01 Sušice 1). V rámci programu máme pro účastníky hry\, výlety a tvořivé i volnočasové aktivity\, které pomohou dětem v jejich dovednostech v každodenním životě. Zájemci musí projít prvokontaktem služby NZDM.  \nOdjezd: pondělí 7.7.2025\, odjezd v 8:00 od Zvonice\nPříjezd: pátek 11.7.2025\, čas příjezdu kolem 13:00 ke Zvonici (pošleme SMS) \nCena 500 Kč na osobu. Částku lze uhradit nejpozději 28. 4. 2025. (Lze se domluvit i na dvou splátkách.) Cena zahrnuje ubytování\, cestovné\, stravu 5 x denně\, pitný režim\, vstupné a materiál na programy.\nDoporučené kapesné: 150 Kč (účastník si může kapesné uložit u pracovníka) \nPřihlášku\, včetně úhrady jsou účastníci povinni odevzdat nejpozději do 28. 4. 2025\, 18:00. \nZveme Vás na informační schůzku pro rodiče s dětmi\, které jedou na prázdninový pobyt. Koná se v pondělí 23. 6. 2025 v 18:00 v prostorách NZDM Klubu Zvonice. \nDalší informace poskytne Petra Ištvániková na telefonu 602 446 195. \nTento resocializační pobyt můžeme pro děti realizovat díky finanční podpoře Města Český Brod a @nadacnifondalbert\nDěkujeme! ❤️
URL:https://leccos.cz/akce/vyjezd-nzdm-klubu-zvonice-na-tema-emoce/
LOCATION:Česká republika
CATEGORIES:Pro děti a mládež
ATTACH;FMTTYPE=image/jpeg:https://leccos.cz/wp-content/uploads/2025/02/Vyjezd_2025.jpg
END:VEVENT
BEGIN:VEVENT
DTSTART;TZID=Europe/Prague:20250707T080000
DTEND;TZID=Europe/Prague:20250711T163000
DTSTAMP:20260423T122229
CREATED:20250217T193444Z
LAST-MODIFIED:20250306T154053Z
UID:6212-1751875200-1752251400@leccos.cz
SUMMARY:Příměstský tábor pro nejmenší
DESCRIPTION:pro děti od 3 do 6 let\nDobrodružný týden – výlety\, sportovní hry\, výtvarka… \nS SEBOU\npřezůvky\, základní náhradní oblečení\, svačiny \nCENA: 3 100\,- Kč \nCena zahrnuje: obědy\, vstupenky\, provozní náklady\, práci vedoucích \nPřihlaste se online! \nPodklady pro platbu: \nČíslo účtu: 221457653/0600\nSpecifický symbol: 302224\nVariabilní symbol: datum narození dítěte ve formátu ddmmrrrr \nzáloha 2000\,- Kč do 31. 5. 2025\ndoplatek 1100\,- Kč do 25. 6. 2025 \nZÁKLADNA\nRC Kostička\, nám. Arnošta z Pardubic 12\, Český Brod \nVEDOUCÍ\nPetra Čurgaliová\, petra@leccos.cz\, 737 312 056 \nInformační schůzka 10. 6. 2025 v 17:00\nv RC Kostička – Nám. Arnošta z Pardubic 12\, Český Brod
URL:https://leccos.cz/akce/primestsky-tabor-pro-nejmensi-5/
LOCATION:Rodinné centrum Kostička\, Nám. Arnošta z Pardubic 12\, Český Brod\, Česká republika\, 282 01
CATEGORIES:Pro děti a mládež
ATTACH;FMTTYPE=image/jpeg:https://leccos.cz/wp-content/uploads/2025/02/25-primestske-tabory-RC-plakat.jpg
END:VEVENT
BEGIN:VEVENT
DTSTART;TZID=Europe/Prague:20250710T073000
DTEND;TZID=Europe/Prague:20250710T170000
DTSTAMP:20260423T122229
CREATED:20250519T114701Z
LAST-MODIFIED:20250519T115220Z
UID:6764-1752132600-1752166800@leccos.cz
SUMMARY:Výlet na hrad Karlštejn
DESCRIPTION:O letních prázdninách vyrazíme hned na několik výletů. Jako první jsme si pro Vás připravili výlet na hrad Karlštejn\, kam pojedeme 10. 7. 2025. \nVýlet je určen pro děti od 8 let! \nSraz bude v 7:30 hod. před budovou vlakového nádraží v Poděbradech. \nPředpokládaný návrat bude v 17:00 hod.  \nPro více informací nás neváhej kontaktovat nebo navštívit osobně v klubu. \n 
URL:https://leccos.cz/akce/vylet-na-hrad-karlstejn/
LOCATION:Karlštejn\, Karlštejn 172\, Karlštejn\, 267 18\, Czech Republic
CATEGORIES:Pro děti a mládež
ATTACH;FMTTYPE=image/jpeg:https://leccos.cz/wp-content/uploads/2025/05/Vylet-na-Karlstejn.jpg
END:VEVENT
BEGIN:VEVENT
DTSTART;TZID=Europe/Prague:20250717T074500
DTEND;TZID=Europe/Prague:20250717T172800
DTSTAMP:20260423T122229
CREATED:20250618T090355Z
LAST-MODIFIED:20250618T091142Z
UID:7054-1752738300-1752773280@leccos.cz
SUMMARY:Cestujeme vlakem za hochy od Bobří řeky
DESCRIPTION:Ve čtvrtek 17. 7. 2025 pojedeme na výlet vlakem na Sázavu\, kde nás čeká stezka plná úkolů a dobrodružství! \nVýlet je určen pro děti od 8 let a je ZDARMA! \nPokud tě výlet zaujal\, tak se zastav pro přihlášku na klubu.
URL:https://leccos.cz/akce/cestujeme-vlakem-za-hochy-od-bobri-reky-2/
LOCATION:Česká republika
CATEGORIES:Pro děti a mládež
ATTACH;FMTTYPE=image/jpeg:https://leccos.cz/wp-content/uploads/2025/06/Cestujeme-vlakem.17.7.2025.jpg
END:VEVENT
BEGIN:VEVENT
DTSTART;VALUE=DATE:20250719
DTEND;VALUE=DATE:20250727
DTSTAMP:20260423T122229
CREATED:20250217T195340Z
LAST-MODIFIED:20250306T154311Z
UID:6219-1752883200-1753574399@leccos.cz
SUMMARY:Tábor v ráji
DESCRIPTION:Tábor se zaměřením na pohybové aktivity v přírodě – výlety\, plavání\, soutěže\, táborové a psychosociální hry a další zážitkové aktivity … \nUskuteční se uprostřed krásné přírody Českého ráje v rekreačním středisku „PALDA“\, nedaleko hradu Trosky.\nDěti se naučí starat se samy o sebe\, hledat východiska z problémů\, čelit strachu. Fyzická náročnost bude přizpůsobena věku a zdatnosti dětí. Nebude chybět celotáborová hra a večerní program. \nPro děti z pěstounských rodin nabízíme v rámci odlehčovací služby. \nCena: 9.500 Kč \nCena zahrnuje: ubytování ve 4 lůžkových chatičkách\, 7 nocí s plnou penzí\, pitný režim\, doprava z Českého Brodu tam\, celodenní program\, pedagogický a zdravotnický dozor\, sportovní a výtvarné aktivity\, outdoor aktivity\, výlety\, odměny \nOdvoz dětí z tábora v sobotu 26. 7. 2025 mezi 10.00 – 10.30 hod. \nPřihlašte se online! \nPodklady pro platbu: \nČíslo účtu: 221457653/0600\nSpecifický symbol: 322224\nVariabilní symbol: datum narození dítěte ve formátu ddmmrrrr \nzáloha 5000\,- Kč do 31. 5. 2025\ndoplatek 4500\,- Kč do 25. 6. 2025 \nVedoucí:\nAndrea Hradecká\nPetra Čurgaliová\nLucie Čurgaliová \nKontakt:\nAndrea Hradecká\, andrea@leccos.cz\, 602 112 679\nPetra Čurgaliová\, petra@leccos.cz\, 737 312 056 \nInformační schůzka 10. 6. 2025 v 17:30\nv RC Kostička – Nám. Arnošta z Pardubic 12\, Český Brod
URL:https://leccos.cz/akce/tabor-v-raji-4/
LOCATION:Palda – rekreační středisko\, s. r.o. – Camping v ráji\, Liščí Kotce 10\, Rovensko pod Troskami\, 51263\, Česká republika
CATEGORIES:Pro děti a mládež
ATTACH;FMTTYPE=image/jpeg:https://leccos.cz/wp-content/uploads/2025/02/25_tabor_v_raji_plakat.jpg
END:VEVENT
BEGIN:VEVENT
DTSTART;TZID=Europe/Prague:20250721T130000
DTEND;TZID=Europe/Prague:20250721T180000
DTSTAMP:20260423T122229
CREATED:20250629T121617Z
LAST-MODIFIED:20250720T091139Z
UID:7135-1753102800-1753120800@leccos.cz
SUMMARY:ZRUŠENO! Výlet na zříceninu hradu Šember
DESCRIPTION:Zítra odpoledne 21. 7. 2025 mají být bouřky a déšť Musíme proto bohužel zrušit plánovaný výlet. NZDM Klub Zvonice Český Brod ale otevřený 14.00 -18.00. \nV pondělí 21. července 2025  vyrážíme na zříceninu hradu Šember! Sraz u kaštanu před vlakovým nádražím v Českém Brodě ve 13:15 hodin. Přidej se k nám z NZDM Klubu Zvonice na dobrodružnou výpravu do historie a přírody. Nezapomeň se přihlásit! \nKlub bude tento den zavřený.
URL:https://leccos.cz/akce/vylet-na-zriceninu-hradu-sember/
LOCATION:Česká republika
CATEGORIES:Pro děti a mládež
ATTACH;FMTTYPE=image/jpeg:https://leccos.cz/wp-content/uploads/2025/06/250721-2.jpg
END:VEVENT
BEGIN:VEVENT
DTSTART;TZID=Europe/Prague:20250722T150000
DTEND;TZID=Europe/Prague:20250722T180000
DTSTAMP:20260423T122229
CREATED:20250629T121828Z
LAST-MODIFIED:20250701T131658Z
UID:7141-1753196400-1753207200@leccos.cz
SUMMARY:Zvonicový turnaj v šipkách
DESCRIPTION:V úterý 22. července 2025 od 15.00 pořádáme Zvonicový turnaj v šipkách. Kdo chce hrát\, musí se včas zapsat na startovní listinu. Přijď si zasoutěžit a užít si zábavu!\nAkce je otevřená všem kdo do Zvonice najdou cestu.\nNabízíme také individuální sociální poradenství pro zájemce do 26 let v časech od 14.00 do 18.00 hodin.
URL:https://leccos.cz/akce/zvonicovy-turnaj-v-sipkach/
LOCATION:NZDM Klub Zvonice Český Brod\, Žižkova 508\, Český Brod\, Česká republika\, 282 01
CATEGORIES:Pro děti a mládež
ATTACH;FMTTYPE=image/jpeg:https://leccos.cz/wp-content/uploads/2025/06/250722.jpg
END:VEVENT
BEGIN:VEVENT
DTSTART;TZID=Europe/Prague:20250724T074500
DTEND;TZID=Europe/Prague:20250724T160000
DTSTAMP:20260423T122229
CREATED:20250519T090020Z
LAST-MODIFIED:20250519T090216Z
UID:6760-1753343100-1753372800@leccos.cz
SUMMARY:Výlet do Safari parku ve Dvoře Králové
DESCRIPTION:Ve čtvrtek 24.7.2025 pořádáme výlet do Safari parku ve Dvoře Králové. \nNavštívíme Safari park Dvůr Králové. V rámci výletu je připravena prohlídka zoo a následně jízda Afrika truckem po safari. \nSraz před vlakovým nádražím v 7:45 a návrat v 16:00. \nCena: Zdarma \nAkce je určena pro děti od 8 let. \nPřihlášky k dostání na klubu. Odevzdání přihlášek je do 9.7.2025!  \nKapacita je omezena!
URL:https://leccos.cz/akce/vylet-do-safari-parku-ve-dvore-kralove/
LOCATION:NZDM Klub Zvonice Poděbrady\, Družstevní 1461/III\, Poděbrady\, 29001\, Česká republika
CATEGORIES:Pro děti a mládež
ATTACH;FMTTYPE=image/png:https://leccos.cz/wp-content/uploads/2025/05/safari-2.png
END:VEVENT
BEGIN:VEVENT
DTSTART;TZID=Europe/Prague:20250728T083000
DTEND;TZID=Europe/Prague:20250728T170000
DTSTAMP:20260423T122229
CREATED:20250629T122027Z
LAST-MODIFIED:20250726T074451Z
UID:7144-1753691400-1753722000@leccos.cz
SUMMARY:ZRUŠENO! Výlet do Radimi a na Pičhoru
DESCRIPTION:Na akci se nám přihlásilo málo dětí. Musíme proto bohužel zrušit plánovaný výlet. ⏰️NZDM Klub Zvonice Český Brod ale otevřený 14.00 -18.00. \nV pondělí 28. července 2025 v 8.40 vyrážíme na výlet do Radimi a na Pičhoru. Sraz je u kaštanu před vlakovým nádražím v Českém Brodě. Přihlaste se včas a vydejte se s námi za dobrodružstvím! \n  \n 
URL:https://leccos.cz/akce/vylet-do-radimi-a-na-pichoru/
LOCATION:Česká republika
CATEGORIES:Pro děti a mládež
ATTACH;FMTTYPE=image/jpeg:https://leccos.cz/wp-content/uploads/2025/06/250728-1.jpg
END:VEVENT
BEGIN:VEVENT
DTSTART;TZID=Europe/Prague:20250731T083000
DTEND;TZID=Europe/Prague:20250731T170000
DTSTAMP:20260423T122229
CREATED:20250618T091056Z
LAST-MODIFIED:20250618T091056Z
UID:7057-1753950600-1753981200@leccos.cz
SUMMARY:Výlet na zámek Loučeň s návštěvou labyrintů
DESCRIPTION:Poslední červencový čtvrtek 31. 7. 2025 vyrazíme na nedaleký zámek Loučeň. \nVýlet je určen pro děti od 8 let a je ZDARMA! \nPřihlášky na klubu! \n 
URL:https://leccos.cz/akce/vylet-na-zamek-loucen-s-navstevou-labyrintu/
LOCATION:Česká republika
CATEGORIES:Pro děti a mládež
ATTACH;FMTTYPE=image/jpeg:https://leccos.cz/wp-content/uploads/2025/06/Loucen.jpg
END:VEVENT
END:VCALENDAR