BEGIN:VCALENDAR
VERSION:2.0
PRODID:-//LECCOS, z. s. - ECPv6.15.19//NONSGML v1.0//EN
CALSCALE:GREGORIAN
METHOD:PUBLISH
X-ORIGINAL-URL:https://leccos.cz
X-WR-CALDESC:Akce na LECCOS, z. s.
REFRESH-INTERVAL;VALUE=DURATION:PT1H
X-Robots-Tag:noindex
X-PUBLISHED-TTL:PT1H
BEGIN:VTIMEZONE
TZID:Europe/Prague
BEGIN:DAYLIGHT
TZOFFSETFROM:+0100
TZOFFSETTO:+0200
TZNAME:CEST
DTSTART:20240331T010000
END:DAYLIGHT
BEGIN:STANDARD
TZOFFSETFROM:+0200
TZOFFSETTO:+0100
TZNAME:CET
DTSTART:20241027T010000
END:STANDARD
BEGIN:DAYLIGHT
TZOFFSETFROM:+0100
TZOFFSETTO:+0200
TZNAME:CEST
DTSTART:20250330T010000
END:DAYLIGHT
BEGIN:STANDARD
TZOFFSETFROM:+0200
TZOFFSETTO:+0100
TZNAME:CET
DTSTART:20251026T010000
END:STANDARD
BEGIN:DAYLIGHT
TZOFFSETFROM:+0100
TZOFFSETTO:+0200
TZNAME:CEST
DTSTART:20260329T010000
END:DAYLIGHT
BEGIN:STANDARD
TZOFFSETFROM:+0200
TZOFFSETTO:+0100
TZNAME:CET
DTSTART:20261025T010000
END:STANDARD
END:VTIMEZONE
BEGIN:VEVENT
DTSTART;TZID=Europe/Prague:20250602T150000
DTEND;TZID=Europe/Prague:20250602T170000
DTSTAMP:20260423T133914
CREATED:20250525T195720Z
LAST-MODIFIED:20250530T123638Z
UID:6839-1748876400-1748883600@leccos.cz
SUMMARY:Zabij nudu jako profík! - workshop
DESCRIPTION:Pondělí 2. června 2025 od 15.00 bude patřit úvodu do červnového tématu měsíce. V NZDM Klubu Zvonice Český Brod odstartujeme sérii aktivit pod heslem „Zabij nudu jako profík!“.\nPřijď si vyzkoušet\, jak se dá volný čas trávit kreativně\, smysluplně a hlavně zábavně. Akce je vhodná pro všechny\, kdo chtějí objevit nové možnosti\, jak se nenudit \nNabízíme také individuální sociální poradenství pro zájemce do 26 let v časech od 14.00 do 15.00 hodin a od 17.00 do 18.00 hodin
URL:https://leccos.cz/akce/zabij-nudu-jako-profik-worshop/
LOCATION:NZDM Klub Zvonice Český Brod\, Žižkova 508\, Český Brod\, Česká republika\, 282 01
CATEGORIES:Pro děti a mládež
ATTACH;FMTTYPE=image/png:https://leccos.cz/wp-content/uploads/2025/05/250602.png
END:VEVENT
BEGIN:VEVENT
DTSTART;TZID=Europe/Prague:20250604T160000
DTEND;TZID=Europe/Prague:20250625T173000
DTSTAMP:20260423T133914
CREATED:20250602T115602Z
LAST-MODIFIED:20250602T115650Z
UID:6950-1749052800-1750872600@leccos.cz
SUMMARY:Sportovky
DESCRIPTION:Pozor změna! \nV červnu budou Sportovky probíhat před klubem z důvodu rekonstrukce hřiště Na Valech. \nTěšíme se na Vás každou středu od 16:00 do 17:30!
URL:https://leccos.cz/akce/sportovky-3/
LOCATION:NZDM Klub Zvonice Poděbrady\, Družstevní 1461/III\, Poděbrady\, 29001\, Česká republika
CATEGORIES:Pro děti a mládež
ATTACH;FMTTYPE=image/png:https://leccos.cz/wp-content/uploads/2025/06/Sportovky-cerven.png
END:VEVENT
BEGIN:VEVENT
DTSTART;TZID=Europe/Prague:20250606T133000
DTEND;TZID=Europe/Prague:20250606T200000
DTSTAMP:20260423T133914
CREATED:20250525T195428Z
LAST-MODIFIED:20250605T183336Z
UID:6829-1749216600-1749240000@leccos.cz
SUMMARY:ZRUŠENO! Zápas Fair Play Point ligy
DESCRIPTION:Pro malý počet přihlášených a nemoc účastníků je akce zrušena.\nMísto akce: Základní škola\, Praha 10\, Gutova 1987/39\nSraz: pátek 6. června 2025; 13:30 na vlakovém nádraží Český Brod (odjez vlaku je v 13:40)\nPředpokládaný návrat z akce je kolem 20:30 hodin (přesný čas bude upřesněn formou SMS). Více informací na tel č. 725 303 131 (Elisabeth Anna Staňková)\nNa akci platí stejná pravidla jako v NZDM. V případě vážného porušení pravidel budeme kontaktovat rodiče.\nZápas se bude konat venku\, zvolte tedy prosím vhodnou obuv (tenisky\, turfy)\, kopačky jsou zakázané.\nPřihlášku je nutné odevzdat nejpozději v úterý 3. 6. 2025\nJestliže dítě na sraz nedorazí\, je třeba ho předem omluvit na telefonu 725 303 131.
URL:https://leccos.cz/akce/zapas-fair-play-point-ligy-9/
LOCATION:Česká republika
CATEGORIES:Pro děti a mládež
ATTACH;FMTTYPE=image/png:https://leccos.cz/wp-content/uploads/2025/05/FPP_250606.png
END:VEVENT
BEGIN:VEVENT
DTSTART;TZID=Europe/Prague:20250607T150000
DTEND;TZID=Europe/Prague:20250608T090000
DTSTAMP:20260423T133914
CREATED:20250525T200433Z
LAST-MODIFIED:20250525T200433Z
UID:6842-1749308400-1749373200@leccos.cz
SUMMARY:Zvonicová přespávačka
DESCRIPTION:Sobota 7. června 2025 od 15.00 bude patřit Zvonicové přespávačce! Čeká nás večer plný her\, zábavy\, společného vaření a přespání v Klubu Zvonice Český Brod.\nPředpokládaný konec akce je v neděli 8. června 2025 v 9.00 hodin\, kdy se účastníci přespávačky rozejdou domů. Děti budou spát na zemi na vlastních karimatkách a ve vlastním spacáku. Dle potřeby můžeme v klubu vybavení zapůjčit\, je však třeba si o to včas požádat pracovníka klubu. Zajistíme pitný režim\, páteční večeři a sobotní snídani. Doporučujeme: osobní hygienu\, oblečení na spaní\, polštářek apod. dle zvážení.\nPřihláška je závazná\, v případě potřeby omluvy dítěte\, nebo získání dalších podrobností o akci volejte 725 303 131. V případě vážného porušení pravidel Vás budeme kontaktovat a dítě opouští klub. \nPŘIHLÁŠKU JE TŘEBA ODEVZDAT NEJPOZDĚJI V ÚTERÝ 3. 6. 2025 \nNezapomeň si spacák\, dobrou náladu a přihlas se včas – kapacita je omezená! Přespávačka je ideální pro ty\, kdo chtějí zažít Zvonici trochu jinak.
URL:https://leccos.cz/akce/zvonicova-prespavacka/
LOCATION:NZDM Klub Zvonice Český Brod\, Žižkova 508\, Český Brod\, Česká republika\, 282 01
CATEGORIES:Pro děti a mládež
ATTACH;FMTTYPE=image/png:https://leccos.cz/wp-content/uploads/2025/05/250607.png
END:VEVENT
BEGIN:VEVENT
DTSTART;TZID=Europe/Prague:20250613T140000
DTEND;TZID=Europe/Prague:20250613T153000
DTSTAMP:20260423T133914
CREATED:20250525T200916Z
LAST-MODIFIED:20250525T200916Z
UID:6847-1749823200-1749828600@leccos.cz
SUMMARY:Fotbalový trénink ve Zvonici
DESCRIPTION:Přijď si zahrát a potrénovat! V pátek 13. a 20. června 2025 od 14:00 se v Klubu Zvonice Český Brod konají fotbalové tréninky. Ať už jsi zkušený hráč nebo si chceš jen kopnout s partou\, jsi vítán. Přijď si užít pohyb\, týmovou hru a dobrou náladu. \nPokud máš zájem chodit na fotbalové tréninky a jezdit na zápasy\, oslov naše pracovníky NZDM\, tel.: 602 446 195 (k dispozici v době otevření klubu)\, e-mail: zvonice@leccos.cz
URL:https://leccos.cz/akce/fotbalovy-trenink-ve-zvonici/
LOCATION:NZDM Klub Zvonice Český Brod\, Žižkova 508\, Český Brod\, Česká republika\, 282 01
CATEGORIES:Pro děti a mládež
ATTACH;FMTTYPE=image/png:https://leccos.cz/wp-content/uploads/2025/05/fotbal_cerven.png
END:VEVENT
BEGIN:VEVENT
DTSTART;TZID=Europe/Prague:20250613T153000
DTEND;TZID=Europe/Prague:20250613T170000
DTSTAMP:20260423T133914
CREATED:20250525T200612Z
LAST-MODIFIED:20250525T200612Z
UID:6845-1749828600-1749834000@leccos.cz
SUMMARY:Sportovky ve Zvonici
DESCRIPTION:V pátek 13. a 20. června 2025 od 15.30 se v Klubu Zvonice Český Brod konají sportovky! Přijď si zasportovat\, rozhýbat tělo a užít si odpoledne plné pohybu a dobré nálady.\nAkce je otevřená všem bez ohledu na výkonnost – hlavní je chuť se hýbat a bavit se.\nNabízíme také individuální sociální poradenství pro zájemce do 26 let v časech od 13.00 do 15.30 hodin.
URL:https://leccos.cz/akce/sportovky-ve-zvonici/
LOCATION:NZDM Klub Zvonice Český Brod\, Žižkova 508\, Český Brod\, Česká republika\, 282 01
CATEGORIES:Pro děti a mládež
ATTACH;FMTTYPE=image/png:https://leccos.cz/wp-content/uploads/2025/05/sportovky_cerven.png
END:VEVENT
BEGIN:VEVENT
DTSTART;TZID=Europe/Prague:20250617T150000
DTEND;TZID=Europe/Prague:20250617T170000
DTSTAMP:20260423T133914
CREATED:20250525T201113Z
LAST-MODIFIED:20250525T201113Z
UID:6849-1750172400-1750179600@leccos.cz
SUMMARY:Zabij nudu jako profík! – druhý workshop
DESCRIPTION:V úterý 17. června 2025 od 15.00 pokračujeme v tématu měsíce „Zabij nudu jako profík!“ Tentokrát se zaměříme na konkrétní návody\, jak si poradit s nudou kreativně a efektivně. V NZDM Klubu Zvonice Český Brod tě čekají tipy\, triky a inspirace\, které tě vytáhnou z nudy raz dva. \n\nNabízíme také individuální sociální poradenství pro zájemce do 26 let v časech od 14.00 do 15.00 hodin a od 17.00 do 18.00 hodin.
URL:https://leccos.cz/akce/zabij-nudu-jako-profik-druhy-workshop/
LOCATION:NZDM Klub Zvonice Český Brod\, Žižkova 508\, Český Brod\, Česká republika\, 282 01
CATEGORIES:Pro děti a mládež
ATTACH;FMTTYPE=image/png:https://leccos.cz/wp-content/uploads/2025/05/250617.png
END:VEVENT
BEGIN:VEVENT
DTSTART;TZID=Europe/Prague:20250623T180000
DTEND;TZID=Europe/Prague:20250623T190000
DTSTAMP:20260423T133914
CREATED:20250622T083727Z
LAST-MODIFIED:20250622T084347Z
UID:7065-1750701600-1750705200@leccos.cz
SUMMARY:Informační schůzka k výjezdu
DESCRIPTION:Informační schůzka k výjezdu dětí a pracovníků v NZDM Klub Zvonice Český Brod se koná v pondělí 23. 6. 2025 přímo ve Zvonici. Probereme program\, rozdáme potvrzení o bezinfekčnosti\, zodpovíme dotazy apod.\nKomu se termín nehodí\, může volat na telefonní číslo 602 446 195 nebo psát na e-mail: petrai@leccos.cz. \nTento resocializační pobyt můžeme pro děti realizovat díky finanční podpoře Město Český Brod a Nadační fond Albert.\nDěkujeme!
URL:https://leccos.cz/akce/informacni-schuzka-k-vyjezdu/
LOCATION:NZDM Klub Zvonice Český Brod\, Žižkova 508\, Český Brod\, Česká republika\, 282 01
CATEGORIES:Pro děti a mládež,Pro pěstouny,Pro rodiče
ATTACH;FMTTYPE=image/jpeg:https://leccos.cz/wp-content/uploads/2025/06/Infoschuzka.jpg
END:VEVENT
BEGIN:VEVENT
DTSTART;TZID=Europe/Prague:20250624T150000
DTEND;TZID=Europe/Prague:20250624T170000
DTSTAMP:20260423T133914
CREATED:20250525T201233Z
LAST-MODIFIED:20250525T201233Z
UID:6852-1750777200-1750784400@leccos.cz
SUMMARY:Zabij nudu jako profík – závěrečný workshop
DESCRIPTION:Téma měsíce uzavřeme v úterý 24. června 2025 od 15.00 v Klubu Zvonice Český Brod. Přijď s námi zhodnotit\, co všechno jsme se naučili\, co tě bavilo nejvíc a co si odneseš do prázdnin. Závěrečné setkání bude plné sdílení\, her a překvapení. \n\nNabízíme také individuální sociální poradenství pro zájemce do 26 let v časech od 14.00 do 15.00 hodin a od 17.00 do 18.00 hodin.
URL:https://leccos.cz/akce/zabij-nudu-jako-profik-zaverecny-workshop/
LOCATION:NZDM Klub Zvonice Český Brod\, Žižkova 508\, Český Brod\, Česká republika\, 282 01
CATEGORIES:Pro děti a mládež
ATTACH;FMTTYPE=image/png:https://leccos.cz/wp-content/uploads/2025/05/250624.png
END:VEVENT
BEGIN:VEVENT
DTSTART;TZID=Europe/Prague:20250625T160000
DTEND;TZID=Europe/Prague:20250625T173000
DTSTAMP:20260423T133914
CREATED:20250606T121015Z
LAST-MODIFIED:20250606T121015Z
UID:7019-1750867200-1750872600@leccos.cz
SUMMARY:Vyjížďka na koloběžkách
DESCRIPTION:Ve středu 25. 6. 2025 vyrazíme v rámci Sportovek na první letošní vyjížďku na koloběžkách! \nOdjezd od klubu v 16:00! \nNa vyjížďku je potřeba se předem přihlásit na klubu do 23. 6. 2025!
URL:https://leccos.cz/akce/vyjizdka-na-kolobezkach/
LOCATION:NZDM Klub Zvonice Poděbrady\, Družstevní 1461/III\, Poděbrady\, 29001\, Česká republika
CATEGORIES:Pro děti a mládež
ATTACH;FMTTYPE=image/jpeg:https://leccos.cz/wp-content/uploads/2025/06/Vylet-na-kolobezkach-s-NZDM-Klub-Zvonice-Podebrady.jpg
END:VEVENT
BEGIN:VEVENT
DTSTART;TZID=Europe/Prague:20250626T140000
DTEND;TZID=Europe/Prague:20250626T180000
DTSTAMP:20260423T133914
CREATED:20250610T093151Z
LAST-MODIFIED:20250610T093151Z
UID:7023-1750946400-1750960800@leccos.cz
SUMMARY:Zakončení školního roku
DESCRIPTION:Ve čtvrtek 26. 6. 2025 společně oslavíme na klubu konec školního roku! \nTěšit se můžete na pestrý program a drobné občerstvení. \nZačínáme ve 14:00!
URL:https://leccos.cz/akce/zakonceni-skolniho-roku/
LOCATION:NZDM Klub Zvonice Poděbrady\, Družstevní 1461/III\, Poděbrady\, 29001\, Česká republika
CATEGORIES:Pro děti a mládež
ATTACH;FMTTYPE=image/png:https://leccos.cz/wp-content/uploads/2025/06/Zakonceni-skolniho-roku.png
END:VEVENT
BEGIN:VEVENT
DTSTART;TZID=Europe/Prague:20250627T123000
DTEND;TZID=Europe/Prague:20250627T150000
DTSTAMP:20260423T133914
CREATED:20250525T201647Z
LAST-MODIFIED:20250526T124252Z
UID:6855-1751027400-1751036400@leccos.cz
SUMMARY:Po vysvědčení se Zvonicí do kina!
DESCRIPTION:Přijď s námi oslavit konec školního roku a začátek prázdnin filmovým zážitkem! \nV pátek 27. června 2025 ve 12.30 vyrážíme s NZDM Klubem Zvonice Český Brod společně do kina na film „Jak vycvičit draka“. Sraz je před KD Svět\, Krále Jiřího 332 v Českém Brodě. Předpokládaný konec kolem 15.00\, po představení děti půjdou samy domů nebo v doprovodu zákonného zástupce. Kdo bude chtít\, může jít s námi do klubu\, který končí v 18.00.\nVstupné je symbolických 20 Kč. \nPodrobnosti v NZDM Klub Zvonice\, na čísle tel.: 602 446 195 (k dispozici v době otevření klubu). Na akci platí stejná pravidla jako v NZDM. Akce se koná v případě zájmu alespoň 6 dětí. \nPŘIHLÁŠKU JE TŘEBA ODEVZDAT NEJPOZDĚJI V PONDĚLÍ 23. 6. 2025
URL:https://leccos.cz/akce/po-vysvedceni-se-zvonici-do-kina/
LOCATION:KD Svět\, Krále Jiřího 332\, Český Brod\, Česká republika\, 282 01
CATEGORIES:Pro děti a mládež
ATTACH;FMTTYPE=image/png:https://leccos.cz/wp-content/uploads/2025/05/250629-1.png
END:VEVENT
END:VCALENDAR