BEGIN:VCALENDAR
VERSION:2.0
PRODID:-//LECCOS, z. s. - ECPv6.15.19//NONSGML v1.0//EN
CALSCALE:GREGORIAN
METHOD:PUBLISH
X-ORIGINAL-URL:https://leccos.cz
X-WR-CALDESC:Akce na LECCOS, z. s.
REFRESH-INTERVAL;VALUE=DURATION:PT1H
X-Robots-Tag:noindex
X-PUBLISHED-TTL:PT1H
BEGIN:VTIMEZONE
TZID:Europe/Prague
BEGIN:DAYLIGHT
TZOFFSETFROM:+0100
TZOFFSETTO:+0200
TZNAME:CEST
DTSTART:20240331T010000
END:DAYLIGHT
BEGIN:STANDARD
TZOFFSETFROM:+0200
TZOFFSETTO:+0100
TZNAME:CET
DTSTART:20241027T010000
END:STANDARD
BEGIN:DAYLIGHT
TZOFFSETFROM:+0100
TZOFFSETTO:+0200
TZNAME:CEST
DTSTART:20250330T010000
END:DAYLIGHT
BEGIN:STANDARD
TZOFFSETFROM:+0200
TZOFFSETTO:+0100
TZNAME:CET
DTSTART:20251026T010000
END:STANDARD
BEGIN:DAYLIGHT
TZOFFSETFROM:+0100
TZOFFSETTO:+0200
TZNAME:CEST
DTSTART:20260329T010000
END:DAYLIGHT
BEGIN:STANDARD
TZOFFSETFROM:+0200
TZOFFSETTO:+0100
TZNAME:CET
DTSTART:20261025T010000
END:STANDARD
END:VTIMEZONE
BEGIN:VEVENT
DTSTART;TZID=Europe/Prague:20250402T160000
DTEND;TZID=Europe/Prague:20250528T173000
DTSTAMP:20260423T145113
CREATED:20250401T105208Z
LAST-MODIFIED:20250602T115417Z
UID:6508-1743609600-1748453400@leccos.cz
SUMMARY:Sportovky
DESCRIPTION:Je to tady! Na jarní Sportovky se můžete těšit každou středu od dubna do června v čase 16:00 – 17:30. \nBudeme se pravidelně potkávat na hřišti Na Valech. \nZačínáme 2. 4. 2025!
URL:https://leccos.cz/akce/sportovky/
LOCATION:Hřiště „Na Valech“ u ZŠ Václava Havla\, Poděbrady\, Na Valech 45\, Poděbrady\, středočeský\, 29001\, Česká republika
CATEGORIES:Pro děti a mládež
ATTACH;FMTTYPE=image/png:https://leccos.cz/wp-content/uploads/2025/04/Jarni-sportovky.png
END:VEVENT
BEGIN:VEVENT
DTSTART;TZID=Europe/Prague:20250502T140000
DTEND;TZID=Europe/Prague:20250502T150000
DTSTAMP:20260423T145113
CREATED:20250417T191628Z
LAST-MODIFIED:20250430T135101Z
UID:6673-1746194400-1746198000@leccos.cz
SUMMARY:Fotbalový trénink Fair Play Point ligy
DESCRIPTION:Fotbalový trénink se koná 6. května 2025 od 15:00\, což je úterý. Další tréninky probíhají 2. května\, 23. května a 30. května 2025 od 14.00\, každý pátek v NZDM Klubu Zvonice Český Brod. \nPokud máte zájem chodit na fotbalové tréninky a jezdit na zápasy\, oslovte naše pracovníky NZDM\, tel.: 602 446 195 (k dispozici v době otevření klubu)\, e-mail: zvonice@leccos.cz
URL:https://leccos.cz/akce/fotbalovy-trenink-fair-play-point-ligy-7/
LOCATION:NZDM Klub Zvonice Český Brod\, Žižkova 508\, Český Brod\, Česká republika\, 282 01
CATEGORIES:Pro děti a mládež
ATTACH;FMTTYPE=image/png:https://leccos.cz/wp-content/uploads/2025/04/fotbal_kveten.png
END:VEVENT
BEGIN:VEVENT
DTSTART;TZID=Europe/Prague:20250502T153000
DTEND;TZID=Europe/Prague:20250502T173000
DTSTAMP:20260423T145113
CREATED:20250417T191423Z
LAST-MODIFIED:20250417T191423Z
UID:6664-1746199800-1746207000@leccos.cz
SUMMARY:Sportovky
DESCRIPTION:Sportovní program se koná 2. května\, 23. května a 30. května 2025 od 15.30 hodin a probíhá každý pátek v NZDM Klubu Zvonice Český Brod. \nPřijďte si užít sportovní odpoledne plné zábavy a pohybu! Čekají na vás různé sportovní aktivity\, které vás rozhýbou a zlepší vaši kondici. Nezáleží na tom\, jestli jste začátečník nebo pokročilý\, každý je vítán! Přijďte se pobavit a strávit příjemné chvíle s přáteli. Sportovky jsou otevřené všem zájemcům bez ohledu na to\, zda chodí do Zvonice nebo ne. \nNabízíme také individuální sociální poradenství pro zájemce do 26 let v časech od 13.00 do 15.30 hodin.
URL:https://leccos.cz/akce/sportovky-2/
LOCATION:NZDM Klub Zvonice Český Brod\, Žižkova 508\, Český Brod\, Česká republika\, 282 01
CATEGORIES:Pro děti a mládež
ATTACH;FMTTYPE=image/png:https://leccos.cz/wp-content/uploads/2025/04/sportovky_kveten.png
END:VEVENT
BEGIN:VEVENT
DTSTART;TZID=Europe/Prague:20250512T150000
DTEND;TZID=Europe/Prague:20250512T163000
DTSTAMP:20260423T145113
CREATED:20250417T192106Z
LAST-MODIFIED:20250417T192106Z
UID:6675-1747062000-1747067400@leccos.cz
SUMMARY:Média - workshop
DESCRIPTION:Workshop s názvem Média\, které je tématem měsíce května\, se koná v pondělí 12. května 2025 od 15.00. V NZDM Klubu Zvonice Český Brod se budeme věnovat úvodu do nových a tradičních médií. \nAkce je zdarma a je otevřená všem zájemcům bez ohledu na to\, zda chodí do Zvonice nebo ne. Nabízíme také individuální sociální poradenství pro zájemce do 26 let v časech od 14.00 do 15.00 hodin a od 17.00 do 18.00 hodin. \nPřijďte se dozvědět více o tom\, jak média ovlivňují náš každodenní život a jak se v nich orientovat. \n  \n 
URL:https://leccos.cz/akce/media-workshop/
LOCATION:NZDM Klub Zvonice Český Brod\, Žižkova 508\, Český Brod\, Česká republika\, 282 01
CATEGORIES:Pro děti a mládež
ATTACH;FMTTYPE=image/png:https://leccos.cz/wp-content/uploads/2025/04/250512.png
END:VEVENT
BEGIN:VEVENT
DTSTART;TZID=Europe/Prague:20250516T130000
DTEND;TZID=Europe/Prague:20250516T200000
DTSTAMP:20260423T145113
CREATED:20250417T192821Z
LAST-MODIFIED:20250430T135143Z
UID:6682-1747400400-1747425600@leccos.cz
SUMMARY:Zápas Fair Play Point ligy
DESCRIPTION:Místo akce: Základní škola\, Praha 10\, Gutova 1987/39\nKdy: pátek 16. 5. 2025; 13.30 na vlakovém nádraží Český Brod (odjez vlaku je v 13:40). Předpokládaný návrat z akce je kolem 20.30 hodin (přesný čas bude upřesněn formou SMS).\nZápas se bude konat venku\, zvolte tedy prosím vhodnou obuv (tenisky\, turfy)\, kopačky jsou zakázané. Vhodné bude i teplé sportovní oblečení (například tepláky a mikina). Přihlášku je nutné odevzdat nejpozději v úterý 13. 5. 2025\nJestliže dítě na sraz nedorazí\, je třeba ho předem omluvit na telefonu 725 303 131.\nV tento den je v NZDM Klubu Zvonice zavřeno!
URL:https://leccos.cz/akce/zapas-fair-play-point-ligy-8/
LOCATION:Česká republika
CATEGORIES:Pro děti a mládež
ATTACH;FMTTYPE=image/png:https://leccos.cz/wp-content/uploads/2025/04/FPP_250516.png
END:VEVENT
BEGIN:VEVENT
DTSTART;TZID=Europe/Prague:20250519T150000
DTEND;TZID=Europe/Prague:20250519T170000
DTSTAMP:20260423T145113
CREATED:20250428T090757Z
LAST-MODIFIED:20250428T090757Z
UID:6693-1747666800-1747674000@leccos.cz
SUMMARY:Příprava pudinkových pohárků
DESCRIPTION:V pondělí 19. 5. 2025 si společně na klubu připravíme pudinkové pohárky! \nZačínáme v 15:00!
URL:https://leccos.cz/akce/priprava-pudinkovych-poharku/
LOCATION:NZDM Klub Zvonice Poděbrady\, Družstevní 1461/III\, Poděbrady\, 29001\, Česká republika
CATEGORIES:Pro děti a mládež
ATTACH;FMTTYPE=image/jpeg:https://leccos.cz/wp-content/uploads/2025/04/Pudinkove-poharky.jpg
END:VEVENT
BEGIN:VEVENT
DTSTART;TZID=Europe/Prague:20250520T150000
DTEND;TZID=Europe/Prague:20250520T173000
DTSTAMP:20260423T145113
CREATED:20250417T192317Z
LAST-MODIFIED:20250417T192317Z
UID:6677-1747753200-1747762200@leccos.cz
SUMMARY:Natáčení videa o Zvonici - workshop
DESCRIPTION:Natáčení videa o Zvonici se koná v úterý 20. května 2025 od 15.00. V NZDM Klubu Zvonice Český Brod se budeme věnovat tvorbě videa\, které představí náš klub a jeho aktivity. Přijďte se zapojit do natáčení a naučit se něco nového o tvorbě videí. Tato akce je otevřená pro všechny\, kteří mají zájem o média a chtějí se podílet na tvorbě obsahu bez ohledu na to\, zda chodí do Zvonice nebo ne. \nNabízíme také individuální sociální poradenství pro zájemce do 26 let v časech od 14.00 do 15.00 hodin a od 17.00 do 18.00 hodin.
URL:https://leccos.cz/akce/nataceni-videa-o-zvonici-workshop/
LOCATION:NZDM Klub Zvonice Český Brod\, Žižkova 508\, Český Brod\, Česká republika\, 282 01
CATEGORIES:Pro děti a mládež
ATTACH;FMTTYPE=image/png:https://leccos.cz/wp-content/uploads/2025/04/250520.png
END:VEVENT
BEGIN:VEVENT
DTSTART;TZID=Europe/Prague:20250529T140000
DTEND;TZID=Europe/Prague:20250529T180000
DTSTAMP:20260423T145113
CREATED:20250512T090120Z
LAST-MODIFIED:20250512T090120Z
UID:6743-1748527200-1748541600@leccos.cz
SUMMARY:Den dětí v NZDM Klub Zvonice Poděbrady
DESCRIPTION:Den dětí se blíží\, tak ho přijďte společně s námi oslavit! \nTěšit se můžete na venkovní hry a soutěže\, tvoření a něco dobrého na zub. \nAkce se bude konat na klubu ve čtvrtek 29. 5. 2025 od 14 hod.! \nTěšíme se na Vás!
URL:https://leccos.cz/akce/den-deti-v-nzdm-klub-zvonice-podebrady-2/
LOCATION:NZDM Klub Zvonice Poděbrady\, Družstevní 1461/III\, Poděbrady\, 29001\, Česká republika
CATEGORIES:Pro děti a mládež
ATTACH;FMTTYPE=image/png:https://leccos.cz/wp-content/uploads/2025/05/Den-deti-v-NZDM-Klub-Zvonice-Podebrady.png
END:VEVENT
BEGIN:VEVENT
DTSTART;TZID=Europe/Prague:20250531T074500
DTEND;TZID=Europe/Prague:20250531T153000
DTSTAMP:20260423T145113
CREATED:20250505T090804Z
LAST-MODIFIED:20250505T090804Z
UID:6731-1748677500-1748705400@leccos.cz
SUMMARY:Cestujeme vlakem za hochy od Bobří řeky
DESCRIPTION:Sedíš doma o víkendech a nemáš co dělat? \nTak s námi vyraž v sobotu 31.5.2025 na výlet vlakem\, kde nás čeká stezka plná úkolů zajímavostí a dobrodružství! \nPřihlášky k dostání na klubu. Odevzdání přihlášek do 28.5.2025! \nAkce je ZDARMA!
URL:https://leccos.cz/akce/cestujeme-vlakem-za-hochy-od-bobri-reky/
LOCATION:Česká republika
CATEGORIES:Pro děti a mládež
ATTACH;FMTTYPE=image/png:https://leccos.cz/wp-content/uploads/2025/05/Kopie-navrhu-Green-Illustration-Backpacking-Trip-Flyer.png
END:VEVENT
END:VCALENDAR