BEGIN:VCALENDAR
VERSION:2.0
PRODID:-//LECCOS, z. s. - ECPv6.15.19//NONSGML v1.0//EN
CALSCALE:GREGORIAN
METHOD:PUBLISH
X-ORIGINAL-URL:https://leccos.cz
X-WR-CALDESC:Akce na LECCOS, z. s.
REFRESH-INTERVAL;VALUE=DURATION:PT1H
X-Robots-Tag:noindex
X-PUBLISHED-TTL:PT1H
BEGIN:VTIMEZONE
TZID:Europe/Prague
BEGIN:DAYLIGHT
TZOFFSETFROM:+0100
TZOFFSETTO:+0200
TZNAME:CEST
DTSTART:20250330T010000
END:DAYLIGHT
BEGIN:STANDARD
TZOFFSETFROM:+0200
TZOFFSETTO:+0100
TZNAME:CET
DTSTART:20251026T010000
END:STANDARD
BEGIN:DAYLIGHT
TZOFFSETFROM:+0100
TZOFFSETTO:+0200
TZNAME:CEST
DTSTART:20260329T010000
END:DAYLIGHT
BEGIN:STANDARD
TZOFFSETFROM:+0200
TZOFFSETTO:+0100
TZNAME:CET
DTSTART:20261025T010000
END:STANDARD
BEGIN:DAYLIGHT
TZOFFSETFROM:+0100
TZOFFSETTO:+0200
TZNAME:CEST
DTSTART:20270328T010000
END:DAYLIGHT
BEGIN:STANDARD
TZOFFSETFROM:+0200
TZOFFSETTO:+0100
TZNAME:CET
DTSTART:20271031T010000
END:STANDARD
END:VTIMEZONE
BEGIN:VEVENT
DTSTART;TZID=Europe/Prague:20260204T160000
DTEND;TZID=Europe/Prague:20260325T170000
DTSTAMP:20260419T145921
CREATED:20260129T101017Z
LAST-MODIFIED:20260129T101017Z
UID:8262-1770220800-1774458000@leccos.cz
SUMMARY:Fit středy ve Zvonici
DESCRIPTION:V únoru a březnu budeme na klubu pravidelně cvičit! \nZačínáme ve středu 4. 2. 2026 v čase 16:00 – 17:00 hod.
URL:https://leccos.cz/akce/fit-stredy-ve-zvonici-3/
LOCATION:NZDM Klub Zvonice Poděbrady\, Družstevní 1461/III\, Poděbrady\, 29001\, Česká republika
CATEGORIES:Pro děti a mládež
ATTACH;FMTTYPE=image/png:https://leccos.cz/wp-content/uploads/2026/01/Fit-stredy-ve-Zvonici.png
END:VEVENT
BEGIN:VEVENT
DTSTART;TZID=Europe/Prague:20260302T150000
DTEND;TZID=Europe/Prague:20260302T170000
DTSTAMP:20260419T145921
CREATED:20260227T095121Z
LAST-MODIFIED:20260227T095121Z
UID:8411-1772463600-1772470800@leccos.cz
SUMMARY:Duševní pohoda – úvodní workshop
DESCRIPTION:V pondělí 2. března 2026 od 15.00 proběhne v NZDM Klub Zvonice\, Český Brod úvodní workshop k tématu měsíce Duševní pohoda. Program si připravily pracovnice klubu. Společně se zaměříme na to\, co ovlivňuje naši psychickou pohodu\, jak rozpoznat stres a jak o sebe lépe pečovat v náročných situacích. Workshop nabídne prostor pro sdílení\, otázky i diskuzi. \nAkce je zdarma a otevřená všem zájemcům bez ohledu na to\, zda chodí do Zvonice nebo ne.Nabízíme také individuální sociální poradenství pro zájemce do 26 let v časech od 14.00 do 15.00 a od 17.00 do 18.00 hodin.
URL:https://leccos.cz/akce/dusevni-pohoda-uvodni-workshop/
LOCATION:NZDM Klub Zvonice Český Brod\, Žižkova 508\, Český Brod\, Česká republika\, 282 01
CATEGORIES:Pro děti a mládež
ATTACH;FMTTYPE=image/jpeg:https://leccos.cz/wp-content/uploads/2026/02/260302.jpg
END:VEVENT
BEGIN:VEVENT
DTSTART;TZID=Europe/Prague:20260306T140000
DTEND;TZID=Europe/Prague:20260306T160000
DTSTAMP:20260419T145921
CREATED:20260227T095235Z
LAST-MODIFIED:20260227T095235Z
UID:8422-1772805600-1772812800@leccos.cz
SUMMARY:Sportovky ve Zvonici
DESCRIPTION:V průběhu března 2026 probíhají každý pátek od 14.00 v NZDM Klubu Zvonice\, Český Brod sportovní aktivity se sociálními pracovnicemi klubu. \nTěšit se můžeš na pohyb\, zábavu\, týmové hry i možnost vybít energii v bezpečném a přátelském prostředí. Sportovky jsou zaměřeny nejen na fyzickou aktivitu\, ale i na spolupráci a podporu duševní pohody. \nAkce je zdarma a otevřená všem zájemcům bez ohledu na to\, zda chodí do Zvonice nebo ne.Nabízíme také individuální sociální poradenství pro zájemce do 26 let v časech od 13.00 do 14.00 a od 16.00 do 18.00 hodin.
URL:https://leccos.cz/akce/sportovky-ve-zvonici-4/
LOCATION:NZDM Klub Zvonice Český Brod\, Žižkova 508\, Český Brod\, Česká republika\, 282 01
CATEGORIES:Pro děti a mládež
ATTACH;FMTTYPE=image/jpeg:https://leccos.cz/wp-content/uploads/2026/02/sportovky.jpg
END:VEVENT
BEGIN:VEVENT
DTSTART;TZID=Europe/Prague:20260309T140000
DTEND;TZID=Europe/Prague:20260309T180000
DTSTAMP:20260419T145921
CREATED:20260227T095445Z
LAST-MODIFIED:20260227T095445Z
UID:8425-1773064800-1773079200@leccos.cz
SUMMARY:Výroba svíček – tvoření pro jarmark
DESCRIPTION:V pondělí 9. března 2026 od 14.00 proběhne v NZDM Klubu Zvonice\, Český Brod kreativní dílna zaměřená na výrobu svíček\, které budou určeny k prodeji na jarmarku ve Štolmíři. Společně si vyzkoušíme tvoření\, relaxaci při práci rukama a povíme si o tom\, jak kreativní činnost podporuje duševní pohodu. \nAkce je zdarma a otevřená všem zájemcům bez ohledu na to\, zda chodí do Zvonice nebo ne.
URL:https://leccos.cz/akce/vyroba-svicek-tvoreni-pro-jarmark/
LOCATION:NZDM Klub Zvonice Český Brod\, Žižkova 508\, Český Brod\, Česká republika\, 282 01
CATEGORIES:Pro děti a mládež
ATTACH;FMTTYPE=image/jpeg:https://leccos.cz/wp-content/uploads/2026/02/260309.jpg
END:VEVENT
BEGIN:VEVENT
DTSTART;TZID=Europe/Prague:20260311T120000
DTEND;TZID=Europe/Prague:20260311T170000
DTSTAMP:20260419T145921
CREATED:20260227T095610Z
LAST-MODIFIED:20260227T095610Z
UID:8428-1773230400-1773248400@leccos.cz
SUMMARY:Výlet a bojovka v Úvalech
DESCRIPTION:Ve středu 11. března 2026 se uskuteční výlet s bojovkou v Úvalech zaměřený na spolupráci\, pohyb a posilování duševní pohody. Sraz účastníků je v 11.55 před vlakovým nádražím v Českém Program nabídne zábavné úkoly\, týmové aktivity a prostor pro společné zážitky v přírodě. Akce je zdarma\, ale je nutná předchozí přihláška.
URL:https://leccos.cz/akce/vylet-a-bojovka-v-uvalech/
LOCATION:Česká republika
CATEGORIES:Pro děti a mládež
ATTACH;FMTTYPE=image/jpeg:https://leccos.cz/wp-content/uploads/2026/02/260311.jpg
END:VEVENT
BEGIN:VEVENT
DTSTART;TZID=Europe/Prague:20260312T140000
DTEND;TZID=Europe/Prague:20260312T160000
DTSTAMP:20260419T145921
CREATED:20260227T095718Z
LAST-MODIFIED:20260227T095718Z
UID:8431-1773324000-1773331200@leccos.cz
SUMMARY:Koláž na téma duše
DESCRIPTION:Ve čtvrtek 12. března 2026 od 14.00 proběhne v NZDM Klubu Zvonice\, Český Brod výtvarný workshop Koláž na téma duše. Pomocí obrázků\, barev a tvoření se společně zaměříme na vyjádření emocí\, myšlenek a prožitků spojených s duševní pohodou. Aktivita nabídne bezpečný prostor pro sebepoznání a sdílení. \nAkce je zdarma a otevřená všem zájemcům bez ohledu na to\, zda chodí do Zvonice nebo ne.
URL:https://leccos.cz/akce/kolaz-na-tema-duse/
LOCATION:NZDM Klub Zvonice Český Brod\, Žižkova 508\, Český Brod\, Česká republika\, 282 01
CATEGORIES:Pro děti a mládež
ATTACH;FMTTYPE=image/jpeg:https://leccos.cz/wp-content/uploads/2026/02/260312.jpg
END:VEVENT
BEGIN:VEVENT
DTSTART;TZID=Europe/Prague:20260316T150000
DTEND;TZID=Europe/Prague:20260316T170000
DTSTAMP:20260419T145921
CREATED:20260223T122152Z
LAST-MODIFIED:20260223T122152Z
UID:8405-1773673200-1773680400@leccos.cz
SUMMARY:Slané muffiny se slaninou a vejcem
DESCRIPTION:V pondělí 16. 3. 2026 si na klubu upečeme slané muffiny se slaninou a vejcem. \nZačínáme v 15:00\, tak doraž!
URL:https://leccos.cz/akce/slane-muffiny-se-slaninou-a-vejcem/
LOCATION:NZDM Klub Zvonice Poděbrady\, Družstevní 1461/III\, Poděbrady\, 29001\, Česká republika
CATEGORIES:Pro děti a mládež
ATTACH;FMTTYPE=image/png:https://leccos.cz/wp-content/uploads/2026/02/Slane-muffiny-se-slaninou-a-vejcem.png
END:VEVENT
BEGIN:VEVENT
DTSTART;TZID=Europe/Prague:20260316T170000
DTEND;TZID=Europe/Prague:20260316T190000
DTSTAMP:20260419T145921
CREATED:20260315T101951Z
LAST-MODIFIED:20260315T101951Z
UID:8470-1773680400-1773687600@leccos.cz
SUMMARY:Moderní drogy – vzdělávací pořad z cyklu Maják v Tuklatech
DESCRIPTION:Zveme děti a mládež starší 13 let\, rodiče i širokou veřejnost na vzdělávací pořad MAJÁK\, který se zaměří na téma moderních drog a jejich vliv na zdraví i každodenní život mladých lidí. Setkání se uskuteční v pondělí 16. března 2026 od 17:00 hodin v prostorách Obecního úřadu Tuklaty\, Na Valech 19. Vstup na akci je zdarma.\nLektoři z organizace Czeched Substance z. s. představí nejčastější návykové látky dnešní doby\, upozorní na jejich rizika a možné zdravotní i sociální dopady. Nabídnou také prostor pro dotazy i otevřenou diskuzi. \nProgram se koná ve spolupráci s MAS Region Pošembeří\, Obcí Tuklaty\, projektem E.P.I.C. a NZDM Klubem Zvonice.
URL:https://leccos.cz/akce/moderni-drogy-vzdelavaci-porad-z-cyklu-majak-v-tuklatech/
LOCATION:OÚ Tuklaty\, Na Valech 19\, Tuklaty\, Středočeský\, 28201\, Czech Republic
CATEGORIES:Pro děti a mládež,Pro rodiče,Pro rodiny,Pro širokou veřejnost
ATTACH;FMTTYPE=image/jpeg:https://leccos.cz/wp-content/uploads/2026/03/Majak_260316.jpg
END:VEVENT
BEGIN:VEVENT
DTSTART;TZID=Europe/Prague:20260319T150000
DTEND;TZID=Europe/Prague:20260319T170000
DTSTAMP:20260419T145921
CREATED:20260306T091107Z
LAST-MODIFIED:20260306T091107Z
UID:8451-1773932400-1773939600@leccos.cz
SUMMARY:Filmový klub
DESCRIPTION:Ve čtvrtek 19. 3. 2026 proběhne Filmový klub. \nPromítání začne v 15:00 hod.
URL:https://leccos.cz/akce/filmovy-klub-5/
LOCATION:NZDM Klub Zvonice Poděbrady\, Družstevní 1461/III\, Poděbrady\, 29001\, Česká republika
CATEGORIES:Pro děti a mládež
ATTACH;FMTTYPE=image/png:https://leccos.cz/wp-content/uploads/2026/03/Filmovy-klub-brezen.png
END:VEVENT
BEGIN:VEVENT
DTSTART;TZID=Europe/Prague:20260324T090000
DTEND;TZID=Europe/Prague:20260324T090000
DTSTAMP:20260419T145921
CREATED:20260105T135558Z
LAST-MODIFIED:20260325T121802Z
UID:8034-1774342800-1774342800@leccos.cz
SUMMARY:Kontakt s biologickou rodinou a krizové momenty - seminář pro pěstouny
DESCRIPTION:Seminář v rozsahu 6 hodin. \nLektorka:\nMgr. Hana Slobodová \nPřihlašte se online!
URL:https://leccos.cz/akce/kontakt-s-biologickou-rodinou-a-krizove-momenty-seminar-pro-pestouny/
LOCATION:CVIK – Centrum vzdělávání\, informací a kultury p. o.\, Nám. Arnošta z Pardubic 1\, Český Brod\, Česká republika\, 282 01
CATEGORIES:Pro pěstouny
ATTACH;FMTTYPE=image/jpeg:https://leccos.cz/wp-content/uploads/2026/01/seminare-pro-pestouny-FB.jpg
END:VEVENT
BEGIN:VEVENT
DTSTART;TZID=Europe/Prague:20260325T170000
DTEND;TZID=Europe/Prague:20260325T190000
DTSTAMP:20260419T145921
CREATED:20260227T100112Z
LAST-MODIFIED:20260227T100112Z
UID:8434-1774458000-1774465200@leccos.cz
SUMMARY:Offline hlava\, online svět - vzdělávací pořad z cyklu Maják
DESCRIPTION:Ve středu 25. března 2026 od 17.00 hodin proběhne v NZDM Klubu Zvonice další setkání ze série vzdělávacích pořadů Maják s názvem Offline hlava\, online svět. Je určen dětem starším 13 let\, rodičům a dalším zájemců z řad veřejnosti. Tématem nás provede dlouholetá pedagožka\, metodička vzdělávání a sociální pracovnice organizace LECCOS\, z. s.\, Mgr. et Mgr. Eva Vaňkátová.\nWorkshop se zaměří na vliv sociálních sítí na duševní zdraví a soukromí dětí a mladých lidí. Společně se podíváme na to\, jak online prostředí ovlivňuje naši náladu\, sebevědomí a vztahy\, a proč je důležité umět si nastavovat zdravé hranice.\nÚčastníci získají praktické tipy\, jak chránit své soukromí\, bezpečně se pohybovat na sociálních sítích a pečovat o svou psychickou pohodu.
URL:https://leccos.cz/akce/offline-hlava-online-svet-vzdelavaci-porad-z-cyklu-majak/
LOCATION:NZDM Klub Zvonice Český Brod\, Žižkova 508\, Český Brod\, Česká republika\, 282 01
CATEGORIES:Pro děti a mládež,Pro rodiče,Pro rodiny,Pro širokou veřejnost
ATTACH;FMTTYPE=image/jpeg:https://leccos.cz/wp-content/uploads/2026/02/Majak_260225-1.jpg
END:VEVENT
BEGIN:VEVENT
DTSTART;TZID=Europe/Prague:20260326T150000
DTEND;TZID=Europe/Prague:20260326T170000
DTSTAMP:20260419T145921
CREATED:20260304T094750Z
LAST-MODIFIED:20260304T094750Z
UID:8446-1774537200-1774544400@leccos.cz
SUMMARY:Ukliďme Česko s NZDM Klub Zvonice Poděbrady
DESCRIPTION:Ve čtvrtek 26. 3. 2026 vyrazíme společně uklízet naše město v rámci akce Ukliďme Česko. \nOdchod z klubu je v 15:00! \nPytle a rukavice zajištěny. \nNa akci je potřeba se přihlásit na klubu do 19. 3. 2026! \nLetos poprvé můžeš za účast získat dolary v rámci Zvonicové hry\, tak vyraz s námi!
URL:https://leccos.cz/akce/uklidme-cesko-s-nzdm-klub-zvonice-podebrady-3/
LOCATION:NZDM Klub Zvonice Poděbrady\, Družstevní 1461/III\, Poděbrady\, 29001\, Česká republika
CATEGORIES:Pro děti a mládež
ATTACH;FMTTYPE=image/png:https://leccos.cz/wp-content/uploads/2026/03/Uklid-s-klubem-2026-Prispevek-na-Instagramu-4-5.png
END:VEVENT
BEGIN:VEVENT
DTSTART;TZID=Europe/Prague:20260327T130000
DTEND;TZID=Europe/Prague:20260327T190000
DTSTAMP:20260419T145921
CREATED:20260227T100241Z
LAST-MODIFIED:20260227T100241Z
UID:8436-1774616400-1774638000@leccos.cz
SUMMARY:Zápas Fair Play Point ligy
DESCRIPTION:V pátek 27. března 2026 se uskuteční zápas Fair Play Point ligy. Sraz účastníků je ve 13.30 před vlakovým nádražím v Českém Brodě. Čeká nás sportovní odpoledne plné pohybu\, spolupráce a fair play přístupu.  Akce je zdarma\, ale je nutná předchozí přihláška.
URL:https://leccos.cz/akce/zapas-fair-play-point-ligy-12/
LOCATION:Česká republika
CATEGORIES:Pro děti a mládež
ATTACH;FMTTYPE=image/jpeg:https://leccos.cz/wp-content/uploads/2026/02/260327.jpg
END:VEVENT
END:VCALENDAR