BEGIN:VCALENDAR
VERSION:2.0
PRODID:-//LECCOS, z. s. - ECPv6.15.19//NONSGML v1.0//EN
CALSCALE:GREGORIAN
METHOD:PUBLISH
X-ORIGINAL-URL:https://leccos.cz
X-WR-CALDESC:Akce na LECCOS, z. s.
REFRESH-INTERVAL;VALUE=DURATION:PT1H
X-Robots-Tag:noindex
X-PUBLISHED-TTL:PT1H
BEGIN:VTIMEZONE
TZID:Europe/Prague
BEGIN:DAYLIGHT
TZOFFSETFROM:+0100
TZOFFSETTO:+0200
TZNAME:CEST
DTSTART:20240331T010000
END:DAYLIGHT
BEGIN:STANDARD
TZOFFSETFROM:+0200
TZOFFSETTO:+0100
TZNAME:CET
DTSTART:20241027T010000
END:STANDARD
BEGIN:DAYLIGHT
TZOFFSETFROM:+0100
TZOFFSETTO:+0200
TZNAME:CEST
DTSTART:20250330T010000
END:DAYLIGHT
BEGIN:STANDARD
TZOFFSETFROM:+0200
TZOFFSETTO:+0100
TZNAME:CET
DTSTART:20251026T010000
END:STANDARD
BEGIN:DAYLIGHT
TZOFFSETFROM:+0100
TZOFFSETTO:+0200
TZNAME:CEST
DTSTART:20260329T010000
END:DAYLIGHT
BEGIN:STANDARD
TZOFFSETFROM:+0200
TZOFFSETTO:+0100
TZNAME:CET
DTSTART:20261025T010000
END:STANDARD
END:VTIMEZONE
BEGIN:VEVENT
DTSTART;TZID=Europe/Prague:20251201T090000
DTEND;TZID=Europe/Prague:20251201T120000
DTSTAMP:20260421T180057
CREATED:20250731T163849Z
LAST-MODIFIED:20251128T092417Z
UID:7295-1764579600-1764590400@leccos.cz
SUMMARY:Workshop - Práce\, děti\, rodina
DESCRIPTION:Jak optimálně skloubit péči o rodinu\, děti a práci.\nRodinný timemanagement.\nRole otce a matky při péči o dítě. \nLektorka Eva Mrázková \nMísto konání\nMC Škvoreček ve Škvorci \nHLÍDÁNÍ DĚTÍ ZDARMA v MC Škvoreček! \nRegistrujte se ZDE! \nKontakt pro více informací:\nandrea@leccos.cz\, tel.: 602 112 679 – Andrea Hradecká – koordinátorka RC \nPořádáme v rámci projektu LECCOS pro rodiny XI. podpořeného Ministerstvem práce a sociálních věcí a Městem Český Brod.
URL:https://leccos.cz/akce/workshop-prace-deti-rodina-8/
LOCATION:MC Škvoreček\, z. s.\, Masarykovo nám 13\, Škvorec\, 250 83\, Česká republika
CATEGORIES:Pro rodiče,Pro širokou veřejnost
ATTACH;FMTTYPE=image/jpeg:https://leccos.cz/wp-content/uploads/2025/07/25-12-01-workshop-Skvorec.jpg
END:VEVENT
BEGIN:VEVENT
DTSTART;TZID=Europe/Prague:20251201T150000
DTEND;TZID=Europe/Prague:20251201T170000
DTSTAMP:20260421T180057
CREATED:20251201T192544Z
LAST-MODIFIED:20251201T192544Z
UID:7807-1764601200-1764608400@leccos.cz
SUMMARY:Adventní tvoření
DESCRIPTION:V pondělí 1. prosince 2025 od 15.00 vás zveme do NZDM Klubu Zvonice na zvonicové adventní tvoření. Společně si vyzdobíme klub\, vyrobíme adventní věnec i vlastní kalendář a naladíme se tak na začátek předvánoční atmosféry. \nSoučástí dopoledne bude jako vždy možnost individuálního sociálního poradenství pro děti a mladé do 26 let.
URL:https://leccos.cz/akce/adventni-tvoreni/
LOCATION:NZDM Klub Zvonice Český Brod\, Žižkova 508\, Český Brod\, Česká republika\, 282 01
CATEGORIES:Pro děti a mládež
ATTACH;FMTTYPE=image/jpeg:https://leccos.cz/wp-content/uploads/2025/12/251201.jpg
END:VEVENT
BEGIN:VEVENT
DTSTART;TZID=Europe/Prague:20251202T080000
DTEND;TZID=Europe/Prague:20251202T120000
DTSTAMP:20260421T180057
CREATED:20250731T153537Z
LAST-MODIFIED:20250731T153537Z
UID:7252-1764662400-1764676800@leccos.cz
SUMMARY:Konzultace s psycholožkou
DESCRIPTION:Jednou za měsíc máte možnost v programu Setkání pro rodiny s dětmi využít konzultace s různými odborníky – psycholog\, speciální pedagog\, právník\, zdravotník a záchranář. \n2. 12. 2025 od 8.00-12.00 budou probíhat konzultace s psycholožkou Mgr. et Mgr. Janou Pavlů v RC Kostička v Českém Brodě. \nKonzultace je též možná online! \nPoplatek:\n50 Kč / dopoledne nebo jen samotná konzultace \nPřihláška online ZDE! \nKontakt pro další informace:\nAndrea Hradecká\ne-mail: andrea@leccos.cz\ntel.: 602 112 679\n \nTento program je podpořen Ministerstvem práce a sociálních věcí.
URL:https://leccos.cz/akce/konzultace-s-psycholozkou-7/
LOCATION:Rodinné centrum Kostička\, Nám. Arnošta z Pardubic 12\, Český Brod\, Česká republika\, 282 01
CATEGORIES:Pro rodiče,Pro širokou veřejnost
ATTACH;FMTTYPE=image/png:https://leccos.cz/wp-content/uploads/2024/08/konzultace-pro-rodice-WEB-FB.png
END:VEVENT
BEGIN:VEVENT
DTSTART;TZID=Europe/Prague:20251202T090000
DTEND;TZID=Europe/Prague:20251202T150000
DTSTAMP:20260421T180057
CREATED:20250108T155547Z
LAST-MODIFIED:20250109T162202Z
UID:6012-1764666000-1764687600@leccos.cz
SUMMARY:Budování citového pouta v životních etapách dítěte - seminář pro pěstouny
DESCRIPTION:Seminář v rozsahu 6 hodin. \nLektor:\nMgr. Ondřej Máslo \nPřihlašte se online!
URL:https://leccos.cz/akce/budovani-citoveho-pouta-v-zivotnich-etapach-ditete-seminar-pro-pestouny/
LOCATION:CVIK – Centrum vzdělávání\, informací a kultury p. o.\, Nám. Arnošta z Pardubic 1\, Český Brod\, Česká republika\, 282 01
CATEGORIES:Pro pěstouny
ATTACH;FMTTYPE=image/png:https://leccos.cz/wp-content/uploads/2025/01/WEB-seminare-pro-pestouny.png
END:VEVENT
BEGIN:VEVENT
DTSTART;TZID=Europe/Prague:20251203T150000
DTEND;TZID=Europe/Prague:20251203T170000
DTSTAMP:20260421T180057
CREATED:20251120T092133Z
LAST-MODIFIED:20251120T092133Z
UID:7776-1764774000-1764781200@leccos.cz
SUMMARY:Pečení perníčků
DESCRIPTION:Ve středu 3. 12. 2025 si na klubu společně upečeme perníčky\, které si děti ozdobí\, a poté sní na Vánoční besídce. \nZačínáme v 15:00\, tak doraž! \nTěšíme se na tebe!
URL:https://leccos.cz/akce/peceni-pernicku/
LOCATION:NZDM Klub Zvonice Poděbrady\, Družstevní 1461/III\, Poděbrady\, 29001\, Česká republika
CATEGORIES:Pro děti a mládež
ATTACH;FMTTYPE=image/png:https://leccos.cz/wp-content/uploads/2025/11/Peceni-pernicku.png
END:VEVENT
BEGIN:VEVENT
DTSTART;TZID=Europe/Prague:20251203T170000
DTEND;TZID=Europe/Prague:20251203T190000
DTSTAMP:20260421T180057
CREATED:20251115T110240Z
LAST-MODIFIED:20251115T110240Z
UID:7769-1764781200-1764788400@leccos.cz
SUMMARY:Moderní drogy – vzdělávací pořad z cyklu Maják
DESCRIPTION:Zveme všechny děti starší 13 let\, rodiče i další zájemce na další setkání ze série vzdělávacích pořadů MAJÁK\, tentokrát na velmi aktuální téma Moderní drogy. Maják se koná ve středu 3. 12. 2025 od 17.00 v přátelském\, bezpečném prostředí NZDM Klubu Zvonice\, Žižkova 508\, Český Brod. Vstup zdarma. \nNa akci vystoupí lektoři z Czeched Substance z. s.\, přední české organizace\, která se dlouhodobě věnuje vzdělávání\, prevenci a otevřené\, faktické diskuzi o psychoaktivních látkách. Jejich přístup je srozumitelný\, moderní a opřený o vědecké poznatky – díky tomu patří k nejviditelnějším a nejrespektovanějším aktérům v oblasti osvěty a informovanosti v Česku. \nCo vás čeká? \n\npřehled nejčastějších drog současnosti\, jejich efektů i zdravotních rizik\,\nvysvětlení úskalí\, mýtů a nebezpečných trendů mezi mladými\,\npřístup bez strašení\, založený na reálných a ověřených informacích\,\nprostor pro dotazy a otevřenou diskuzi.\n\nPřijďte získat informace\, které mohou pomoci vám i vašim dětem lépe se orientovat ve světě dnešní mládeže.
URL:https://leccos.cz/akce/moderni-drogy-vzdelavaci-porad-z-cyklu-majak/
LOCATION:NZDM Klub Zvonice Český Brod\, Žižkova 508\, Český Brod\, Česká republika\, 282 01
CATEGORIES:Pro děti a mládež,Pro rodiče,Pro rodiny,Pro širokou veřejnost
ATTACH;FMTTYPE=image/jpeg:https://leccos.cz/wp-content/uploads/2025/11/Majak_251203.jpg
END:VEVENT
BEGIN:VEVENT
DTSTART;TZID=Europe/Prague:20251206T074000
DTEND;TZID=Europe/Prague:20251206T150000
DTSTAMP:20260421T180057
CREATED:20251110T135152Z
LAST-MODIFIED:20251110T135152Z
UID:7749-1765006800-1765033200@leccos.cz
SUMMARY:Výlet na zážitkové malování do Prahy
DESCRIPTION:V sobotu 6. 12. 2025 vyrazíme s klubem do Prahy na zážitkové malování\, kde děti budou rozvíjet svoji kreativitu pomocí umění. \nSraz v 7:40 a návrat v 15:00. \nPřihlášky jsou k dostání na klubu. Odevzdání do čtvrtka 27. 11. 2025! \nVíce informací na klubu.
URL:https://leccos.cz/akce/vylet-na-zazitkove-malovani-do-prahy/
LOCATION:Česká republika
CATEGORIES:Pro děti a mládež
ATTACH;FMTTYPE=image/png:https://leccos.cz/wp-content/uploads/2025/11/Letak.png
END:VEVENT
BEGIN:VEVENT
DTSTART;TZID=Europe/Prague:20251209T150000
DTEND;TZID=Europe/Prague:20251209T170000
DTSTAMP:20260421T180057
CREATED:20251201T192756Z
LAST-MODIFIED:20251201T192756Z
UID:7810-1765292400-1765299600@leccos.cz
SUMMARY:Workshop s filmem na téma závislostí
DESCRIPTION:V úterý 9. prosince 2025 od 15.00 vás čeká v NZDM Klubu Zvonice Český Brod workshop na téma závislostí\, doplněný o krátký film a následnou společnou diskusi. Zjistíte více o tom\, jak závislosti vznikají\, jak jim předejít a kde hledat pomoc\, když je to potřeba. \nProstor bude i pro individuální podporu či konzultace s pracovníky NZDM.
URL:https://leccos.cz/akce/workshop-s-filmem-na-tema-zavislosti/
LOCATION:NZDM Klub Zvonice Český Brod\, Žižkova 508\, Český Brod\, Česká republika\, 282 01
CATEGORIES:Pro děti a mládež
ATTACH;FMTTYPE=image/jpeg:https://leccos.cz/wp-content/uploads/2025/12/251209.jpg
END:VEVENT
BEGIN:VEVENT
DTSTART;TZID=Europe/Prague:20251210T150000
DTEND;TZID=Europe/Prague:20251210T170000
DTSTAMP:20260421T180057
CREATED:20251202T121820Z
LAST-MODIFIED:20251202T121820Z
UID:7824-1765378800-1765386000@leccos.cz
SUMMARY:Pečení lineckého cukroví
DESCRIPTION:Ve středu 10. 12. 2025 si na klubu společně upečeme linecké cukroví\, které si děti slepí\, a poté sní na Vánoční besídce. \nZačínáme v 15:00\, tak doraž! \nTěšíme se na tebe!
URL:https://leccos.cz/akce/peceni-lineckeho-cukrovi/
LOCATION:NZDM Klub Zvonice Poděbrady\, Družstevní 1461/III\, Poděbrady\, 29001\, Česká republika
CATEGORIES:Pro děti a mládež
ATTACH;FMTTYPE=image/png:https://leccos.cz/wp-content/uploads/2025/12/Peceni-lineckeho-cukrovi-1.png
END:VEVENT
BEGIN:VEVENT
DTSTART;TZID=Europe/Prague:20251211T080000
DTEND;TZID=Europe/Prague:20251211T120000
DTSTAMP:20260421T180057
CREATED:20250731T153128Z
LAST-MODIFIED:20250731T153128Z
UID:7248-1765440000-1765454400@leccos.cz
SUMMARY:Konzultace s psycholožkou
DESCRIPTION:Jednou za měsíc máte možnost v programu Setkání pro rodiny s dětmi využít konzultace s různými odborníky – psycholog\, speciální pedagog\, právník\, zdravotník a záchranář. \n11. 12. 2025 od 8.00-12.00 budou probíhat konzultace s psycholožkou Mgr. et Mgr. Janou Pavlů v MC Škvoreček ve Škvorci \nKonzultace je též možná online! \nPoplatek:\n50 Kč / dopoledne nebo jen samotná konzultace \nPřihláška online ZDE! \nKontakt pro další informace:\nAndrea Hradecká\ne-mail: andrea@leccos.cz\ntel.: 602 112 679\n \nTento program je podpořen Ministerstvem práce a sociálních věcí.
URL:https://leccos.cz/akce/konzultace-s-psycholozkou-5/
LOCATION:MC Škvoreček\, z. s.\, Masarykovo nám 13\, Škvorec\, 250 83\, Česká republika
CATEGORIES:Pro rodiče,Pro širokou veřejnost
ATTACH;FMTTYPE=image/png:https://leccos.cz/wp-content/uploads/2024/08/konzultace-pro-rodice-WEB-FB.png
END:VEVENT
BEGIN:VEVENT
DTSTART;TZID=Europe/Prague:20251212T090000
DTEND;TZID=Europe/Prague:20251212T110000
DTSTAMP:20260421T180057
CREATED:20250401T160434Z
LAST-MODIFIED:20251118T103355Z
UID:6531-1765530000-1765537200@leccos.cz
SUMMARY:Proč se děti nesprávně chovají - interaktivní seminář
DESCRIPTION:Interaktivní seminář se zkušenou psycholožkou \nv rámci programu Setkání pro rodiny s dětmi. \nLektorka Mgr. Hana Slobodová \n\npochopení nesprávného chování dětí\nčtyři cíle nesprávného chování dětí\njak předcházet špatnému chování dětí\npovzbuzování jako budování sebedůvěry\npřeměna negativního v pozitivní\numění být nedokonalý\n\nMísto konání \nRC Kostička – Náměstí Arnošta z Pardubic 12\, Český Brod \nHLÍDÁNÍ DĚTÍ ZDARMA! \nRegistrujte se ZDE! \nVíce informací poskytne:\nandrea@leccos.cz\, tel.: 602 112 679 – Andrea Hradecká – koordinátorka RC \nPořádáme v rámci projektu LECCOS pro rodiny XI. podpořeného Ministerstvem práce a sociálních věcí a Městem Český Brod.
URL:https://leccos.cz/akce/proc-se-deti-nespravne-chovaji-interaktivni-seminar-2/
LOCATION:Rodinné centrum Kostička\, Nám. Arnošta z Pardubic 12\, Český Brod\, Česká republika\, 282 01
CATEGORIES:Pro rodiče,Pro širokou veřejnost
ATTACH;FMTTYPE=image/jpeg:https://leccos.cz/wp-content/uploads/2025/04/25-0408-0527-interaktivni-seminare-ZMENA-TERMINU.jpg
END:VEVENT
BEGIN:VEVENT
DTSTART;TZID=Europe/Prague:20251212T180000
DTEND;TZID=Europe/Prague:20251212T230000
DTSTAMP:20260421T180057
CREATED:20251002T150737Z
LAST-MODIFIED:20251002T151107Z
UID:7639-1765562400-1765580400@leccos.cz
SUMMARY:Benefice pro LECCOS 2025
DESCRIPTION:Srdečně Vás zveme na 14. ročník charitativního večera na podporu našich služeb pro děti a mládež\, rodiny s dětmi. Uskuteční se v pátek 12. 12. 2025 od 18 hodin v Podkroví\, kulturní a kreativní centrum v Českém Brodě (nám. A. z Pardubic 1). \n  \n\n\n\nPřijďte s námi oslavit 25 let činnosti našeho spolku! \n  \n\nDalší informace o programu\, položkách v aukcích\, dárcích a podporovatelích Vám budeme postupně přinášet na webové stránce Benefice pro LECCOS. \n  \nDejte vědět\, že dorazíte na naší Facebookové události. \nDěkujeme CVIK\, p. o. za poskytnutí prostor.
URL:https://leccos.cz/akce/benefice-pro-leccos-2025/
LOCATION:Podkroví\, kulturní a kreativní centrum\, nám. Arnošta z Pardubic 1\, Český Brod\, Česká republika\, 28201\, Czech Republic
CATEGORIES:Pro širokou veřejnost
ATTACH;FMTTYPE=image/jpeg:https://leccos.cz/wp-content/uploads/2025/09/Benefice-pro-LECCOS-2025.jpg
END:VEVENT
BEGIN:VEVENT
DTSTART;TZID=Europe/Prague:20251215T130000
DTEND;TZID=Europe/Prague:20251215T140000
DTSTAMP:20260421T180057
CREATED:20251205T125832Z
LAST-MODIFIED:20251205T125832Z
UID:7827-1765803600-1765807200@leccos.cz
SUMMARY:Vánoční vystoupení dětí z RC Kostička v Domově ANNA
DESCRIPTION:Děti z RC Kostička a žáci 2. stupně ZŠ navštíví seniory českobrodského Domova ANNA. \n13.00\nvánoční písně v podání žáků 2. stupně ZŠ Žitomířská \n13.30\nvystoupení dětí z kroužku Tanečky pro nejmenší\nRodinného centra Kostička. \nKontakt\nandrea@leccos.cz\, tel.: 602 112 679\nAndrea Hradecká\, koordinátorka RC
URL:https://leccos.cz/akce/vanocni-vystoupeni-deti-z-rc-kosticka-v-domove-anna/
LOCATION:Domov ANNA Český Brod\, Žitomířská 323\, Český Brod\, středočeský\, 28201
CATEGORIES:Pro rodiče,Pro rodiny,Pro širokou veřejnost
ATTACH;FMTTYPE=application/pdf:https://leccos.cz/wp-content/uploads/2025/12/25-12-vystoupeni-ANNA-RC-a-ZS-Zitomirska.pdf
END:VEVENT
BEGIN:VEVENT
DTSTART;TZID=Europe/Prague:20251215T160000
DTEND;TZID=Europe/Prague:20251215T180000
DTSTAMP:20260421T180057
CREATED:20251113T095000Z
LAST-MODIFIED:20251120T093932Z
UID:7765-1765814400-1765821600@leccos.cz
SUMMARY:Filmové kluby
DESCRIPTION:Do konce roku se můžeš těšit na dva Filmové kluby. \nPrvní proběhne 19. 11. a druhý 15. 12. 2025 – vždy od 16:00! \nDrobné občerstvení zajištěno!
URL:https://leccos.cz/akce/filmove-kluby/
LOCATION:NZDM Klub Zvonice Poděbrady\, Družstevní 1461/III\, Poděbrady\, 29001\, Česká republika
CATEGORIES:Pro děti a mládež
ATTACH;FMTTYPE=image/png:https://leccos.cz/wp-content/uploads/2025/11/Filmove-kluby.png
END:VEVENT
BEGIN:VEVENT
DTSTART;TZID=Europe/Prague:20251216T080000
DTEND;TZID=Europe/Prague:20251216T120000
DTSTAMP:20260421T180057
CREATED:20250731T155311Z
LAST-MODIFIED:20250731T155311Z
UID:7269-1765872000-1765886400@leccos.cz
SUMMARY:Konzultace se speciální pedagožkou
DESCRIPTION:Jednou za měsíc máte možnost v programu Setkání pro rodiny s dětmi využít konzultace s různými odborníky – psycholog\, speciální pedagog\, právník\, zdravotník a záchranář. \n16. 12. 2025 od 8.00-12.00 budou probíhat konzultace se speciální pedagožkou Mgr. Veronikou Lancovou v RC Kostička v Českém Brodě. \nKonzultace je též možná online! \nPoplatek:\n50 Kč / dopoledne nebo jen samotná konzultace \nPřihláška online ZDE! \nKontakt pro další informace:\nAndrea Hradecká\ne-mail: andrea@leccos.cz\ntel.: 602 112 679\n \nTento program je podpořen Ministerstvem práce a sociálních věcí.
URL:https://leccos.cz/akce/konzultace-se-specialni-pedagozkou-7/
LOCATION:Rodinné centrum Kostička\, Nám. Arnošta z Pardubic 12\, Český Brod\, Česká republika\, 282 01
CATEGORIES:Pro rodiče,Pro širokou veřejnost
ATTACH;FMTTYPE=image/png:https://leccos.cz/wp-content/uploads/2024/08/konzultace-pro-rodice-WEB-FB.png
END:VEVENT
BEGIN:VEVENT
DTSTART;TZID=Europe/Prague:20251216T140000
DTEND;TZID=Europe/Prague:20251216T170000
DTSTAMP:20260421T180057
CREATED:20251201T193046Z
LAST-MODIFIED:20251201T193046Z
UID:7814-1765893600-1765904400@leccos.cz
SUMMARY:Pečení vánočního cukroví
DESCRIPTION:V úterý 16. prosince 2025 od 14.00 si v rámci Kuchařského okénka v NZDM Klubu Zvonice Český Brod společně upečeme tradiční vánoční cukroví. Naučíme se jednoduché recepty\, vyzkoušíte si práci v kuchyni a odnesete si kousek sladké vánoční nálady. \nNabízíme také možnost individuálního sociálního poradenství pro děti a mladé do 26 let v časech od 14.00 do 15.00 a od 17.00 do 18.00 hodin.
URL:https://leccos.cz/akce/peceni-vanocniho-cukrovi/
LOCATION:NZDM Klub Zvonice Český Brod\, Žižkova 508\, Český Brod\, Česká republika\, 282 01
CATEGORIES:Pro děti a mládež
ATTACH;FMTTYPE=image/jpeg:https://leccos.cz/wp-content/uploads/2025/12/251216.jpg
END:VEVENT
BEGIN:VEVENT
DTSTART;TZID=Europe/Prague:20251218T080000
DTEND;TZID=Europe/Prague:20251218T120000
DTSTAMP:20260421T180057
CREATED:20250731T155622Z
LAST-MODIFIED:20250731T155622Z
UID:7270-1766044800-1766059200@leccos.cz
SUMMARY:Konzultace se speciální pedagožkou
DESCRIPTION:Jednou za měsíc máte možnost v programu Setkání pro rodiny s dětmi využít konzultace s různými odborníky – psycholog\, speciální pedagog\, právník\, zdravotník a záchranář. \n18. 12. 2025 od 8.00-12.00 budou probíhat konzultace se speciální pedagožkou Mgr. Veronikou Lancovou v MC Škvoreček ve Škvorci \nKonzultace je též možná online! \nPoplatek:\n50 Kč / dopoledne nebo jen samotná konzultace \nPřihláška online ZDE! \nKontakt pro další informace:\nAndrea Hradecká\ne-mail: andrea@leccos.cz\ntel.: 602 112 679\n \nTento program je podpořen Ministerstvem práce a sociálních věcí.
URL:https://leccos.cz/akce/konzultace-se-specialni-pedagozkou-9/
LOCATION:MC Škvoreček\, z. s.\, Masarykovo nám 13\, Škvorec\, 250 83\, Česká republika
CATEGORIES:Pro rodiče,Pro širokou veřejnost
ATTACH;FMTTYPE=image/png:https://leccos.cz/wp-content/uploads/2024/08/konzultace-pro-rodice-WEB-FB.png
END:VEVENT
BEGIN:VEVENT
DTSTART;TZID=Europe/Prague:20251218T140000
DTEND;TZID=Europe/Prague:20251218T180000
DTSTAMP:20260421T180057
CREATED:20251211T142159Z
LAST-MODIFIED:20251211T142159Z
UID:7840-1766066400-1766080800@leccos.cz
SUMMARY:Vánoční klubová besídka
DESCRIPTION:Ve čtvrtek 18. 12. 2025 pořádáme tradiční Vánoční klubovou besídku. \nMůžete dorazit v čase 14 – 18 hod. \nČeká na Vás cukroví\, výroba dárečků\, které si odnesete domů\, vyzkoušíte si některé z vánočních tradic a zazpíváte si koledy.  \nPřijďte si užít poslední den na klubu v roce 2025!
URL:https://leccos.cz/akce/vanocni-klubova-besidka-3/
LOCATION:NZDM Klub Zvonice Poděbrady\, Družstevní 1461/III\, Poděbrady\, 29001\, Česká republika
CATEGORIES:Pro děti a mládež
ATTACH;FMTTYPE=image/png:https://leccos.cz/wp-content/uploads/2025/12/Vanocni-klubova-besidka-3.png
END:VEVENT
BEGIN:VEVENT
DTSTART;TZID=Europe/Prague:20251219T140000
DTEND;TZID=Europe/Prague:20251219T170000
DTSTAMP:20260421T180057
CREATED:20251201T193240Z
LAST-MODIFIED:20251201T193240Z
UID:7818-1766152800-1766163600@leccos.cz
SUMMARY:Vánoční turnaj v šipkách
DESCRIPTION:V pátek 19. prosince 2025 od 14.00 pořádáme v NZDM Klubu Zvonice Český Brod Vánoční turnaj v šipkách. Přijďte si zasoutěžit\, pobavit se a porovnat síly s ostatními. \nZájemci se musí předem zapsat na startovní listinu na klubové nástěnce nebo u pracovníků.
URL:https://leccos.cz/akce/vanocni-turnaj-v-sipkach/
LOCATION:NZDM Klub Zvonice Český Brod\, Žižkova 508\, Český Brod\, Česká republika\, 282 01
CATEGORIES:Pro děti a mládež
ATTACH;FMTTYPE=image/jpeg:https://leccos.cz/wp-content/uploads/2025/12/251216-2.jpg
END:VEVENT
BEGIN:VEVENT
DTSTART;TZID=Europe/Prague:20251222T150000
DTEND;TZID=Europe/Prague:20251222T170000
DTSTAMP:20260421T180057
CREATED:20251201T193500Z
LAST-MODIFIED:20251201T193500Z
UID:7821-1766415600-1766422800@leccos.cz
SUMMARY:Vánoční besídka
DESCRIPTION:V pondělí 22. prosince 2025 od 15.00 zveme klienty z NZDM Klubu Zvonice Český Brod na tradiční Vánoční besídku Zvonice. Čekají vás soutěže\, tombola\, zvonicové cukroví a příjemná předvánoční atmosféra. Přijďte si užít poslední klubový den v roce.
URL:https://leccos.cz/akce/vanocni-besidka-3/
LOCATION:NZDM Klub Zvonice Český Brod\, Žižkova 508\, Český Brod\, Česká republika\, 282 01
CATEGORIES:Pro děti a mládež
ATTACH;FMTTYPE=image/jpeg:https://leccos.cz/wp-content/uploads/2025/12/251222.jpg
END:VEVENT
END:VCALENDAR