BEGIN:VCALENDAR
VERSION:2.0
PRODID:-//LECCOS, z. s. - ECPv6.15.19//NONSGML v1.0//EN
CALSCALE:GREGORIAN
METHOD:PUBLISH
X-WR-CALNAME:LECCOS, z. s.
X-ORIGINAL-URL:https://leccos.cz
X-WR-CALDESC:Akce na LECCOS, z. s.
REFRESH-INTERVAL;VALUE=DURATION:PT1H
X-Robots-Tag:noindex
X-PUBLISHED-TTL:PT1H
BEGIN:VTIMEZONE
TZID:Europe/Prague
BEGIN:DAYLIGHT
TZOFFSETFROM:+0100
TZOFFSETTO:+0200
TZNAME:CEST
DTSTART:20250330T010000
END:DAYLIGHT
BEGIN:STANDARD
TZOFFSETFROM:+0200
TZOFFSETTO:+0100
TZNAME:CET
DTSTART:20251026T010000
END:STANDARD
BEGIN:DAYLIGHT
TZOFFSETFROM:+0100
TZOFFSETTO:+0200
TZNAME:CEST
DTSTART:20260329T010000
END:DAYLIGHT
BEGIN:STANDARD
TZOFFSETFROM:+0200
TZOFFSETTO:+0100
TZNAME:CET
DTSTART:20261025T010000
END:STANDARD
BEGIN:DAYLIGHT
TZOFFSETFROM:+0100
TZOFFSETTO:+0200
TZNAME:CEST
DTSTART:20270328T010000
END:DAYLIGHT
BEGIN:STANDARD
TZOFFSETFROM:+0200
TZOFFSETTO:+0100
TZNAME:CET
DTSTART:20271031T010000
END:STANDARD
END:VTIMEZONE
BEGIN:VEVENT
DTSTART;TZID=Europe/Prague:20260401T160000
DTEND;TZID=Europe/Prague:20260624T173000
DTSTAMP:20260419T181906
CREATED:20260326T095650Z
LAST-MODIFIED:20260326T095650Z
UID:8532-1775059200-1782322200@leccos.cz
SUMMARY:Sportovky
DESCRIPTION:Od dubna začnou opět sportovky! \nUvidíme se každou středu od dubna do června v čase 16:00 – 17:30 na hřišti Na Valech. \nOdchod z klubu v 15:30. \nS sebou pití\, pevnou obuv a dobrou náladu! \nZačínáme 1. 4. 2026!
URL:https://leccos.cz/akce/sportovky-4/
LOCATION:Hřiště „Na Valech“ u ZŠ Václava Havla\, Poděbrady\, Na Valech 45\, Poděbrady\, středočeský\, 29001\, Česká republika
CATEGORIES:Pro děti a mládež
ATTACH;FMTTYPE=image/png:https://leccos.cz/wp-content/uploads/2026/03/jarni-Sportovky-2026-1.png
END:VEVENT
BEGIN:VEVENT
DTSTART;TZID=Europe/Prague:20260421T080000
DTEND;TZID=Europe/Prague:20260421T120000
DTSTAMP:20260419T181906
CREATED:20260325T144740Z
LAST-MODIFIED:20260325T144740Z
UID:8509-1776758400-1776772800@leccos.cz
SUMMARY:Konzultace se speciální pedagožkou
DESCRIPTION:Jednou za měsíc máte možnost v programu Setkání pro rodiny s dětmi využít konzultace s různými odborníky – psycholog\, speciální pedagog\, právník\, zdravotník a záchranář. \n21. 4. 2026 od 8.00-12.00 budou probíhat konzultace se speciální pedagožkou Mgr. Veronikou Lancovou v RC Kostička v Českém Brodě. \nKonzultace je též možná online! \nPoplatek:\n50 Kč / dopoledne nebo jen samotná konzultace \nPřihláška online ZDE! \nKontakt pro další informace:\nAndrea Hradecká\ne-mail: andrea@leccos.cz\ntel.: 602 112 679\n \nTento program je podpořen Ministerstvem práce a sociálních věcí.
URL:https://leccos.cz/akce/konzultace-se-specialni-pedagozkou-11/
LOCATION:Rodinné centrum Kostička\, Nám. Arnošta z Pardubic 12\, Český Brod\, Česká republika\, 282 01
CATEGORIES:Pro rodiče,Pro širokou veřejnost
ATTACH;FMTTYPE=image/png:https://leccos.cz/wp-content/uploads/2024/08/konzultace-pro-rodice-WEB-FB.png
END:VEVENT
END:VCALENDAR