BEGIN:VCALENDAR
VERSION:2.0
PRODID:-//LECCOS, z. s. - ECPv6.15.19//NONSGML v1.0//EN
CALSCALE:GREGORIAN
METHOD:PUBLISH
X-WR-CALNAME:LECCOS, z. s.
X-ORIGINAL-URL:https://leccos.cz
X-WR-CALDESC:Akce na LECCOS, z. s.
REFRESH-INTERVAL;VALUE=DURATION:PT1H
X-Robots-Tag:noindex
X-PUBLISHED-TTL:PT1H
BEGIN:VTIMEZONE
TZID:Europe/Prague
BEGIN:DAYLIGHT
TZOFFSETFROM:+0100
TZOFFSETTO:+0200
TZNAME:CEST
DTSTART:20240331T010000
END:DAYLIGHT
BEGIN:STANDARD
TZOFFSETFROM:+0200
TZOFFSETTO:+0100
TZNAME:CET
DTSTART:20241027T010000
END:STANDARD
BEGIN:DAYLIGHT
TZOFFSETFROM:+0100
TZOFFSETTO:+0200
TZNAME:CEST
DTSTART:20250330T010000
END:DAYLIGHT
BEGIN:STANDARD
TZOFFSETFROM:+0200
TZOFFSETTO:+0100
TZNAME:CET
DTSTART:20251026T010000
END:STANDARD
BEGIN:DAYLIGHT
TZOFFSETFROM:+0100
TZOFFSETTO:+0200
TZNAME:CEST
DTSTART:20260329T010000
END:DAYLIGHT
BEGIN:STANDARD
TZOFFSETFROM:+0200
TZOFFSETTO:+0100
TZNAME:CET
DTSTART:20261025T010000
END:STANDARD
END:VTIMEZONE
BEGIN:VEVENT
DTSTART;TZID=Europe/Prague:20250903T160000
DTEND;TZID=Europe/Prague:20251022T173000
DTSTAMP:20260421T223927
CREATED:20250827T104030Z
LAST-MODIFIED:20250827T104030Z
UID:7468-1756915200-1761154200@leccos.cz
SUMMARY:Podzimní Sportovky
DESCRIPTION:V novém školním roce se můžete opět těšit na Sportovky! \nUvidíme se každou středu od září do října v čase 16:00 – 17:30 na hřišti Na Valech. \nOdchod z klubu v 15:30. \nS sebou pití\, pevnou obuv a dobrou náladu! \nZačínáme 3. 9. 2025!
URL:https://leccos.cz/akce/podzimni-sportovky/
LOCATION:Hřiště „Na Valech“ u ZŠ Václava Havla\, Poděbrady\, Na Valech 45\, Poděbrady\, středočeský\, 29001\, Česká republika
CATEGORIES:Pro děti a mládež
ATTACH;FMTTYPE=image/png:https://leccos.cz/wp-content/uploads/2025/08/Sportovky-podzim.png
END:VEVENT
BEGIN:VEVENT
DTSTART;TZID=Europe/Prague:20251021T080000
DTEND;TZID=Europe/Prague:20251021T173000
DTSTAMP:20260421T223927
CREATED:20250731T162958Z
LAST-MODIFIED:20251016T090031Z
UID:7288-1761033600-1761067800@leccos.cz
SUMMARY:Vánoční focení v RC Kostička
DESCRIPTION:od 8.00 do 10.00\nod 14.00 do 17.30 \nCelá rodina pouze odpoledne. \nProfesionální fotografka Hana Schovancová vyfotí vaše děti nebo celou vaši rodinu. \n\nVarianta č. 1:\nkalendář + 4 ks 10×15 / 450\,- Kč max. 2 osoby\n500\,- Kč  3 – 4 osoby \nVarianta č. 2:\n1 ks A4 + 2 ks 13 ×18 / 450\,- Kč max. 2 osoby\n500\,- Kč  3 – 4 osoby \n+ přiobjednávka fotek k sadě\n+ 300\,- Kč digitální data POUZE k sadě \n\n\n OBJEDNÁNÍ ZDE!
URL:https://leccos.cz/akce/vanocni-foceni-v-rc-kosticka-3/
LOCATION:Rodinné centrum Kostička\, Nám. Arnošta z Pardubic 12\, Český Brod\, Česká republika\, 282 01
CATEGORIES:Pro rodiny,Pro širokou veřejnost
ATTACH;FMTTYPE=image/jpeg:https://leccos.cz/wp-content/uploads/2025/07/Obrazek-foceni-v-rc.jpg
END:VEVENT
BEGIN:VEVENT
DTSTART;TZID=Europe/Prague:20251021T150000
DTEND;TZID=Europe/Prague:20251021T170000
DTSTAMP:20260421T223927
CREATED:20250927T162946Z
LAST-MODIFIED:20250927T162946Z
UID:7590-1761058800-1761066000@leccos.cz
SUMMARY:Kuchařské okénko
DESCRIPTION:V úterý 21. října 2025 od 15.00 pokračujeme v oblíbeném Kuchařském okénku v NZDM Klubu Zvonice Český Brod. V klubu si vyzkoušíme uvařit dýňovou polévku\, kterou si pak společně vychutnáme.\nAkce je zdarma a je otevřená všem zájemcům bez ohledu na to\, zda chodí do Zvonice nebo ne. Nabízíme také individuální sociální poradenství pro zájemce do 26 let v časech od 14.00 do 15.00 hodin a od 17.00 do 18.00 hodin.
URL:https://leccos.cz/akce/kucharske-okenko-2/
LOCATION:NZDM Klub Zvonice Český Brod\, Žižkova 508\, Český Brod\, Česká republika\, 282 01
CATEGORIES:Pro děti a mládež
ATTACH;FMTTYPE=image/png:https://leccos.cz/wp-content/uploads/2025/09/251021.png
END:VEVENT
END:VCALENDAR