BEGIN:VCALENDAR
VERSION:2.0
PRODID:-//LECCOS, z. s. - ECPv6.15.19//NONSGML v1.0//EN
CALSCALE:GREGORIAN
METHOD:PUBLISH
X-WR-CALNAME:LECCOS, z. s.
X-ORIGINAL-URL:https://leccos.cz
X-WR-CALDESC:Akce na LECCOS, z. s.
REFRESH-INTERVAL;VALUE=DURATION:PT1H
X-Robots-Tag:noindex
X-PUBLISHED-TTL:PT1H
BEGIN:VTIMEZONE
TZID:Europe/Prague
BEGIN:DAYLIGHT
TZOFFSETFROM:+0100
TZOFFSETTO:+0200
TZNAME:CEST
DTSTART:20240331T010000
END:DAYLIGHT
BEGIN:STANDARD
TZOFFSETFROM:+0200
TZOFFSETTO:+0100
TZNAME:CET
DTSTART:20241027T010000
END:STANDARD
BEGIN:DAYLIGHT
TZOFFSETFROM:+0100
TZOFFSETTO:+0200
TZNAME:CEST
DTSTART:20250330T010000
END:DAYLIGHT
BEGIN:STANDARD
TZOFFSETFROM:+0200
TZOFFSETTO:+0100
TZNAME:CET
DTSTART:20251026T010000
END:STANDARD
BEGIN:DAYLIGHT
TZOFFSETFROM:+0100
TZOFFSETTO:+0200
TZNAME:CEST
DTSTART:20260329T010000
END:DAYLIGHT
BEGIN:STANDARD
TZOFFSETFROM:+0200
TZOFFSETTO:+0100
TZNAME:CET
DTSTART:20261025T010000
END:STANDARD
END:VTIMEZONE
BEGIN:VEVENT
DTSTART;TZID=Europe/Prague:20250903T160000
DTEND;TZID=Europe/Prague:20251022T173000
DTSTAMP:20260422T003350
CREATED:20250827T104030Z
LAST-MODIFIED:20250827T104030Z
UID:7468-1756915200-1761154200@leccos.cz
SUMMARY:Podzimní Sportovky
DESCRIPTION:V novém školním roce se můžete opět těšit na Sportovky! \nUvidíme se každou středu od září do října v čase 16:00 – 17:30 na hřišti Na Valech. \nOdchod z klubu v 15:30. \nS sebou pití\, pevnou obuv a dobrou náladu! \nZačínáme 3. 9. 2025!
URL:https://leccos.cz/akce/podzimni-sportovky/
LOCATION:Hřiště „Na Valech“ u ZŠ Václava Havla\, Poděbrady\, Na Valech 45\, Poděbrady\, středočeský\, 29001\, Česká republika
CATEGORIES:Pro děti a mládež
ATTACH;FMTTYPE=image/png:https://leccos.cz/wp-content/uploads/2025/08/Sportovky-podzim.png
END:VEVENT
BEGIN:VEVENT
DTSTART;VALUE=DATE:20250908
DTEND;VALUE=DATE:20250913
DTSTAMP:20260422T003350
CREATED:20250806T200206Z
LAST-MODIFIED:20250806T200707Z
UID:7398-1757289600-1757721599@leccos.cz
SUMMARY:Týden nízkoprahových klubů ve Zvonici Český Brod
DESCRIPTION:Letošní 19. ročník kampaně České asociace streetwork\, z.s. se bude konat ve dnech 8. – 12. září 2025\, kdy nízkoprahové kluby pro děti a mládež napříč celou Českou republikou ožijí veřejnými akcemi. I my se v Českém Brodě ke kampani tradičně připojujeme\, a to s těmito aktivitami:\n\n\nPondělí 8. 9. | 16:00 – 18:00Den otevřených dveří – přijďte nás poznat a podívat se do klubu. Představíme vám službu\, tým i prostory. \nStředa 10. 9. | 15:00 – 18:00Ukázka tréninku a představení myšlenky Ligy férového fotbaluTerén na hřišti Škvárovna\, Český Brod \nPátek 12. 9. | 9:00 – 11:30Snídaně pro odbornou veřejnost – představení služby a cílů NZDM. Hlavní témata\, kterým se budeme věnovat „Wellbeing online“ a „Kreativní nízkoprah“. \nPátek 12. 9. | 15:00 – 18:00Workshop graffiti – je určen všem zájemcům starším 10 let! Akci obohatí i diskuze o veřejném prostoru a parku v areálu nemocnice u NZDM Klub Zvonice za účasti představitelů Města Český Brod. Program je zdarma!
URL:https://leccos.cz/akce/7398/
LOCATION:NZDM Klub Zvonice Český Brod\, Žižkova 508\, Český Brod\, Česká republika\, 282 01
CATEGORIES:Pro děti a mládež,Pro rodiče,Pro rodiny,Pro širokou veřejnost,Pro školy
ATTACH;FMTTYPE=image/jpeg:https://leccos.cz/wp-content/uploads/2025/08/TNK_2025.jpg
END:VEVENT
BEGIN:VEVENT
DTSTART;TZID=Europe/Prague:20250908T150000
DTEND;TZID=Europe/Prague:20250908T170000
DTSTAMP:20260422T003350
CREATED:20250825T062134Z
LAST-MODIFIED:20250825T062134Z
UID:7454-1757343600-1757350800@leccos.cz
SUMMARY:Pečení - Buchta s tvarohem
DESCRIPTION:V pondělí 8. 9. 2025 se na klub vrací pravidelné pečení. \nTentokrát se děti naučí upéct buchtu s tvarohem. \nZačínáme v 15 hod.! \nTěšíme se na Vás!
URL:https://leccos.cz/akce/peceni-buchta-s-tvarohem/
LOCATION:NZDM Klub Zvonice Poděbrady\, Družstevní 1461/III\, Poděbrady\, 29001\, Česká republika
CATEGORIES:Pro děti a mládež
ATTACH;FMTTYPE=image/png:https://leccos.cz/wp-content/uploads/2025/08/Buchta-s-tvarohem.png
END:VEVENT
END:VCALENDAR